Back to Multiple platform build/check report for BioC 3.23:   simplified   long
ABCDEFGHIJKLMNOPQ[R]STUVWXYZ

This page was generated on 2025-11-14 11:36 -0500 (Fri, 14 Nov 2025).

HostnameOSArch (*)R versionInstalled pkgs
nebbiolo1Linux (Ubuntu 24.04.3 LTS)x86_64R Under development (unstable) (2025-10-20 r88955) -- "Unsuffered Consequences" 4825
kjohnson3macOS 13.7.7 Venturaarm64R Under development (unstable) (2025-11-04 r88984) -- "Unsuffered Consequences" 4547
Click on any hostname to see more info about the system (e.g. compilers)      (*) as reported by 'uname -p', except on Windows and Mac OS X

Package 1848/2325HostnameOS / ArchINSTALLBUILDCHECKBUILD BIN
rWikiPathways 1.31.0  (landing page)
Egon Willighagen
Snapshot Date: 2025-11-13 13:40 -0500 (Thu, 13 Nov 2025)
git_url: https://git.bioconductor.org/packages/rWikiPathways
git_branch: devel
git_last_commit: edca798
git_last_commit_date: 2025-10-29 10:44:32 -0500 (Wed, 29 Oct 2025)
nebbiolo1Linux (Ubuntu 24.04.3 LTS) / x86_64  OK    OK    OK  UNNEEDED, same version is already published
kjohnson3macOS 13.7.7 Ventura / arm64  OK    OK    OK    OK  UNNEEDED, same version is already published


CHECK results for rWikiPathways on kjohnson3

To the developers/maintainers of the rWikiPathways package:
- Allow up to 24 hours (and sometimes 48 hours) for your latest push to git@git.bioconductor.org:packages/rWikiPathways.git to reflect on this report. See Troubleshooting Build Report for more information.
- Use the following Renviron settings to reproduce errors and warnings.
- If 'R CMD check' started to fail recently on the Linux builder(s) over a missing dependency, add the missing dependency to 'Suggests:' in your DESCRIPTION file. See Renviron.bioc for more information.

raw results


Summary

Package: rWikiPathways
Version: 1.31.0
Command: /Library/Frameworks/R.framework/Resources/bin/R CMD check --install=check:rWikiPathways.install-out.txt --library=/Library/Frameworks/R.framework/Resources/library --no-vignettes --timings rWikiPathways_1.31.0.tar.gz
StartedAt: 2025-11-13 22:17:18 -0500 (Thu, 13 Nov 2025)
EndedAt: 2025-11-13 22:18:19 -0500 (Thu, 13 Nov 2025)
EllapsedTime: 60.7 seconds
RetCode: 0
Status:   OK  
CheckDir: rWikiPathways.Rcheck
Warnings: 0

Command output

##############################################################################
##############################################################################
###
### Running command:
###
###   /Library/Frameworks/R.framework/Resources/bin/R CMD check --install=check:rWikiPathways.install-out.txt --library=/Library/Frameworks/R.framework/Resources/library --no-vignettes --timings rWikiPathways_1.31.0.tar.gz
###
##############################################################################
##############################################################################


* using log directory ‘/Users/biocbuild/bbs-3.23-bioc/meat/rWikiPathways.Rcheck’
* using R Under development (unstable) (2025-11-04 r88984)
* using platform: aarch64-apple-darwin20
* R was compiled by
    Apple clang version 16.0.0 (clang-1600.0.26.6)
    GNU Fortran (GCC) 14.2.0
* running under: macOS Ventura 13.7.8
* using session charset: UTF-8
* using option ‘--no-vignettes’
* checking for file ‘rWikiPathways/DESCRIPTION’ ... OK
* checking extension type ... Package
* this is package ‘rWikiPathways’ version ‘1.31.0’
* package encoding: UTF-8
* checking package namespace information ... OK
* checking package dependencies ... OK
* checking if this is a source package ... OK
* checking if there is a namespace ... OK
* checking for hidden files and directories ... OK
* checking for portable file names ... NOTE
Found the following non-portable file path:
  rWikiPathways/docs/articles/rWikiPathways-and-BridgeDbR_files/accessible-code-block-0.0.1/empty-anchor.js

Tarballs are only required to store paths of up to 100 bytes and cannot
store those of more than 256 bytes, with restrictions including to 100
bytes for the final component.
See section ‘Package structure’ in the ‘Writing R Extensions’ manual.
* checking for sufficient/correct file permissions ... OK
* checking whether package ‘rWikiPathways’ can be installed ... OK
* checking installed package size ... OK
* checking package directory ... OK
* checking ‘build’ directory ... OK
* checking DESCRIPTION meta-information ... NOTE
License stub is invalid DCF.
* checking top-level files ... OK
* checking for left-over files ... OK
* checking index information ... OK
* checking package subdirectories ... OK
* checking code files for non-ASCII characters ... OK
* checking R files for syntax errors ... OK
* checking whether the package can be loaded ... OK
* checking whether the package can be loaded with stated dependencies ... OK
* checking whether the package can be unloaded cleanly ... OK
* checking whether the namespace can be loaded with stated dependencies ... OK
* checking whether the namespace can be unloaded cleanly ... OK
* checking dependencies in R code ... OK
* checking S3 generic/method consistency ... OK
* checking replacement functions ... OK
* checking foreign function calls ... OK
* checking R code for possible problems ... NOTE
findPathwaysByLiterature: no visible binding for global variable ‘refs’
findPathwaysByLiterature: no visible binding for global variable
  ‘citations’
findPathwaysByOrcid: no visible binding for global variable ‘orcids’
findPathwaysByText: no visible binding for global variable ‘citedIn’
getOntologyTerms: no visible binding for global variable ‘terms’
getPathwaysByCommunity: no visible binding for global variable
  ‘pathways’
getPathwaysByCommunity: no visible binding for global variable
  ‘community-tag’
getPathwaysByOntologyTerm: no visible binding for global variable
  ‘pathways’
getPathwaysByParentOntologyTerm: no visible binding for global variable
  ‘terms’
getPathwaysByParentOntologyTerm: no visible binding for global variable
  ‘terms_parent’
getRecentChanges: no visible binding for global variable ‘revision’
getRecentChanges: no visible binding for global variable ‘revision_ymd’
getRecentChanges: no visible binding for global variable ‘authors’
getRecentChanges: no visible binding for global variable ‘description’
getRecentChanges: no visible binding for global variable ‘citedIn’
listCommunities: no visible binding for global variable ‘pathways’
listPathways: no visible binding for global variable ‘species’
readPathwayGMT: no visible binding for global variable ‘pathway’
Undefined global functions or variables:
  authors citations citedIn community-tag description orcids pathway
  pathways refs revision revision_ymd species terms terms_parent
Consider adding
  importFrom("stats", "terms")
to your NAMESPACE file.
* checking Rd files ... OK
* checking Rd metadata ... OK
* checking Rd cross-references ... OK
* checking for missing documentation entries ... OK
* checking for code/documentation mismatches ... OK
* checking Rd \usage sections ... OK
* checking Rd contents ... OK
* checking for unstated dependencies in examples ... OK
* checking files in ‘vignettes’ ... OK
* checking examples ... OK
* checking for unstated dependencies in ‘tests’ ... OK
* checking tests ...
  Running ‘testthat.R’
 OK
* checking for unstated dependencies in vignettes ... OK
* checking package vignettes ... OK
* checking running R code from vignettes ... SKIPPED
* checking re-building of vignette outputs ... SKIPPED
* checking PDF version of manual ... OK
* DONE

Status: 3 NOTEs
See
  ‘/Users/biocbuild/bbs-3.23-bioc/meat/rWikiPathways.Rcheck/00check.log’
for details.


Installation output

rWikiPathways.Rcheck/00install.out

##############################################################################
##############################################################################
###
### Running command:
###
###   /Library/Frameworks/R.framework/Resources/bin/R CMD INSTALL rWikiPathways
###
##############################################################################
##############################################################################


* installing to library ‘/Library/Frameworks/R.framework/Versions/4.6-arm64/Resources/library’
* installing *source* package ‘rWikiPathways’ ...
** this is package ‘rWikiPathways’ version ‘1.31.0’
** using staged installation
** R
** inst
** byte-compile and prepare package for lazy loading
** help
*** installing help indices
** building package indices
** installing vignettes
** testing if installed package can be loaded from temporary location
** testing if installed package can be loaded from final location
** testing if installed package keeps a record of temporary installation path
* DONE (rWikiPathways)

Tests output

rWikiPathways.Rcheck/tests/testthat.Rout


R Under development (unstable) (2025-11-04 r88984) -- "Unsuffered Consequences"
Copyright (C) 2025 The R Foundation for Statistical Computing
Platform: aarch64-apple-darwin20

R is free software and comes with ABSOLUTELY NO WARRANTY.
You are welcome to redistribute it under certain conditions.
Type 'license()' or 'licence()' for distribution details.

R is a collaborative project with many contributors.
Type 'contributors()' for more information and
'citation()' on how to cite R or R packages in publications.

Type 'demo()' for some demos, 'help()' for on-line help, or
'help.start()' for an HTML browser interface to help.
Type 'q()' to quit R.

> library(testthat)
> library(rWikiPathways)
> 
> test_check("rWikiPathways")
[ FAIL 0 | WARN 1 | SKIP 0 | PASS 26 ]

[ FAIL 0 | WARN 1 | SKIP 0 | PASS 26 ]
> 
> proc.time()
   user  system elapsed 
  7.942   0.209  11.035 

Example timings

rWikiPathways.Rcheck/rWikiPathways-Ex.timings

nameusersystemelapsed
downloadPathwayArchive0.0000.0010.001
findPathwayIDsByOrcid0.1520.0060.422
findPathwayIdsByLiterature2.2190.0252.815
findPathwayIdsByText0.7160.0051.055
findPathwayIdsByXref0.5760.0120.990
findPathwayNamesByLiterature2.1670.0322.664
findPathwayNamesByOrcid0.1400.0030.249
findPathwayNamesByText0.7120.0070.883
findPathwayNamesByXref0.5830.0100.715
findPathwayUrlsByLiterature2.2620.0352.711
findPathwayUrlsByOrcid0.1420.0030.245
findPathwayUrlsByText0.8360.0070.958
findPathwayUrlsByXref0.5200.0090.627
findPathwaysByLiterature3.1300.0413.710
findPathwaysByOrcid0.1560.0050.272
findPathwaysByText0.9260.0111.405
findPathwaysByXref0.6490.0120.802
getCounts0.0050.0010.078
getCurationStatus0.0090.0010.096
getOntologyTermIds0.4340.0050.579
getOntologyTermNames0.4490.0030.552
getOntologyTerms0.4420.0050.586
getPathway0.0180.0020.101
getPathwayHistory000
getPathwayIdsByCommunity0.0850.0010.189
getPathwayIdsByOntologyTerm0.0600.0010.171
getPathwayIdsByParentOntologyTerm0.4890.0040.625
getPathwayInfo0.1130.0020.248
getPathwayNamesByCommunity0.0680.0020.158
getPathwayUrlsByCommunity0.0630.0020.155
getPathwaysByCommunity0.0670.0020.162
getPathwaysByOntologyTerm0.0560.0020.135
getPathwaysByParentOntologyTerm0.4920.0170.614
getRecentChanges0.3080.0300.469
getRecentChangesIds0.1160.0100.215
getRecentChangesNames0.1040.0110.241
getXrefList0.1040.0190.280
listCommunities0.0730.0020.178
listOrganisms0.0050.0010.086
listPathwayIds0.0750.0020.181
listPathwayNames0.0730.0030.167
listPathwayUrls0.0760.0020.172
listPathways0.0760.0040.202
readGMT000
readGMTnames000
readPathwayGMT0.0000.0000.001
writeGMT000