Back to Build/check report for BioC 3.23:   simplified   long
ABCDE[F]GHIJKLMNOPQRSTUVWXYZ

This page was generated on 2025-11-13 11:32 -0500 (Thu, 13 Nov 2025).

HostnameOSArch (*)R versionInstalled pkgs
kjohnson3macOS 13.7.7 Venturaarm64R Under development (unstable) (2025-11-04 r88984) -- "Unsuffered Consequences" 4013
Click on any hostname to see more info about the system (e.g. compilers)      (*) as reported by 'uname -p', except on Windows and Mac OS X

Package 772/2325HostnameOS / ArchINSTALLBUILDCHECKBUILD BIN
funtooNorm 1.35.0  (landing page)
Kathleen Klein
Snapshot Date: 2025-11-12 13:40 -0500 (Wed, 12 Nov 2025)
git_url: https://git.bioconductor.org/packages/funtooNorm
git_branch: devel
git_last_commit: d940549
git_last_commit_date: 2025-10-29 10:36:21 -0500 (Wed, 29 Oct 2025)
kjohnson3macOS 13.7.7 Ventura / arm64  ERROR    OK    ERROR    ERROR  


BUILD BIN results for funtooNorm on kjohnson3

To the developers/maintainers of the funtooNorm package:
- Allow up to 24 hours (and sometimes 48 hours) for your latest push to git@git.bioconductor.org:packages/funtooNorm.git to reflect on this report. See Troubleshooting Build Report for more information.
- Use the following Renviron settings to reproduce errors and warnings.
- If 'R CMD check' started to fail recently on the Linux builder(s) over a missing dependency, add the missing dependency to 'Suggests:' in your DESCRIPTION file. See Renviron.bioc for more information.

raw results


Summary

Package: funtooNorm
Version: 1.35.0
Command: rm -rf funtooNorm.buildbin-libdir && mkdir funtooNorm.buildbin-libdir && /Users/biocbuild/BBS/utils/build-universal.sh funtooNorm_1.35.0.tar.gz /Library/Frameworks/R.framework/Resources/bin/R funtooNorm.buildbin-libdir
StartedAt: 2025-11-12 20:57:52 -0500 (Wed, 12 Nov 2025)
EndedAt: 2025-11-12 20:57:53 -0500 (Wed, 12 Nov 2025)
EllapsedTime: 1.0 seconds
RetCode: 1
Status:   ERROR  
PackageFile: None
PackageFileSize: NA

Command output

##############################################################################
##############################################################################
###
### Running command:
###
###   rm -rf funtooNorm.buildbin-libdir && mkdir funtooNorm.buildbin-libdir && /Users/biocbuild/BBS/utils/build-universal.sh funtooNorm_1.35.0.tar.gz /Library/Frameworks/R.framework/Resources/bin/R funtooNorm.buildbin-libdir
###
##############################################################################
##############################################################################


>>>>>>> 
>>>>>>> INSTALLATION WITH 'R CMD INSTALL --preclean --no-multiarch --library=funtooNorm.buildbin-libdir funtooNorm_1.35.0.tar.gz'
>>>>>>> 

ERROR: dependencies ‘minfi’, ‘IlluminaHumanMethylation450kmanifest’, ‘IlluminaHumanMethylation450kanno.ilmn12.hg19’ are not available for package ‘funtooNorm’
Perhaps try a variation of:
install.packages(c('minfi', 'IlluminaHumanMethylation450kmanifest', 'IlluminaHumanMethylation450kanno.ilmn12.hg19'))
* removing ‘/Users/biocbuild/bbs-3.23-bioc/meat/funtooNorm.buildbin-libdir/funtooNorm’