| Back to Build/check report for BioC 3.23: simplified long |
|
This page was generated on 2025-11-13 11:32 -0500 (Thu, 13 Nov 2025).
| Hostname | OS | Arch (*) | R version | Installed pkgs |
|---|---|---|---|---|
| kjohnson3 | macOS 13.7.7 Ventura | arm64 | R Under development (unstable) (2025-11-04 r88984) -- "Unsuffered Consequences" | 4013 |
| Click on any hostname to see more info about the system (e.g. compilers) (*) as reported by 'uname -p', except on Windows and Mac OS X | ||||
| Package 340/2325 | Hostname | OS / Arch | INSTALL | BUILD | CHECK | BUILD BIN | ||||||||
| chipenrich 2.35.0 (landing page) Kai Wang
| kjohnson3 | macOS 13.7.7 Ventura / arm64 | OK | OK | OK | OK | ||||||||
|
To the developers/maintainers of the chipenrich package: - Allow up to 24 hours (and sometimes 48 hours) for your latest push to git@git.bioconductor.org:packages/chipenrich.git to reflect on this report. See Troubleshooting Build Report for more information. - Use the following Renviron settings to reproduce errors and warnings. - If 'R CMD check' started to fail recently on the Linux builder(s) over a missing dependency, add the missing dependency to 'Suggests:' in your DESCRIPTION file. See Renviron.bioc for more information. |
| Package: chipenrich |
| Version: 2.35.0 |
| Command: /Library/Frameworks/R.framework/Resources/bin/R CMD check --install=check:chipenrich.install-out.txt --library=/Library/Frameworks/R.framework/Resources/library --no-vignettes --timings chipenrich_2.35.0.tar.gz |
| StartedAt: 2025-11-12 18:18:09 -0500 (Wed, 12 Nov 2025) |
| EndedAt: 2025-11-12 18:21:55 -0500 (Wed, 12 Nov 2025) |
| EllapsedTime: 226.0 seconds |
| RetCode: 0 |
| Status: OK |
| CheckDir: chipenrich.Rcheck |
| Warnings: 0 |
##############################################################################
##############################################################################
###
### Running command:
###
### /Library/Frameworks/R.framework/Resources/bin/R CMD check --install=check:chipenrich.install-out.txt --library=/Library/Frameworks/R.framework/Resources/library --no-vignettes --timings chipenrich_2.35.0.tar.gz
###
##############################################################################
##############################################################################
* using log directory ‘/Users/biocbuild/bbs-3.23-bioc/meat/chipenrich.Rcheck’
* using R Under development (unstable) (2025-11-04 r88984)
* using platform: aarch64-apple-darwin20
* R was compiled by
Apple clang version 16.0.0 (clang-1600.0.26.6)
GNU Fortran (GCC) 14.2.0
* running under: macOS Ventura 13.7.8
* using session charset: UTF-8
* using option ‘--no-vignettes’
* checking for file ‘chipenrich/DESCRIPTION’ ... OK
* checking extension type ... Package
* this is package ‘chipenrich’ version ‘2.35.0’
* checking package namespace information ... OK
* checking package dependencies ... OK
* checking if this is a source package ... OK
* checking if there is a namespace ... OK
* checking for hidden files and directories ... OK
* checking for portable file names ... OK
* checking for sufficient/correct file permissions ... OK
* checking whether package ‘chipenrich’ can be installed ... OK
* checking installed package size ... OK
* checking package directory ... OK
* checking ‘build’ directory ... OK
* checking DESCRIPTION meta-information ... OK
* checking top-level files ... OK
* checking for left-over files ... OK
* checking index information ... OK
* checking package subdirectories ... OK
* checking code files for non-ASCII characters ... OK
* checking R files for syntax errors ... OK
* checking whether the package can be loaded ... OK
* checking whether the package can be loaded with stated dependencies ... OK
* checking whether the package can be unloaded cleanly ... OK
* checking whether the namespace can be loaded with stated dependencies ... OK
* checking whether the namespace can be unloaded cleanly ... OK
* checking dependencies in R code ... OK
* checking S3 generic/method consistency ... OK
* checking replacement functions ... OK
* checking foreign function calls ... OK
* checking R code for possible problems ... OK
* checking Rd files ... NOTE
checkRd: (-1) broadenrich.Rd:134: Escaped LaTeX specials: \&
checkRd: (-1) chipenrich.Rd:148: Escaped LaTeX specials: \&
checkRd: (-1) hybridenrich.Rd:111: Escaped LaTeX specials: \&
checkRd: (-1) polyenrich.Rd:148: Escaped LaTeX specials: \&
checkRd: (-1) proxReg.Rd:117: Escaped LaTeX specials: \&
* checking Rd metadata ... OK
* checking Rd cross-references ... OK
* checking for missing documentation entries ... OK
* checking for code/documentation mismatches ... OK
* checking Rd \usage sections ... OK
* checking Rd contents ... OK
* checking for unstated dependencies in examples ... OK
* checking files in ‘vignettes’ ... OK
* checking examples ... OK
* checking for unstated dependencies in ‘tests’ ... OK
* checking tests ...
Running ‘testthat.R’
OK
* checking for unstated dependencies in vignettes ... OK
* checking package vignettes ... OK
* checking running R code from vignettes ... SKIPPED
* checking re-building of vignette outputs ... SKIPPED
* checking PDF version of manual ... OK
* DONE
Status: 1 NOTE
See
‘/Users/biocbuild/bbs-3.23-bioc/meat/chipenrich.Rcheck/00check.log’
for details.
chipenrich.Rcheck/00install.out
############################################################################## ############################################################################## ### ### Running command: ### ### /Library/Frameworks/R.framework/Resources/bin/R CMD INSTALL chipenrich ### ############################################################################## ############################################################################## * installing to library ‘/Library/Frameworks/R.framework/Versions/4.6-arm64/Resources/library’ * installing *source* package ‘chipenrich’ ... ** this is package ‘chipenrich’ version ‘2.35.0’ ** using staged installation ** R ** inst ** byte-compile and prepare package for lazy loading ** help *** installing help indices ** building package indices ** installing vignettes ** testing if installed package can be loaded from temporary location ** testing if installed package can be loaded from final location ** testing if installed package keeps a record of temporary installation path * DONE (chipenrich)
chipenrich.Rcheck/tests/testthat.Rout
R Under development (unstable) (2025-11-04 r88984) -- "Unsuffered Consequences"
Copyright (C) 2025 The R Foundation for Statistical Computing
Platform: aarch64-apple-darwin20
R is free software and comes with ABSOLUTELY NO WARRANTY.
You are welcome to redistribute it under certain conditions.
Type 'license()' or 'licence()' for distribution details.
R is a collaborative project with many contributors.
Type 'contributors()' for more information and
'citation()' on how to cite R or R packages in publications.
Type 'demo()' for some demos, 'help()' for on-line help, or
'help.start()' for an HTML browser interface to help.
Type 'q()' to quit R.
> library(testthat)
> library(chipenrich)
>
> test_check("chipenrich")
[ FAIL 0 | WARN 0 | SKIP 3 | PASS 169 ]
══ Skipped tests (3) ═══════════════════════════════════════════════════════════
• empty test (3): 'test_5_chipenrich.R:200:1', 'test_5_chipenrich.R:233:1',
'test_5_chipenrich.R:237:1'
[ FAIL 0 | WARN 0 | SKIP 3 | PASS 169 ]
>
> proc.time()
user system elapsed
69.475 7.888 86.156
chipenrich.Rcheck/chipenrich-Ex.timings
| name | user | system | elapsed | |
| assign_peak_segments | 0.092 | 0.005 | 0.100 | |
| assign_peaks | 0.211 | 0.005 | 0.236 | |
| broadenrich | 2.748 | 0.378 | 4.147 | |
| calc_peak_gene_overlap | 0.109 | 0.004 | 0.121 | |
| chipenrich | 0.529 | 0.059 | 0.678 | |
| load_peaks | 0.027 | 0.000 | 0.028 | |
| num_peaks_per_gene | 0.159 | 0.009 | 0.187 | |
| peaks2genes | 0.181 | 0.010 | 0.207 | |
| plot_chipenrich_spline | 0.473 | 0.079 | 0.675 | |
| plot_dist_to_tss | 0.143 | 0.005 | 0.171 | |
| plot_gene_coverage | 0.276 | 0.011 | 0.310 | |
| plot_polyenrich_spline | 1.040 | 0.130 | 1.294 | |
| polyenrich | 1.808 | 0.347 | 2.513 | |
| proxReg | 0.164 | 0.010 | 0.185 | |
| read_bed | 0.073 | 0.002 | 0.099 | |
| supported_genesets | 0.002 | 0.000 | 0.003 | |
| supported_genomes | 0.001 | 0.000 | 0.001 | |
| supported_locusdefs | 0.002 | 0.000 | 0.003 | |
| supported_methods | 0.000 | 0.001 | 0.001 | |
| supported_read_lengths | 0.002 | 0.000 | 0.005 | |