| Back to Multiple platform build/check report for BioC 3.23: simplified long |
|
This page was generated on 2025-11-19 10:13 -0500 (Wed, 19 Nov 2025).
| Hostname | OS | Arch (*) | R version | Installed pkgs |
|---|---|---|---|---|
| nebbiolo1 | Linux (Ubuntu 24.04.3 LTS) | x86_64 | R Under development (unstable) (2025-10-20 r88955) -- "Unsuffered Consequences" | 4827 |
| lconway | macOS 12.7.6 Monterey | x86_64 | R Under development (unstable) (2025-10-21 r88958) -- "Unsuffered Consequences" | 4600 |
| kjohnson3 | macOS 13.7.7 Ventura | arm64 | R Under development (unstable) (2025-11-04 r88984) -- "Unsuffered Consequences" | 4564 |
| Click on any hostname to see more info about the system (e.g. compilers) (*) as reported by 'uname -p', except on Windows and Mac OS X | ||||
| Package 165/2325 | Hostname | OS / Arch | INSTALL | BUILD | CHECK | BUILD BIN | ||||||||
| benchdamic 1.17.0 (landing page) Matteo Calgaro
| nebbiolo1 | Linux (Ubuntu 24.04.3 LTS) / x86_64 | OK | OK | OK | |||||||||
| lconway | macOS 12.7.6 Monterey / x86_64 | OK | OK | OK | OK | |||||||||
| kjohnson3 | macOS 13.7.7 Ventura / arm64 | OK | OK | OK | OK | |||||||||
|
To the developers/maintainers of the benchdamic package: - Allow up to 24 hours (and sometimes 48 hours) for your latest push to git@git.bioconductor.org:packages/benchdamic.git to reflect on this report. See Troubleshooting Build Report for more information. - Use the following Renviron settings to reproduce errors and warnings. - If 'R CMD check' started to fail recently on the Linux builder(s) over a missing dependency, add the missing dependency to 'Suggests:' in your DESCRIPTION file. See Renviron.bioc for more information. |
| Package: benchdamic |
| Version: 1.17.0 |
| Command: /Library/Frameworks/R.framework/Resources/bin/R CMD check --install=check:benchdamic.install-out.txt --library=/Library/Frameworks/R.framework/Resources/library --no-vignettes --timings benchdamic_1.17.0.tar.gz |
| StartedAt: 2025-11-18 19:33:28 -0500 (Tue, 18 Nov 2025) |
| EndedAt: 2025-11-18 19:46:46 -0500 (Tue, 18 Nov 2025) |
| EllapsedTime: 798.3 seconds |
| RetCode: 0 |
| Status: OK |
| CheckDir: benchdamic.Rcheck |
| Warnings: 0 |
##############################################################################
##############################################################################
###
### Running command:
###
### /Library/Frameworks/R.framework/Resources/bin/R CMD check --install=check:benchdamic.install-out.txt --library=/Library/Frameworks/R.framework/Resources/library --no-vignettes --timings benchdamic_1.17.0.tar.gz
###
##############################################################################
##############################################################################
* using log directory ‘/Users/biocbuild/bbs-3.23-bioc/meat/benchdamic.Rcheck’
* using R Under development (unstable) (2025-10-21 r88958)
* using platform: x86_64-apple-darwin20
* R was compiled by
Apple clang version 14.0.0 (clang-1400.0.29.202)
GNU Fortran (GCC) 14.2.0
* running under: macOS Ventura 13.7.8
* using session charset: UTF-8
* using option ‘--no-vignettes’
* checking for file ‘benchdamic/DESCRIPTION’ ... OK
* checking extension type ... Package
* this is package ‘benchdamic’ version ‘1.17.0’
* package encoding: UTF-8
* checking package namespace information ... OK
* checking package dependencies ... INFO
Imports includes 32 non-default packages.
Importing from so many packages makes the package vulnerable to any of
them becoming unavailable. Move as many as possible to Suggests and
use conditionally.
* checking if this is a source package ... OK
* checking if there is a namespace ... OK
* checking for hidden files and directories ... OK
* checking for portable file names ... OK
* checking for sufficient/correct file permissions ... OK
* checking whether package ‘benchdamic’ can be installed ... OK
* checking installed package size ... OK
* checking package directory ... OK
* checking ‘build’ directory ... OK
* checking DESCRIPTION meta-information ... OK
* checking top-level files ... OK
* checking for left-over files ... OK
* checking index information ... OK
* checking package subdirectories ... OK
* checking code files for non-ASCII characters ... OK
* checking R files for syntax errors ... OK
* checking whether the package can be loaded ... OK
* checking whether the package can be loaded with stated dependencies ... OK
* checking whether the package can be unloaded cleanly ... OK
* checking whether the namespace can be loaded with stated dependencies ... OK
* checking whether the namespace can be unloaded cleanly ... OK
* checking dependencies in R code ... NOTE
Namespace in Imports field not imported from: ‘microbiome’
All declared Imports should be used.
* checking S3 generic/method consistency ... OK
* checking replacement functions ... OK
* checking foreign function calls ... OK
* checking R code for possible problems ... OK
* checking Rd files ... OK
* checking Rd metadata ... OK
* checking Rd cross-references ... NOTE
Non-topic package-anchored link(s) in Rd file 'norm_DESeq2.Rd':
‘[DESeq2]{estimateSizeFactors}’
See section 'Cross-references' in the 'Writing R Extensions' manual.
* checking for missing documentation entries ... OK
* checking for code/documentation mismatches ... OK
* checking Rd \usage sections ... OK
* checking Rd contents ... OK
* checking for unstated dependencies in examples ... OK
* checking contents of ‘data’ directory ... OK
* checking data for non-ASCII characters ... OK
* checking LazyData ... OK
* checking data for ASCII and uncompressed saves ... OK
* checking files in ‘vignettes’ ... OK
* checking examples ... OK
Examples with CPU (user + system) or elapsed time > 5s
user system elapsed
areaCAT 6.464 0.106 9.710
DA_ALDEx2 5.058 1.276 6.483
createConcordance 6.112 0.086 8.318
plotConcordance 5.307 0.083 7.651
plotMD 4.312 0.090 5.317
runSplits 3.975 0.086 5.821
* checking for unstated dependencies in ‘tests’ ... OK
* checking tests ...
Running ‘testthat.R’
OK
* checking for unstated dependencies in vignettes ... OK
* checking package vignettes ... OK
* checking running R code from vignettes ... SKIPPED
* checking re-building of vignette outputs ... SKIPPED
* checking PDF version of manual ... OK
* DONE
Status: 2 NOTEs
See
‘/Users/biocbuild/bbs-3.23-bioc/meat/benchdamic.Rcheck/00check.log’
for details.
benchdamic.Rcheck/00install.out
############################################################################## ############################################################################## ### ### Running command: ### ### /Library/Frameworks/R.framework/Resources/bin/R CMD INSTALL benchdamic ### ############################################################################## ############################################################################## * installing to library ‘/Library/Frameworks/R.framework/Versions/4.6-x86_64/Resources/library’ * installing *source* package ‘benchdamic’ ... ** this is package ‘benchdamic’ version ‘1.17.0’ ** using staged installation ** R ** data *** moving datasets to lazyload DB ** inst ** byte-compile and prepare package for lazy loading Found more than one class "dist" in cache; using the first, from namespace 'BiocGenerics' Also defined by ‘spam’ ** help *** installing help indices ** building package indices ** installing vignettes ** testing if installed package can be loaded from temporary location Found more than one class "dist" in cache; using the first, from namespace 'BiocGenerics' Also defined by ‘spam’ ** testing if installed package can be loaded from final location Found more than one class "dist" in cache; using the first, from namespace 'BiocGenerics' Also defined by ‘spam’ ** testing if installed package keeps a record of temporary installation path * DONE (benchdamic)
benchdamic.Rcheck/tests/testthat.Rout
R Under development (unstable) (2025-10-21 r88958) -- "Unsuffered Consequences"
Copyright (C) 2025 The R Foundation for Statistical Computing
Platform: x86_64-apple-darwin20
R is free software and comes with ABSOLUTELY NO WARRANTY.
You are welcome to redistribute it under certain conditions.
Type 'license()' or 'licence()' for distribution details.
R is a collaborative project with many contributors.
Type 'contributors()' for more information and
'citation()' on how to cite R or R packages in publications.
Type 'demo()' for some demos, 'help()' for on-line help, or
'help.start()' for an HTML browser interface to help.
Type 'q()' to quit R.
> library(testthat)
> library(benchdamic)
Found more than one class "dist" in cache; using the first, from namespace 'BiocGenerics'
Also defined by 'spam'
>
> test_check("benchdamic")
|------------(25%)----------(50%)----------(75%)----------|
|------------(25%)----------(50%)----------(75%)----------|
|------------(25%)----------(50%)----------(75%)----------|
|------------(25%)----------(50%)----------(75%)----------|
|------------(25%)----------(50%)----------(75%)----------|
[ FAIL 0 | WARN 0 | SKIP 0 | PASS 334 ]
>
> proc.time()
user system elapsed
77.666 7.578 171.541
benchdamic.Rcheck/benchdamic-Ex.timings
| name | user | system | elapsed | |
| CAT | 0.004 | 0.001 | 0.004 | |
| DA_ALDEx2 | 5.058 | 1.276 | 6.483 | |
| DA_ANCOM | 0.888 | 0.023 | 0.924 | |
| DA_DESeq2 | 3.497 | 0.070 | 3.613 | |
| DA_MAST | 1.748 | 0.058 | 1.850 | |
| DA_Maaslin2 | 0.333 | 0.068 | 0.458 | |
| DA_NOISeq | 1.625 | 0.023 | 2.005 | |
| DA_Seurat | 2.617 | 0.052 | 4.572 | |
| DA_ZicoSeq | 0.941 | 0.026 | 1.655 | |
| DA_basic | 0.056 | 0.003 | 0.093 | |
| DA_corncob | 0.954 | 0.079 | 1.834 | |
| DA_dearseq | 0.080 | 0.002 | 0.156 | |
| DA_edgeR | 0.260 | 0.010 | 0.449 | |
| DA_limma | 0.103 | 0.004 | 0.184 | |
| DA_linda | 0.073 | 0.003 | 0.131 | |
| DA_maaslin3 | 0.741 | 0.022 | 1.315 | |
| DA_metagenomeSeq | 0.515 | 0.015 | 0.891 | |
| DA_mixMC | 1.032 | 0.012 | 1.791 | |
| RMSE | 0.001 | 0.000 | 0.002 | |
| addKnowledge | 0.228 | 0.008 | 0.400 | |
| areaCAT | 6.464 | 0.106 | 9.710 | |
| checkNormalization | 0 | 0 | 0 | |
| createColors | 0.004 | 0.000 | 0.005 | |
| createConcordance | 6.112 | 0.086 | 8.318 | |
| createEnrichment | 0.315 | 0.008 | 0.456 | |
| createMocks | 0.003 | 0.001 | 0.005 | |
| createPositives | 1.410 | 0.033 | 2.112 | |
| createSplits | 0.023 | 0.002 | 0.025 | |
| createTIEC | 2.672 | 0.043 | 3.154 | |
| enrichmentTest | 0.105 | 0.005 | 0.158 | |
| extractDA | 0.261 | 0.005 | 0.463 | |
| extractStatistics | 0.176 | 0.011 | 0.258 | |
| fitDM | 0.024 | 0.002 | 0.027 | |
| fitHURDLE | 0.490 | 0.004 | 0.598 | |
| fitModels | 2.241 | 0.049 | 3.215 | |
| fitNB | 0.043 | 0.001 | 0.057 | |
| fitZIG | 0.056 | 0.001 | 0.057 | |
| fitZINB | 0.343 | 0.003 | 0.350 | |
| getDA | 0.063 | 0.006 | 0.082 | |
| getPositives | 0.059 | 0.003 | 0.115 | |
| getStatistics | 0.052 | 0.004 | 0.159 | |
| get_counts_metadata | 0.089 | 0.002 | 0.095 | |
| iterative_ordering | 0.008 | 0.001 | 0.022 | |
| meanDifferences | 0.002 | 0.001 | 0.002 | |
| norm_CSS | 0.056 | 0.001 | 0.066 | |
| norm_DESeq2 | 0.623 | 0.012 | 0.792 | |
| norm_TSS | 0.039 | 0.001 | 0.040 | |
| norm_edgeR | 0.043 | 0.001 | 0.045 | |
| plotConcordance | 5.307 | 0.083 | 7.651 | |
| plotContingency | 1.264 | 0.028 | 2.452 | |
| plotEnrichment | 1.065 | 0.013 | 1.181 | |
| plotFDR | 2.008 | 0.023 | 2.552 | |
| plotFPR | 2.616 | 0.035 | 3.118 | |
| plotKS | 3.205 | 0.051 | 3.514 | |
| plotLogP | 2.766 | 0.079 | 3.118 | |
| plotMD | 4.312 | 0.090 | 5.317 | |
| plotMutualFindings | 1.471 | 0.020 | 1.652 | |
| plotPositives | 0.667 | 0.011 | 0.859 | |
| plotQQ | 2.104 | 0.034 | 2.820 | |
| plotRMSE | 3.027 | 0.060 | 4.208 | |
| prepareObserved | 0.001 | 0.001 | 0.001 | |
| runDA | 0.388 | 0.004 | 0.440 | |
| runMocks | 0.779 | 0.015 | 1.044 | |
| runNormalizations | 0.390 | 0.002 | 0.395 | |
| runSplits | 3.975 | 0.086 | 5.821 | |
| setNormalizations | 0.001 | 0.001 | 0.002 | |
| set_ALDEx2 | 0.013 | 0.001 | 0.022 | |
| set_ANCOM | 0.018 | 0.004 | 0.042 | |
| set_DESeq2 | 0.012 | 0.000 | 0.013 | |
| set_MAST | 0.007 | 0.000 | 0.010 | |
| set_Maaslin2 | 0.010 | 0.001 | 0.013 | |
| set_NOISeq | 0.010 | 0.002 | 0.017 | |
| set_Seurat | 0.012 | 0.001 | 0.013 | |
| set_ZicoSeq | 0.014 | 0.001 | 0.017 | |
| set_basic | 0.005 | 0.001 | 0.005 | |
| set_corncob | 0.009 | 0.001 | 0.013 | |
| set_dearseq | 0.006 | 0.002 | 0.021 | |
| set_edgeR | 0.024 | 0.001 | 0.028 | |
| set_limma | 0.022 | 0.002 | 0.032 | |
| set_linda | 0.011 | 0.001 | 0.019 | |
| set_maaslin3 | 0.013 | 0.003 | 0.035 | |
| set_metagenomeSeq | 0.011 | 0.001 | 0.012 | |
| set_mixMC | 0.005 | 0.000 | 0.006 | |
| weights_ZINB | 0.639 | 0.015 | 0.811 | |