Back to Build/check report for BioC 3.23:   simplified   long
ABCDEFGHIJKLMNOPQRSTUVW[X]YZ

This page was generated on 2025-11-08 11:32 -0500 (Sat, 08 Nov 2025).

HostnameOSArch (*)R versionInstalled pkgs
nebbiolo1Linux (Ubuntu 24.04.3 LTS)x86_64R Under development (unstable) (2025-10-20 r88955) -- "Unsuffered Consequences" 4821
Click on any hostname to see more info about the system (e.g. compilers)      (*) as reported by 'uname -p', except on Windows and Mac OS X

All results for package XVector


To the developers/maintainers of the XVector package:
- Allow up to 24 hours (and sometimes 48 hours) for your latest push to git@git.bioconductor.org:packages/XVector.git to reflect on this report. See Troubleshooting Build Report for more information.
- Use the following Renviron settings to reproduce errors and warnings.
- If 'R CMD check' started to fail recently on the Linux builder(s) over a missing dependency, add the missing dependency to 'Suggests:' in your DESCRIPTION file. See Renviron.bioc for more information.

raw results

Package 2314/2323HostnameOS / ArchINSTALLBUILDCHECKBUILD BIN
XVector 0.51.0  (landing page)
Hervé Pagès
Snapshot Date: 2025-11-07 13:40 -0500 (Fri, 07 Nov 2025)
git_url: https://git.bioconductor.org/packages/XVector
git_branch: devel
git_last_commit: c527085
git_last_commit_date: 2025-10-29 10:14:52 -0500 (Wed, 29 Oct 2025)
nebbiolo1Linux (Ubuntu 24.04.3 LTS) / x86_64  OK    OK    WARNINGS  UNNEEDED, same version is already published



Results for Bioconductor software packages that depend directly on package XVector

QUICK STATSOS / ArchINSTALLBUILDCHECKBUILD BIN
nebbiolo1Linux (Ubuntu 24.04.3 LTS) / x86_64
0235
0334
011221
Package 1/37HostnameOS / ArchINSTALLBUILDCHECKBUILD BIN
Bioc.gff 1.1.0  (landing page)
Bioconductor Package Maintainer
git_last_commit: a3d3863
git_last_commit_date: 2025-10-29 11:37:35 -0500
nebbiolo1Linux (Ubuntu 24.04.3 LTS) / x86_64  OK    OK    OK  UNNEEDED, same version is already published
Package 2/37HostnameOS / ArchINSTALLBUILDCHECKBUILD BIN
Biostrings 2.79.2  (landing page)
Hervé Pagès
git_last_commit: b15bffb
git_last_commit_date: 2025-11-04 14:49:55 -0500
nebbiolo1Linux (Ubuntu 24.04.3 LTS) / x86_64  OK    OK    WARNINGS  UNNEEDED, same version is already published
Package 3/37HostnameOS / ArchINSTALLBUILDCHECKBUILD BIN
BSgenome 1.79.1  (landing page)
Hervé Pagès
git_last_commit: c2fc0db
git_last_commit_date: 2025-11-03 17:15:06 -0500
nebbiolo1Linux (Ubuntu 24.04.3 LTS) / x86_64  OK    OK    WARNINGS  UNNEEDED, same version is already published
Package 4/37HostnameOS / ArchINSTALLBUILDCHECKBUILD BIN
ChIPsim 1.65.0  (landing page)
Peter Humburg
git_last_commit: 5fed093
git_last_commit_date: 2025-10-29 10:03:24 -0500
nebbiolo1Linux (Ubuntu 24.04.3 LTS) / x86_64  OK    OK    OK  UNNEEDED, same version is already published
Package 5/37HostnameOS / ArchINSTALLBUILDCHECKBUILD BIN
CNEr 1.47.0  (landing page)
Boris Lenhard Damir Baranasic
git_last_commit: 4d7f8ce
git_last_commit_date: 2025-10-29 10:18:00 -0500
nebbiolo1Linux (Ubuntu 24.04.3 LTS) / x86_64  OK    OK    WARNINGS  UNNEEDED, same version is already published
Package 6/37HostnameOS / ArchINSTALLBUILDCHECKBUILD BIN
compEpiTools 1.45.0  (landing page)
Mattia Furlan
git_last_commit: 949eb04
git_last_commit_date: 2025-10-29 10:20:59 -0500
nebbiolo1Linux (Ubuntu 24.04.3 LTS) / x86_64  OK    OK    OK  UNNEEDED, same version is already published
Package 7/37HostnameOS / ArchINSTALLBUILDCHECKBUILD BIN
crisprScore 1.15.0  (landing page)
Jean-Philippe Fortin
git_last_commit: 8b5dc77
git_last_commit_date: 2025-10-29 11:14:23 -0500
nebbiolo1Linux (Ubuntu 24.04.3 LTS) / x86_64  OK    OK    OK  UNNEEDED, same version is already published
Package 8/37HostnameOS / ArchINSTALLBUILDCHECKBUILD BIN
CRISPRseek 1.51.0  (landing page)
Lihua Julie Zhu
git_last_commit: 0934262
git_last_commit_date: 2025-10-29 10:17:22 -0500
nebbiolo1Linux (Ubuntu 24.04.3 LTS) / x86_64  OK    OK    OK  UNNEEDED, same version is already published
Package 9/37HostnameOS / ArchINSTALLBUILDCHECKBUILD BIN
dada2 1.39.0  (landing page)
Benjamin Callahan
git_last_commit: 29f93c2
git_last_commit_date: 2025-10-29 10:30:17 -0500
nebbiolo1Linux (Ubuntu 24.04.3 LTS) / x86_64  OK    OK    WARNINGS  UNNEEDED, same version is already published
Package 10/37HostnameOS / ArchINSTALLBUILDCHECKBUILD BIN
DECIPHER 3.7.0  (landing page)
Erik Wright
git_last_commit: 9fb2779
git_last_commit_date: 2025-10-29 10:09:13 -0500
nebbiolo1Linux (Ubuntu 24.04.3 LTS) / x86_64  OK    OK    OK  UNNEEDED, same version is already published
Package 11/37HostnameOS / ArchINSTALLBUILDCHECKBUILD BIN
gcrma 2.83.0  (landing page)
Z. Wu
git_last_commit: 2a7d479
git_last_commit_date: 2025-10-29 09:53:32 -0500
nebbiolo1Linux (Ubuntu 24.04.3 LTS) / x86_64  OK    OK    OK  UNNEEDED, same version is already published
Package 12/37HostnameOS / ArchINSTALLBUILDCHECKBUILD BIN
GenomAutomorphism 1.13.0  (landing page)
Robersy Sanchez
git_last_commit: 7283b3b
git_last_commit_date: 2025-10-29 11:17:59 -0500
nebbiolo1Linux (Ubuntu 24.04.3 LTS) / x86_64  OK    OK    OK  UNNEEDED, same version is already published
Package 13/37HostnameOS / ArchINSTALLBUILDCHECKBUILD BIN
GenomicFeatures 1.63.1  (landing page)
H. Pagès
git_last_commit: d92f2d0
git_last_commit_date: 2025-10-30 02:00:29 -0500
nebbiolo1Linux (Ubuntu 24.04.3 LTS) / x86_64  OK    OK    OK  UNNEEDED, same version is already published
Package 14/37HostnameOS / ArchINSTALLBUILDCHECKBUILD BIN
Gviz 1.55.0  (landing page)
Robert Ivanek
git_last_commit: 6339846
git_last_commit_date: 2025-10-29 10:10:17 -0500
nebbiolo1Linux (Ubuntu 24.04.3 LTS) / x86_64  OK    OK    OK  UNNEEDED, same version is already published
Package 15/37HostnameOS / ArchINSTALLBUILDCHECKBUILD BIN
HiLDA 1.25.0  (landing page)
Zhi Yang
git_last_commit: 0c7e75a
git_last_commit_date: 2025-10-29 10:53:14 -0500
nebbiolo1Linux (Ubuntu 24.04.3 LTS) / x86_64  OK    OK    OK  UNNEEDED, same version is already published
Package 16/37HostnameOS / ArchINSTALLBUILDCHECKBUILD BIN
IONiseR 2.35.0  (landing page)
Mike Smith
git_last_commit: c0803bd
git_last_commit_date: 2025-10-29 10:26:28 -0500
nebbiolo1Linux (Ubuntu 24.04.3 LTS) / x86_64  OK    OK    OK  UNNEEDED, same version is already published
Package 17/37HostnameOS / ArchINSTALLBUILDCHECKBUILD BIN
IsoformSwitchAnalyzeR 2.11.0  (landing page)
Kristoffer Vitting-Seerup
git_last_commit: dc055b6
git_last_commit_date: 2025-10-29 10:38:58 -0500
nebbiolo1Linux (Ubuntu 24.04.3 LTS) / x86_64  OK    OK    OK  UNNEEDED, same version is already published
Package 18/37HostnameOS / ArchINSTALLBUILDCHECKBUILD BIN
kebabs 1.45.0  (landing page)
Ulrich Bodenhofer
git_last_commit: 3ed2a80
git_last_commit_date: 2025-10-29 10:22:35 -0500
nebbiolo1Linux (Ubuntu 24.04.3 LTS) / x86_64  OK    OK    OK  UNNEEDED, same version is already published
Package 19/37HostnameOS / ArchINSTALLBUILDCHECKBUILD BIN
MatrixRider 1.43.0  (landing page)
Elena Grassi
git_last_commit: c9dff82
git_last_commit_date: 2025-10-29 10:24:34 -0500
nebbiolo1Linux (Ubuntu 24.04.3 LTS) / x86_64  OK    OK    WARNINGS  UNNEEDED, same version is already published
Package 20/37HostnameOS / ArchINSTALLBUILDCHECKBUILD BIN
Modstrings 1.27.0  (landing page)
Felix G.M. Ernst
git_last_commit: ee94a6e
git_last_commit_date: 2025-10-29 10:50:29 -0500
nebbiolo1Linux (Ubuntu 24.04.3 LTS) / x86_64  ERROR    ERROR  skipped
Package 21/37HostnameOS / ArchINSTALLBUILDCHECKBUILD BIN
monaLisa 1.17.0  (landing page)
Michael Stadler
git_last_commit: abfee88
git_last_commit_date: 2025-10-29 11:12:31 -0500
nebbiolo1Linux (Ubuntu 24.04.3 LTS) / x86_64  OK    OK    OK  UNNEEDED, same version is already published
Package 22/37HostnameOS / ArchINSTALLBUILDCHECKBUILD BIN
ProteoDisco 1.17.0  (landing page)
Job van Riet
git_last_commit: 583baa5
git_last_commit_date: 2025-10-29 11:11:51 -0500
nebbiolo1Linux (Ubuntu 24.04.3 LTS) / x86_64  OK    OK    WARNINGS  UNNEEDED, same version is already published
Package 23/37HostnameOS / ArchINSTALLBUILDCHECKBUILD BIN
pwalign 1.7.0  (landing page)
Hervé Pagès
git_last_commit: a8e536a
git_last_commit_date: 2025-10-29 14:46:16 -0500
nebbiolo1Linux (Ubuntu 24.04.3 LTS) / x86_64  OK    OK    OK  UNNEEDED, same version is already published
Package 24/37HostnameOS / ArchINSTALLBUILDCHECKBUILD BIN
R453Plus1Toolbox 1.61.0  (landing page)
Hans-Ulrich Klein
git_last_commit: b396ba9
git_last_commit_date: 2025-10-29 10:06:02 -0500
nebbiolo1Linux (Ubuntu 24.04.3 LTS) / x86_64  OK    ERROR  skipped
Package 25/37HostnameOS / ArchINSTALLBUILDCHECKBUILD BIN
ribosomeProfilingQC 1.23.0  (landing page)
Jianhong Ou
git_last_commit: bad02b9
git_last_commit_date: 2025-10-29 10:57:03 -0500
nebbiolo1Linux (Ubuntu 24.04.3 LTS) / x86_64  OK    OK    OK  UNNEEDED, same version is already published
Package 26/37HostnameOS / ArchINSTALLBUILDCHECKBUILD BIN
Rsamtools 2.27.0  (landing page)
Bioconductor Package Maintainer
git_last_commit: a2c9284
git_last_commit_date: 2025-10-29 10:04:41 -0500
nebbiolo1Linux (Ubuntu 24.04.3 LTS) / x86_64  OK    OK    WARNINGS  UNNEEDED, same version is already published
Package 27/37HostnameOS / ArchINSTALLBUILDCHECKBUILD BIN
rtracklayer 1.71.0  (landing page)
Michael Lawrence
git_last_commit: 65cde22
git_last_commit_date: 2025-10-29 10:00:29 -0500
nebbiolo1Linux (Ubuntu 24.04.3 LTS) / x86_64  OK    OK    WARNINGS  UNNEEDED, same version is already published
Package 28/37HostnameOS / ArchINSTALLBUILDCHECKBUILD BIN
ShortRead 1.69.2  (landing page)
Bioconductor Package Maintainer
git_last_commit: ab09a1b
git_last_commit_date: 2025-11-05 13:00:35 -0500
nebbiolo1Linux (Ubuntu 24.04.3 LTS) / x86_64  OK    OK    WARNINGS  UNNEEDED, same version is already published
Package 29/37HostnameOS / ArchINSTALLBUILDCHECKBUILD BIN
SparseArray 1.11.1  (landing page)
Hervé Pagès
git_last_commit: f62ecd6
git_last_commit_date: 2025-11-07 02:12:16 -0500
nebbiolo1Linux (Ubuntu 24.04.3 LTS) / x86_64  ERROR    ERROR  skipped
Package 30/37HostnameOS / ArchINSTALLBUILDCHECKBUILD BIN
Structstrings 1.27.0  (landing page)
Felix G.M. Ernst
git_last_commit: 983c850
git_last_commit_date: 2025-10-29 10:50:44 -0500
nebbiolo1Linux (Ubuntu 24.04.3 LTS) / x86_64  OK    OK    ERROR  
Package 31/37HostnameOS / ArchINSTALLBUILDCHECKBUILD BIN
TFBSTools 1.49.0  (landing page)
Ge Tan
git_last_commit: d5d1319
git_last_commit_date: 2025-10-29 10:16:59 -0500
nebbiolo1Linux (Ubuntu 24.04.3 LTS) / x86_64  OK    OK    OK  UNNEEDED, same version is already published
Package 32/37HostnameOS / ArchINSTALLBUILDCHECKBUILD BIN
tracktables 1.45.0  (landing page)
Tom Carroll
git_last_commit: 6d7475c
git_last_commit_date: 2025-10-29 10:22:38 -0500
nebbiolo1Linux (Ubuntu 24.04.3 LTS) / x86_64  OK    OK    WARNINGS  UNNEEDED, same version is already published
Package 33/37HostnameOS / ArchINSTALLBUILDCHECKBUILD BIN
triplex 1.51.0  (landing page)
Jiri Hon
git_last_commit: 53b853d
git_last_commit_date: 2025-10-29 10:14:42 -0500
nebbiolo1Linux (Ubuntu 24.04.3 LTS) / x86_64  OK    OK    WARNINGS  UNNEEDED, same version is already published
Package 34/37HostnameOS / ArchINSTALLBUILDCHECKBUILD BIN
tRNA 1.29.0  (landing page)
Felix GM Ernst
git_last_commit: c4fadc0
git_last_commit_date: 2025-10-29 10:48:20 -0500
nebbiolo1Linux (Ubuntu 24.04.3 LTS) / x86_64  OK    OK    OK  UNNEEDED, same version is already published
Package 35/37HostnameOS / ArchINSTALLBUILDCHECKBUILD BIN
tRNAscanImport 1.31.0  (landing page)
Felix G.M. Ernst
git_last_commit: f9f96ff
git_last_commit_date: 2025-10-29 10:43:40 -0500
nebbiolo1Linux (Ubuntu 24.04.3 LTS) / x86_64  OK    OK    OK  UNNEEDED, same version is already published
Package 36/37HostnameOS / ArchINSTALLBUILDCHECKBUILD BIN
VariantAnnotation 1.57.0  (landing page)
Bioconductor Package Maintainer
git_last_commit: 0da7ddb
git_last_commit_date: 2025-10-29 10:08:24 -0500
nebbiolo1Linux (Ubuntu 24.04.3 LTS) / x86_64  OK    OK    WARNINGS  UNNEEDED, same version is already published
Package 37/37HostnameOS / ArchINSTALLBUILDCHECKBUILD BIN
VariantFiltering 1.47.0  (landing page)
Robert Castelo
git_last_commit: 270d88d
git_last_commit_date: 2025-10-29 10:19:08 -0500
nebbiolo1Linux (Ubuntu 24.04.3 LTS) / x86_64  OK    OK    OK  UNNEEDED, same version is already published