| Back to Build/check report for BioC 3.23: simplified long |
|
This page was generated on 2025-11-13 11:32 -0500 (Thu, 13 Nov 2025).
| Hostname | OS | Arch (*) | R version | Installed pkgs |
|---|---|---|---|---|
| kjohnson3 | macOS 13.7.7 Ventura | arm64 | R Under development (unstable) (2025-11-04 r88984) -- "Unsuffered Consequences" | 4013 |
| Click on any hostname to see more info about the system (e.g. compilers) (*) as reported by 'uname -p', except on Windows and Mac OS X | ||||
| Package 828/2325 | Hostname | OS / Arch | INSTALL | BUILD | CHECK | BUILD BIN | ||||||||
| GenomAutomorphism 1.13.0 (landing page) Robersy Sanchez
| kjohnson3 | macOS 13.7.7 Ventura / arm64 | OK | OK | OK | OK | ||||||||
|
To the developers/maintainers of the GenomAutomorphism package: - Allow up to 24 hours (and sometimes 48 hours) for your latest push to git@git.bioconductor.org:packages/GenomAutomorphism.git to reflect on this report. See Troubleshooting Build Report for more information. - Use the following Renviron settings to reproduce errors and warnings. - If 'R CMD check' started to fail recently on the Linux builder(s) over a missing dependency, add the missing dependency to 'Suggests:' in your DESCRIPTION file. See Renviron.bioc for more information. |
| Package: GenomAutomorphism |
| Version: 1.13.0 |
| Command: /Library/Frameworks/R.framework/Resources/bin/R CMD check --install=check:GenomAutomorphism.install-out.txt --library=/Library/Frameworks/R.framework/Resources/library --no-vignettes --timings GenomAutomorphism_1.13.0.tar.gz |
| StartedAt: 2025-11-12 18:54:21 -0500 (Wed, 12 Nov 2025) |
| EndedAt: 2025-11-12 18:56:59 -0500 (Wed, 12 Nov 2025) |
| EllapsedTime: 157.8 seconds |
| RetCode: 0 |
| Status: OK |
| CheckDir: GenomAutomorphism.Rcheck |
| Warnings: 0 |
##############################################################################
##############################################################################
###
### Running command:
###
### /Library/Frameworks/R.framework/Resources/bin/R CMD check --install=check:GenomAutomorphism.install-out.txt --library=/Library/Frameworks/R.framework/Resources/library --no-vignettes --timings GenomAutomorphism_1.13.0.tar.gz
###
##############################################################################
##############################################################################
* using log directory ‘/Users/biocbuild/bbs-3.23-bioc/meat/GenomAutomorphism.Rcheck’
* using R Under development (unstable) (2025-11-04 r88984)
* using platform: aarch64-apple-darwin20
* R was compiled by
Apple clang version 16.0.0 (clang-1600.0.26.6)
GNU Fortran (GCC) 14.2.0
* running under: macOS Ventura 13.7.8
* using session charset: UTF-8
* using option ‘--no-vignettes’
* checking for file ‘GenomAutomorphism/DESCRIPTION’ ... OK
* this is package ‘GenomAutomorphism’ version ‘1.13.0’
* package encoding: UTF-8
* checking package namespace information ... OK
* checking package dependencies ... OK
* checking if this is a source package ... OK
* checking if there is a namespace ... OK
* checking for hidden files and directories ... OK
* checking for portable file names ... OK
* checking for sufficient/correct file permissions ... OK
* checking whether package ‘GenomAutomorphism’ can be installed ... OK
* checking installed package size ... OK
* checking package directory ... OK
* checking ‘build’ directory ... OK
* checking DESCRIPTION meta-information ... OK
* checking top-level files ... OK
* checking for left-over files ... OK
* checking index information ... OK
* checking package subdirectories ... OK
* checking code files for non-ASCII characters ... OK
* checking R files for syntax errors ... OK
* checking whether the package can be loaded ... OK
* checking whether the package can be loaded with stated dependencies ... OK
* checking whether the package can be unloaded cleanly ... OK
* checking whether the namespace can be loaded with stated dependencies ... OK
* checking whether the namespace can be unloaded cleanly ... OK
* checking dependencies in R code ... OK
* checking S3 generic/method consistency ... OK
* checking replacement functions ... OK
* checking foreign function calls ... OK
* checking R code for possible problems ... OK
* checking Rd files ... OK
* checking Rd metadata ... OK
* checking Rd cross-references ... NOTE
Non-topic package-anchored link(s) in Rd file 'reexports.Rd':
‘[S4Vectors:S4Vectors-internals]{setValidity2}’
See section 'Cross-references' in the 'Writing R Extensions' manual.
* checking for missing documentation entries ... OK
* checking for code/documentation mismatches ... OK
* checking Rd \usage sections ... OK
* checking Rd contents ... OK
* checking for unstated dependencies in examples ... OK
* checking contents of ‘data’ directory ... OK
* checking data for non-ASCII characters ... OK
* checking data for ASCII and uncompressed saves ... OK
* checking files in ‘vignettes’ ... OK
* checking examples ... OK
Examples with CPU (user + system) or elapsed time > 5s
user system elapsed
automorphisms 2.658 0.069 23.787
autZ64 0.961 0.022 7.958
aut3D 0.815 0.056 7.564
autZ125 0.764 0.018 6.126
autZ5 0.584 0.024 7.394
* checking for unstated dependencies in ‘tests’ ... OK
* checking tests ...
Running ‘spelling.R’
Running ‘testthat.R’
OK
* checking for unstated dependencies in vignettes ... OK
* checking package vignettes ... OK
* checking running R code from vignettes ... SKIPPED
* checking re-building of vignette outputs ... SKIPPED
* checking PDF version of manual ... OK
* DONE
Status: 1 NOTE
See
‘/Users/biocbuild/bbs-3.23-bioc/meat/GenomAutomorphism.Rcheck/00check.log’
for details.
GenomAutomorphism.Rcheck/00install.out
############################################################################## ############################################################################## ### ### Running command: ### ### /Library/Frameworks/R.framework/Resources/bin/R CMD INSTALL GenomAutomorphism ### ############################################################################## ############################################################################## * installing to library ‘/Library/Frameworks/R.framework/Versions/4.6-arm64/Resources/library’ * installing *source* package ‘GenomAutomorphism’ ... ** this is package ‘GenomAutomorphism’ version ‘1.13.0’ ** using staged installation ** R ** data ** inst ** byte-compile and prepare package for lazy loading ** help *** installing help indices *** copying figures ** building package indices ** installing vignettes ** testing if installed package can be loaded from temporary location ** testing if installed package can be loaded from final location ** testing if installed package keeps a record of temporary installation path * DONE (GenomAutomorphism)
GenomAutomorphism.Rcheck/tests/spelling.Rout
R Under development (unstable) (2025-11-04 r88984) -- "Unsuffered Consequences"
Copyright (C) 2025 The R Foundation for Statistical Computing
Platform: aarch64-apple-darwin20
R is free software and comes with ABSOLUTELY NO WARRANTY.
You are welcome to redistribute it under certain conditions.
Type 'license()' or 'licence()' for distribution details.
R is a collaborative project with many contributors.
Type 'contributors()' for more information and
'citation()' on how to cite R or R packages in publications.
Type 'demo()' for some demos, 'help()' for on-line help, or
'help.start()' for an HTML browser interface to help.
Type 'q()' to quit R.
> if (requireNamespace("spelling", quietly = TRUE)) {
+ spelling::spell_check_test(
+ vignettes = TRUE, error = FALSE,
+ skip_on_cran = TRUE
+ )
+ }
All Done!
>
> proc.time()
user system elapsed
0.073 0.024 0.097
GenomAutomorphism.Rcheck/tests/testthat.Rout
R Under development (unstable) (2025-11-04 r88984) -- "Unsuffered Consequences"
Copyright (C) 2025 The R Foundation for Statistical Computing
Platform: aarch64-apple-darwin20
R is free software and comes with ABSOLUTELY NO WARRANTY.
You are welcome to redistribute it under certain conditions.
Type 'license()' or 'licence()' for distribution details.
R is a collaborative project with many contributors.
Type 'contributors()' for more information and
'citation()' on how to cite R or R packages in publications.
Type 'demo()' for some demos, 'help()' for on-line help, or
'help.start()' for an HTML browser interface to help.
Type 'q()' to quit R.
> library(testthat)
> library(GenomAutomorphism)
>
> test_check("GenomAutomorphism")
[ FAIL 0 | WARN 0 | SKIP 0 | PASS 34 ]
>
> proc.time()
user system elapsed
10.184 0.492 29.339
GenomAutomorphism.Rcheck/GenomAutomorphism-Ex.timings
| name | user | system | elapsed | |
| AutomorphismByCoef | 0.152 | 0.003 | 0.161 | |
| AutomorphismList | 0.937 | 0.011 | 0.958 | |
| CodonMatrix | 0.052 | 0.001 | 0.056 | |
| CodonSeq | 0.132 | 0.006 | 0.139 | |
| GRangesMatrixSeq | 0.073 | 0.002 | 0.081 | |
| ListCodonMatrix | 0.067 | 0.001 | 0.068 | |
| MatrixSeq | 0.047 | 0.002 | 0.053 | |
| aa_phychem_index | 0.044 | 0.005 | 0.050 | |
| aaindex1 | 0.014 | 0.000 | 0.015 | |
| aaindex2 | 0.007 | 0.000 | 0.007 | |
| aaindex3 | 0.004 | 0.001 | 0.005 | |
| aln | 0.027 | 0.001 | 0.028 | |
| aminoacid_dist | 1.304 | 0.432 | 3.847 | |
| as.AutomorphismList | 0.200 | 0.019 | 0.219 | |
| aut3D | 0.815 | 0.056 | 7.564 | |
| autZ125 | 0.764 | 0.018 | 6.126 | |
| autZ5 | 0.584 | 0.024 | 7.394 | |
| autZ64 | 0.961 | 0.022 | 7.958 | |
| autby_coef | 0.109 | 0.003 | 0.111 | |
| autm | 0.016 | 0.001 | 0.021 | |
| autm_3d | 0.022 | 0.001 | 0.022 | |
| autm_z125 | 0.016 | 0.001 | 0.017 | |
| automorphismByRanges | 0.034 | 0.003 | 0.037 | |
| automorphism_bycoef | 0.036 | 0.001 | 0.041 | |
| automorphism_prob | 0.344 | 0.010 | 0.377 | |
| automorphisms | 2.658 | 0.069 | 23.787 | |
| base2codon | 0.022 | 0.003 | 0.025 | |
| base2int | 0.002 | 0.001 | 0.003 | |
| base_methods | 0.137 | 0.010 | 0.148 | |
| brca1_aln | 0.019 | 0.001 | 0.020 | |
| brca1_aln2 | 0.019 | 0.001 | 0.019 | |
| brca1_autm | 0.164 | 0.002 | 0.168 | |
| cdm_z64 | 0.074 | 0.243 | 0.320 | |
| codon_coord | 0.375 | 0.004 | 0.382 | |
| codon_dist | 0.089 | 0.002 | 0.093 | |
| codon_dist_matrix | 0.018 | 0.006 | 2.637 | |
| codon_matrix | 0.185 | 0.002 | 0.193 | |
| conserved_regions | 0.111 | 0.001 | 0.113 | |
| covid_aln | 0.025 | 0.002 | 0.027 | |
| covid_autm | 0.016 | 0.001 | 0.025 | |
| cyc_aln | 0.031 | 0.001 | 0.032 | |
| cyc_autm | 0.028 | 0.000 | 0.029 | |
| dna_phyche | 0.002 | 0.000 | 0.003 | |
| dna_phychem | 0.001 | 0.001 | 0.001 | |
| extract-methods | 0.178 | 0.002 | 0.186 | |
| getAutomorphisms | 0.057 | 0.002 | 0.059 | |
| get_coord | 0.218 | 0.003 | 0.233 | |
| get_mutscore | 0.066 | 0.003 | 0.069 | |
| matrices | 0.216 | 0.003 | 0.239 | |
| mod | 0.000 | 0.001 | 0.003 | |
| modeq | 0.000 | 0.000 | 0.001 | |
| modlineq | 0.001 | 0.001 | 0.001 | |
| mut_type | 0 | 0 | 0 | |
| peptide_phychem_index | 0.046 | 0.003 | 0.049 | |
| reexports | 0.027 | 0.001 | 0.028 | |
| seqranges | 0.226 | 0.003 | 0.228 | |
| slapply | 0 | 0 | 0 | |
| sortByChromAndStart | 0.019 | 0.000 | 0.021 | |
| str2chr | 0.000 | 0.001 | 0.001 | |
| str2dig | 0 | 0 | 0 | |
| translation | 0.393 | 0.006 | 0.410 | |