Back to Build/check report for BioC 3.23:   simplified   long
ABCDEFGHIJKL[M]NOPQRSTUVWXYZ

This page was generated on 2025-11-08 11:32 -0500 (Sat, 08 Nov 2025).

HostnameOSArch (*)R versionInstalled pkgs
nebbiolo1Linux (Ubuntu 24.04.3 LTS)x86_64R Under development (unstable) (2025-10-20 r88955) -- "Unsuffered Consequences" 4821
Click on any hostname to see more info about the system (e.g. compilers)      (*) as reported by 'uname -p', except on Windows and Mac OS X

Package 1323/2323HostnameOS / ArchINSTALLBUILDCHECKBUILD BIN
Modstrings 1.27.0  (landing page)
Felix G.M. Ernst
Snapshot Date: 2025-11-07 13:40 -0500 (Fri, 07 Nov 2025)
git_url: https://git.bioconductor.org/packages/Modstrings
git_branch: devel
git_last_commit: ee94a6e
git_last_commit_date: 2025-10-29 10:50:29 -0500 (Wed, 29 Oct 2025)
nebbiolo1Linux (Ubuntu 24.04.3 LTS) / x86_64  ERROR    ERROR  skipped


INSTALL results for Modstrings on nebbiolo1

To the developers/maintainers of the Modstrings package:
- Allow up to 24 hours (and sometimes 48 hours) for your latest push to git@git.bioconductor.org:packages/Modstrings.git to reflect on this report. See Troubleshooting Build Report for more information.
- Use the following Renviron settings to reproduce errors and warnings.
- If 'R CMD check' started to fail recently on the Linux builder(s) over a missing dependency, add the missing dependency to 'Suggests:' in your DESCRIPTION file. See Renviron.bioc for more information.

raw results


Summary

Package: Modstrings
Version: 1.27.0
Command: /home/biocbuild/bbs-3.23-bioc/R/bin/R CMD INSTALL Modstrings
StartedAt: 2025-11-07 15:15:55 -0500 (Fri, 07 Nov 2025)
EndedAt: 2025-11-07 15:15:59 -0500 (Fri, 07 Nov 2025)
EllapsedTime: 4.2 seconds
RetCode: 1
Status:   ERROR  

Command output

##############################################################################
##############################################################################
###
### Running command:
###
###   /home/biocbuild/bbs-3.23-bioc/R/bin/R CMD INSTALL Modstrings
###
##############################################################################
##############################################################################


* installing to library ‘/home/biocbuild/bbs-3.23-bioc/R/site-library’
* installing *source* package ‘Modstrings’ ...
** this is package ‘Modstrings’ version ‘1.27.0’
** using staged installation
** R
** data
** inst
** byte-compile and prepare package for lazy loading
Error in eval(exprs[i], envir) : object '.XString.equal' not found
Error: unable to load R code in package ‘Modstrings’
Execution halted
ERROR: lazy loading failed for package ‘Modstrings’
* removing ‘/home/biocbuild/bbs-3.23-bioc/R/site-library/Modstrings’
* restoring previous ‘/home/biocbuild/bbs-3.23-bioc/R/site-library/Modstrings’