| Back to Build/check report for BioC 3.23: simplified long |
|
This page was generated on 2025-11-13 11:32 -0500 (Thu, 13 Nov 2025).
| Hostname | OS | Arch (*) | R version | Installed pkgs |
|---|---|---|---|---|
| kjohnson3 | macOS 13.7.7 Ventura | arm64 | R Under development (unstable) (2025-11-04 r88984) -- "Unsuffered Consequences" | 4013 |
| Click on any hostname to see more info about the system (e.g. compilers) (*) as reported by 'uname -p', except on Windows and Mac OS X | ||||
| Package 728/2325 | Hostname | OS / Arch | INSTALL | BUILD | CHECK | BUILD BIN | ||||||||
| FindIT2 1.17.0 (landing page) Guandong Shang
| kjohnson3 | macOS 13.7.7 Ventura / arm64 | OK | OK | OK | OK | ||||||||
|
To the developers/maintainers of the FindIT2 package: - Allow up to 24 hours (and sometimes 48 hours) for your latest push to git@git.bioconductor.org:packages/FindIT2.git to reflect on this report. See Troubleshooting Build Report for more information. - Use the following Renviron settings to reproduce errors and warnings. - If 'R CMD check' started to fail recently on the Linux builder(s) over a missing dependency, add the missing dependency to 'Suggests:' in your DESCRIPTION file. See Renviron.bioc for more information. |
| Package: FindIT2 |
| Version: 1.17.0 |
| Command: /Library/Frameworks/R.framework/Resources/bin/R CMD check --install=check:FindIT2.install-out.txt --library=/Library/Frameworks/R.framework/Resources/library --no-vignettes --timings FindIT2_1.17.0.tar.gz |
| StartedAt: 2025-11-12 18:48:28 -0500 (Wed, 12 Nov 2025) |
| EndedAt: 2025-11-12 18:51:03 -0500 (Wed, 12 Nov 2025) |
| EllapsedTime: 155.0 seconds |
| RetCode: 0 |
| Status: OK |
| CheckDir: FindIT2.Rcheck |
| Warnings: 0 |
##############################################################################
##############################################################################
###
### Running command:
###
### /Library/Frameworks/R.framework/Resources/bin/R CMD check --install=check:FindIT2.install-out.txt --library=/Library/Frameworks/R.framework/Resources/library --no-vignettes --timings FindIT2_1.17.0.tar.gz
###
##############################################################################
##############################################################################
* using log directory ‘/Users/biocbuild/bbs-3.23-bioc/meat/FindIT2.Rcheck’
* using R Under development (unstable) (2025-11-04 r88984)
* using platform: aarch64-apple-darwin20
* R was compiled by
Apple clang version 16.0.0 (clang-1600.0.26.6)
GNU Fortran (GCC) 14.2.0
* running under: macOS Ventura 13.7.8
* using session charset: UTF-8
* using option ‘--no-vignettes’
* checking for file ‘FindIT2/DESCRIPTION’ ... OK
* this is package ‘FindIT2’ version ‘1.17.0’
* package encoding: UTF-8
* checking package namespace information ... OK
* checking package dependencies ... INFO
Imports includes 22 non-default packages.
Importing from so many packages makes the package vulnerable to any of
them becoming unavailable. Move as many as possible to Suggests and
use conditionally.
* checking if this is a source package ... OK
* checking if there is a namespace ... OK
* checking for hidden files and directories ... OK
* checking for portable file names ... OK
* checking for sufficient/correct file permissions ... OK
* checking whether package ‘FindIT2’ can be installed ... OK
* checking installed package size ... OK
* checking package directory ... OK
* checking ‘build’ directory ... OK
* checking DESCRIPTION meta-information ... OK
* checking top-level files ... OK
* checking for left-over files ... OK
* checking index information ... OK
* checking package subdirectories ... OK
* checking code files for non-ASCII characters ... OK
* checking R files for syntax errors ... OK
* checking whether the package can be loaded ... OK
* checking whether the package can be loaded with stated dependencies ... OK
* checking whether the package can be unloaded cleanly ... OK
* checking whether the namespace can be loaded with stated dependencies ... OK
* checking whether the namespace can be unloaded cleanly ... OK
* checking dependencies in R code ... OK
* checking S3 generic/method consistency ... OK
* checking replacement functions ... OK
* checking foreign function calls ... OK
* checking R code for possible problems ... OK
* checking Rd files ... OK
* checking Rd metadata ... OK
* checking Rd cross-references ... OK
* checking for missing documentation entries ... OK
* checking for code/documentation mismatches ... OK
* checking Rd \usage sections ... OK
* checking Rd contents ... OK
* checking for unstated dependencies in examples ... OK
* checking contents of ‘data’ directory ... OK
* checking data for non-ASCII characters ... OK
* checking data for ASCII and uncompressed saves ... OK
* checking files in ‘vignettes’ ... OK
* checking examples ... OK
* checking for unstated dependencies in ‘tests’ ... OK
* checking tests ...
Running ‘testthat.R’
OK
* checking for unstated dependencies in vignettes ... OK
* checking package vignettes ... OK
* checking running R code from vignettes ... SKIPPED
* checking re-building of vignette outputs ... SKIPPED
* checking PDF version of manual ... OK
* DONE
Status: OK
FindIT2.Rcheck/00install.out
############################################################################## ############################################################################## ### ### Running command: ### ### /Library/Frameworks/R.framework/Resources/bin/R CMD INSTALL FindIT2 ### ############################################################################## ############################################################################## * installing to library ‘/Library/Frameworks/R.framework/Versions/4.6-arm64/Resources/library’ * installing *source* package ‘FindIT2’ ... ** this is package ‘FindIT2’ version ‘1.17.0’ ** using staged installation ** R ** data ** inst ** byte-compile and prepare package for lazy loading ** help *** installing help indices ** building package indices ** installing vignettes ** testing if installed package can be loaded from temporary location ** testing if installed package can be loaded from final location ** testing if installed package keeps a record of temporary installation path * DONE (FindIT2)
FindIT2.Rcheck/tests/testthat.Rout
R Under development (unstable) (2025-11-04 r88984) -- "Unsuffered Consequences"
Copyright (C) 2025 The R Foundation for Statistical Computing
Platform: aarch64-apple-darwin20
R is free software and comes with ABSOLUTELY NO WARRANTY.
You are welcome to redistribute it under certain conditions.
Type 'license()' or 'licence()' for distribution details.
R is a collaborative project with many contributors.
Type 'contributors()' for more information and
'citation()' on how to cite R or R packages in publications.
Type 'demo()' for some demos, 'help()' for on-line help, or
'help.start()' for an HTML browser interface to help.
Type 'q()' to quit R.
> library(testthat)
> library(FindIT2)
Loading required package: GenomicRanges
Loading required package: stats4
Loading required package: BiocGenerics
Loading required package: generics
Attaching package: 'generics'
The following objects are masked from 'package:base':
as.difftime, as.factor, as.ordered, intersect, is.element, setdiff,
setequal, union
Attaching package: 'BiocGenerics'
The following objects are masked from 'package:stats':
IQR, mad, sd, var, xtabs
The following objects are masked from 'package:base':
Filter, Find, Map, Position, Reduce, anyDuplicated, aperm, append,
as.data.frame, basename, cbind, colnames, dirname, do.call,
duplicated, eval, evalq, get, grep, grepl, is.unsorted, lapply,
mapply, match, mget, order, paste, pmax, pmax.int, pmin, pmin.int,
rank, rbind, rownames, sapply, saveRDS, table, tapply, unique,
unsplit, which.max, which.min
Loading required package: S4Vectors
Attaching package: 'S4Vectors'
The following object is masked from 'package:utils':
findMatches
The following objects are masked from 'package:base':
I, expand.grid, unname
Loading required package: IRanges
Loading required package: Seqinfo
> if (!requireNamespace("TxDb.Athaliana.BioMart.plantsmart28")) {
+ stop("unable to load TxDb.Athaliana.BioMart.plantsmart28")
+ }
Loading required namespace: TxDb.Athaliana.BioMart.plantsmart28
>
> test_check("FindIT2")
>> preparing gene features information... 2025-11-12 18:50:37
>> some scan range may cross Chr bound, trimming... 2025-11-12 18:50:38
>> preparing weight info... 2025-11-12 18:50:38
>> loading E50h_sampleChr5.bw info... 2025-11-12 18:50:38
------------
>> extracting and calcluating Chr5 signal... 2025-11-12 18:50:38
>> dealing with Chr5 left gene signal... 2025-11-12 18:50:40
>> norming Chr5RP accoring to the whole Chr RP... 2025-11-12 18:50:40
>> merging all Chr RP together... 2025-11-12 18:50:40
>> done 2025-11-12 18:50:40
>> checking seqlevels match... 2025-11-12 18:50:40
>> your peak_GR seqlevel:Chr5...
>> your Txdb seqlevel:Chr1 Chr2 Chr3 Chr4 Chr5 ChrM ChrC...
Good, your Chrs in peak_GR is all in Txdb
------------
annotatePeak using geneScan mode begins
>> preparing gene features information and scan region... 2025-11-12 18:50:40
>> some scan range may cross Chr bound, trimming... 2025-11-12 18:50:40
>> finding overlap peak in gene scan region... 2025-11-12 18:50:40
>> dealing with left peak not your gene scan region... 2025-11-12 18:50:40
>> merging two set peaks... 2025-11-12 18:50:40
>> calculating distance and dealing with gene strand... 2025-11-12 18:50:40
>> merging all info together ... 2025-11-12 18:50:40
>> done 2025-11-12 18:50:40
>> calculating peakCenter to TSS using peak-gene pair... 2025-11-12 18:50:40
>> pre-filling 1356 noAssoc peak gene's RP with 0... 2025-11-12 18:50:41
>> calculating RP using centerToTSS and peak score2025-11-12 18:50:41
>> merging all info together 2025-11-12 18:50:41
>> done 2025-11-12 18:50:42
>> calculating peakCenter to TSS using peak-gene pair... 2025-11-12 18:50:42
>> pre-filling 1356 noAssoc peak gene's RP with 0... 2025-11-12 18:50:42
>> calculating RP using centerToTSS and peak score2025-11-12 18:50:42
>> merging all info together 2025-11-12 18:50:43
>> done 2025-11-12 18:50:43
>> checking seqlevels match... 2025-11-12 18:50:43
>> your peak_GR seqlevel:Chr5...
>> your Txdb seqlevel:Chr1 Chr2 Chr3 Chr4 Chr5 ChrM ChrC...
Good, your Chrs in peak_GR is all in Txdb
------------
annotatePeak using geneScan mode begins
>> preparing gene features information and scan region... 2025-11-12 18:50:43
>> some scan range may cross Chr bound, trimming... 2025-11-12 18:50:44
>> finding overlap peak in gene scan region... 2025-11-12 18:50:44
>> dealing with left peak not your gene scan region... 2025-11-12 18:50:44
>> merging two set peaks... 2025-11-12 18:50:44
>> calculating distance and dealing with gene strand... 2025-11-12 18:50:44
>> merging all info together ... 2025-11-12 18:50:44
>> done 2025-11-12 18:50:44
>> calculating peakCenter to TSS using peak-gene pair... 2025-11-12 18:50:44
>> calculating RP using centerToTSS and TF hit 2025-11-12 18:50:44
>> merging all info together 2025-11-12 18:50:44
>> done 2025-11-12 18:50:44
>> calculating peakCenter to TSS using peak-gene pair... 2025-11-12 18:50:44
>> calculating RP using centerToTSS and TF hit 2025-11-12 18:50:44
>> merging all info together 2025-11-12 18:50:44
>> done 2025-11-12 18:50:44
>> checking seqlevels match... 2025-11-12 18:50:45
>> your peak_GR seqlevel:Chr5...
>> your Txdb seqlevel:Chr1 Chr2 Chr3 Chr4 Chr5 ChrM ChrC...
Good, your Chrs in peak_GR is all in Txdb
------------
annotatePeak using geneScan mode begins
>> preparing gene features information and scan region... 2025-11-12 18:50:45
>> some scan range may cross Chr bound, trimming... 2025-11-12 18:50:45
>> finding overlap peak in gene scan region... 2025-11-12 18:50:45
>> dealing with left peak not your gene scan region... 2025-11-12 18:50:45
>> merging two set peaks... 2025-11-12 18:50:46
>> calculating distance and dealing with gene strand... 2025-11-12 18:50:46
>> merging all info together ... 2025-11-12 18:50:46
>> done 2025-11-12 18:50:46
>> calculating peakCenter to TSS using peak-gene pair... 2025-11-12 18:50:46
>> pre-filling 1356 noAssoc peak gene's RP with 0... 2025-11-12 18:50:46
>> calculating RP using centerToTSS and peak score2025-11-12 18:50:46
>> merging all info together 2025-11-12 18:50:47
>> done 2025-11-12 18:50:47
>> extracting RP info from regionRP... 2025-11-12 18:50:47
>> dealing with TF_GR_databse... 2025-11-12 18:50:47
>> calculating percent and p-value... 2025-11-12 18:50:47
>> dealing withE5_0h_R1... 2025-11-12 18:50:47
>> dealing withE5_0h_R2... 2025-11-12 18:50:47
>> dealing withE5_4h_R1... 2025-11-12 18:50:47
>> dealing withE5_4h_R2... 2025-11-12 18:50:47
>> dealing withE5_8h_R1... 2025-11-12 18:50:47
>> dealing withE5_8h_R2... 2025-11-12 18:50:47
>> dealing withE5_16h_R1... 2025-11-12 18:50:47
>> dealing withE5_16h_R2... 2025-11-12 18:50:47
>> dealing withE5_24h_R1... 2025-11-12 18:50:47
>> dealing withE5_24h_R2... 2025-11-12 18:50:47
>> dealing withE5_48h_R1... 2025-11-12 18:50:47
>> dealing withE5_48h_R2... 2025-11-12 18:50:47
>> dealing withE5_48h_R3... 2025-11-12 18:50:47
>> dealing withE5_72h_R1... 2025-11-12 18:50:47
>> dealing withE5_72h_R2... 2025-11-12 18:50:47
>> dealing withE5_72h_R3... 2025-11-12 18:50:47
>> merging all info together... 2025-11-12 18:50:47
>> done 2025-11-12 18:50:47
>> preparing gene features information... 2025-11-12 18:50:47
>> some scan range may cross Chr bound, trimming... 2025-11-12 18:50:48
>> calculating p-value for each TF, which may be time consuming... 2025-11-12 18:50:48
>> merging all info together... 2025-11-12 18:50:48
>> done 2025-11-12 18:50:48
>> dealing with TF_GR_database... 2025-11-12 18:50:48
>> calculating coef and converting into z-score using INT... 2025-11-12 18:50:48
>> dealing with E5_0h_R1... 2025-11-12 18:50:48
>> dealing with E5_0h_R2... 2025-11-12 18:50:48
>> dealing with E5_4h_R1... 2025-11-12 18:50:48
>> dealing with E5_4h_R2... 2025-11-12 18:50:48
>> dealing with E5_8h_R1... 2025-11-12 18:50:48
>> dealing with E5_8h_R2... 2025-11-12 18:50:48
>> dealing with E5_16h_R1... 2025-11-12 18:50:48
>> dealing with E5_16h_R2... 2025-11-12 18:50:48
>> dealing with E5_24h_R1... 2025-11-12 18:50:48
>> dealing with E5_24h_R2... 2025-11-12 18:50:48
>> dealing with E5_48h_R1... 2025-11-12 18:50:48
>> dealing with E5_48h_R2... 2025-11-12 18:50:48
>> dealing with E5_48h_R3... 2025-11-12 18:50:48
>> dealing with E5_72h_R1... 2025-11-12 18:50:48
>> dealing with E5_72h_R2... 2025-11-12 18:50:48
>> dealing with E5_72h_R3... 2025-11-12 18:50:48
>> merging all info together... 2025-11-12 18:50:48
>> done 2025-11-12 18:50:48
>> checking seqlevels match... 2025-11-12 18:50:48
>> your peak_GR seqlevel:Chr5...
>> your Txdb seqlevel:Chr1 Chr2 Chr3 Chr4 Chr5 ChrM ChrC...
Good, your Chrs in peak_GR is all in Txdb
------------
annotatePeak using geneScan mode begins
>> preparing gene features information and scan region... 2025-11-12 18:50:48
>> some scan range may cross Chr bound, trimming... 2025-11-12 18:50:49
>> finding overlap peak in gene scan region... 2025-11-12 18:50:49
>> dealing with left peak not your gene scan region... 2025-11-12 18:50:49
>> merging two set peaks... 2025-11-12 18:50:49
>> calculating distance and dealing with gene strand... 2025-11-12 18:50:49
>> merging all info together ... 2025-11-12 18:50:49
>> done 2025-11-12 18:50:49
>> calculating peakCenter to TSS using peak-gene pair... 2025-11-12 18:50:49
>> calculating RP using centerToTSS and TF hit 2025-11-12 18:50:49
>> merging all info together 2025-11-12 18:50:49
>> done 2025-11-12 18:50:49
>> checking seqlevels match... 2025-11-12 18:50:49
>> your peak_GR seqlevel:5...
>> your Txdb seqlevel:Chr1 Chr2 Chr3 Chr4 Chr5 ChrM ChrC...
>> checking seqlevels match... 2025-11-12 18:50:49
>> your peak_GR seqlevel:Chr5 Chr6...
>> your Txdb seqlevel:Chr1 Chr2 Chr3 Chr4 Chr5 ChrM ChrC...
>> checking seqlevels match... 2025-11-12 18:50:51
>> your peak_GR seqlevel:Chr5...
>> your Txdb seqlevel:Chr1 Chr2 Chr3 Chr4 Chr5 ChrM ChrC...
Good, your Chrs in peak_GR is all in Txdb
>> checking seqlevels match... 2025-11-12 18:50:51
>> your peak_GR seqlevel:Chr5...
>> your Txdb seqlevel:Chr1 Chr2 Chr3 Chr4 Chr5 ChrM ChrC...
Good, your Chrs in peak_GR is all in Txdb
------------
annotating Peak using nearest gene mode begins
>> preparing gene features information... 2025-11-12 18:50:51
>> finding nearest gene and calculating distance... 2025-11-12 18:50:51
>> dealing with gene strand ... 2025-11-12 18:50:51
>> merging all info together ... 2025-11-12 18:50:51
>> done 2025-11-12 18:50:51
>> checking seqlevels match... 2025-11-12 18:50:51
>> your peak_GR seqlevel:Chr5...
>> your Txdb seqlevel:Chr1 Chr2 Chr3 Chr4 Chr5 ChrM ChrC...
Good, your Chrs in peak_GR is all in Txdb
>> checking seqlevels match... 2025-11-12 18:50:51
>> your peak_GR seqlevel:Chr5...
>> your Txdb seqlevel:Chr1 Chr2 Chr3 Chr4 Chr5 ChrM ChrC...
Good, your Chrs in peak_GR is all in Txdb
------------
annotating Peak using nearest gene mode begins
>> preparing gene features information... 2025-11-12 18:50:51
>> finding nearest gene and calculating distance... 2025-11-12 18:50:51
>> dealing with gene strand ... 2025-11-12 18:50:52
>> merging all info together ... 2025-11-12 18:50:52
>> done 2025-11-12 18:50:52
>> checking seqlevels match... 2025-11-12 18:50:52
>> your peak_GR seqlevel:Chr5...
>> your Txdb seqlevel:Chr1 Chr2 Chr3 Chr4 Chr5 ChrM ChrC...
Good, your Chrs in peak_GR is all in Txdb
>> checking seqlevels match... 2025-11-12 18:50:52
>> your peak_GR seqlevel:Chr5...
>> your Txdb seqlevel:Chr1 Chr2 Chr3 Chr4 Chr5 ChrM ChrC...
Good, your Chrs in peak_GR is all in Txdb
------------
annotating Peak using nearest gene mode begins
>> preparing gene features information... 2025-11-12 18:50:52
>> finding nearest gene and calculating distance... 2025-11-12 18:50:52
>> dealing with gene strand ... 2025-11-12 18:50:52
>> merging all info together ... 2025-11-12 18:50:52
>> done 2025-11-12 18:50:52
>> checking seqlevels match... 2025-11-12 18:50:52
>> your peak_GR seqlevel:Chr5...
>> your Txdb seqlevel:Chr1 Chr2 Chr3 Chr4 Chr5 ChrM ChrC...
Good, your Chrs in peak_GR is all in Txdb
>> checking seqlevels match... 2025-11-12 18:50:52
>> your peak_GR seqlevel:Chr5...
>> your Txdb seqlevel:Chr1 Chr2 Chr3 Chr4 Chr5 ChrM ChrC...
Good, your Chrs in peak_GR is all in Txdb
------------
annotating Peak using nearest gene mode begins
>> preparing gene features information... 2025-11-12 18:50:52
>> finding nearest gene and calculating distance... 2025-11-12 18:50:53
>> dealing with gene strand ... 2025-11-12 18:50:53
>> merging all info together ... 2025-11-12 18:50:53
>> done 2025-11-12 18:50:53
It seems that there 1 genes have not been annotated by nearestGene mode
>> checking seqlevels match... 2025-11-12 18:50:53
>> your peak_GR seqlevel:Chr5...
>> your Txdb seqlevel:Chr1 Chr2 Chr3 Chr4 Chr5 ChrM ChrC...
Good, your Chrs in peak_GR is all in Txdb
>> checking seqlevels match... 2025-11-12 18:50:53
>> your peak_GR seqlevel:Chr5...
>> your Txdb seqlevel:Chr1 Chr2 Chr3 Chr4 Chr5 ChrM ChrC...
Good, your Chrs in peak_GR is all in Txdb
------------
annotating Peak using nearest gene mode begins
>> preparing gene features information... 2025-11-12 18:50:53
>> finding nearest gene and calculating distance... 2025-11-12 18:50:53
>> dealing with gene strand ... 2025-11-12 18:50:53
>> merging all info together ... 2025-11-12 18:50:53
>> done 2025-11-12 18:50:53
It seems that there 1 genes have not been annotated by nearestGene mode
>> checking seqlevels match... 2025-11-12 18:50:54
>> your peak_GR seqlevel:Chr5...
>> your Txdb seqlevel:Chr1 Chr2 Chr3 Chr4 Chr5 ChrM ChrC...
Good, your Chrs in peak_GR is all in Txdb
>> checking seqlevels match... 2025-11-12 18:50:54
>> your peak_GR seqlevel:Chr5...
>> your Txdb seqlevel:Chr1 Chr2 Chr3 Chr4 Chr5 ChrM ChrC...
Good, your Chrs in peak_GR is all in Txdb
>> some scan range may cross Chr bound, trimming... 2025-11-12 18:50:54
>> checking seqlevels match... 2025-11-12 18:50:55
>> your peak_GR seqlevel:Chr5...
>> your Txdb seqlevel:Chr1 Chr2 Chr3 Chr4 Chr5 ChrM ChrC...
Good, your Chrs in peak_GR is all in Txdb
>> some scan range may cross Chr bound, trimming... 2025-11-12 18:50:55
Good, your two matrix colnames matchs
>> calculating cor and pvalue, which may be time consuming... 2025-11-12 18:50:55
>> merging all info together... 2025-11-12 18:50:55
>> done 2025-11-12 18:50:56
>> checking seqlevels match... 2025-11-12 18:50:56
>> your peak_GR seqlevel:Chr5...
>> your Txdb seqlevel:Chr1 Chr2 Chr3 Chr4 Chr5 ChrM ChrC...
Good, your Chrs in peak_GR is all in Txdb
>> using scanPromoter parameter to scan promoter for each gene... 2025-11-12 18:50:56
>> checking seqlevels match... 2025-11-12 18:50:56
>> your peak_GR seqlevel:Chr5...
>> your Txdb seqlevel:Chr1 Chr2 Chr3 Chr4 Chr5 ChrM ChrC...
Good, your Chrs in peak_GR is all in Txdb
>> some scan range may cross Chr bound, trimming... 2025-11-12 18:50:56
>> there are 85 gene have scaned promoter
>> using scanEnhancer parameter to scan Enhancer for each gene... 2025-11-12 18:50:56
>> checking seqlevels match... 2025-11-12 18:50:56
>> your peak_GR seqlevel:Chr5...
>> your Txdb seqlevel:Chr1 Chr2 Chr3 Chr4 Chr5 ChrM ChrC...
Good, your Chrs in peak_GR is all in Txdb
>> some scan range may cross Chr bound, trimming... 2025-11-12 18:50:56
>> calculating cor and pvalue, which may be time consuming... 2025-11-12 18:50:56
>> merging all info together... 2025-11-12 18:50:56
>> done 2025-11-12 18:50:56
Good, your two matrix colnames matchs
>> calculating cor and pvalue, which may be time consuming... 2025-11-12 18:50:56
>> merging all info together... 2025-11-12 18:50:56
>> done 2025-11-12 18:50:56
>> checking seqlevels match... 2025-11-12 18:50:56
>> your peak_GR seqlevel:Chr5...
>> your Txdb seqlevel:Chr1 Chr2 Chr3 Chr4 Chr5 ChrM ChrC...
Good, your Chrs in peak_GR is all in Txdb
------------
annotatePeak using geneScan mode begins
>> preparing gene features information and scan region... 2025-11-12 18:50:57
>> some scan range may cross Chr bound, trimming... 2025-11-12 18:50:57
>> finding overlap peak in gene scan region... 2025-11-12 18:50:57
>> dealing with left peak not your gene scan region... 2025-11-12 18:50:57
>> merging two set peaks... 2025-11-12 18:50:57
>> calculating distance and dealing with gene strand... 2025-11-12 18:50:57
>> merging all info together ... 2025-11-12 18:50:57
>> done 2025-11-12 18:50:57
Good, your two matrix colnames matchs
>> calculating cor and pvalue, which may be time consuming... 2025-11-12 18:50:57
>> merging all info together... 2025-11-12 18:50:57
>> done 2025-11-12 18:50:57
>> checking seqlevels match... 2025-11-12 18:50:57
>> your peak_GR seqlevel:Chr5...
>> your Txdb seqlevel:Chr1 Chr2 Chr3 Chr4 Chr5 ChrM ChrC...
Good, your Chrs in peak_GR is all in Txdb
>> using scanPromoter parameter to scan promoter for each gene... 2025-11-12 18:50:57
>> checking seqlevels match... 2025-11-12 18:50:57
>> your peak_GR seqlevel:Chr5...
>> your Txdb seqlevel:Chr1 Chr2 Chr3 Chr4 Chr5 ChrM ChrC...
Good, your Chrs in peak_GR is all in Txdb
>> some scan range may cross Chr bound, trimming... 2025-11-12 18:50:58
>> there are 85 gene have scaned promoter
>> using scanEnhancer parameter to scan Enhancer for each gene... 2025-11-12 18:50:58
>> checking seqlevels match... 2025-11-12 18:50:58
>> your peak_GR seqlevel:Chr5...
>> your Txdb seqlevel:Chr1 Chr2 Chr3 Chr4 Chr5 ChrM ChrC...
Good, your Chrs in peak_GR is all in Txdb
>> some scan range may cross Chr bound, trimming... 2025-11-12 18:50:58
>> calculating cor and pvalue, which may be time consuming... 2025-11-12 18:50:58
>> merging all info together... 2025-11-12 18:50:58
>> done 2025-11-12 18:50:58
Joining with `by = join_by(feature_id)`
Joining with `by = join_by(feature_id)`
`geom_smooth()` using formula = 'y ~ x'
Joining with `by = join_by(feature_id)`
Joining with `by = join_by(feature_id)`
`geom_smooth()` using formula = 'y ~ x'
[ FAIL 0 | WARN 0 | SKIP 0 | PASS 65 ]
>
> proc.time()
user system elapsed
23.976 1.454 26.825
FindIT2.Rcheck/FindIT2-Ex.timings
| name | user | system | elapsed | |
| TF_target_database | 0.000 | 0.001 | 0.001 | |
| calcRP_TFHit | 1.364 | 0.047 | 1.566 | |
| calcRP_coverage | 1.338 | 0.381 | 1.819 | |
| calcRP_region | 2.086 | 0.063 | 2.274 | |
| enhancerPromoterCor | 0.946 | 0.048 | 1.033 | |
| findIT_MARA | 0.150 | 0.006 | 0.157 | |
| findIT_TFHit | 0.342 | 0.021 | 0.387 | |
| findIT_TTPair | 0.028 | 0.003 | 0.032 | |
| findIT_enrichFisher | 0.049 | 0.001 | 0.052 | |
| findIT_enrichWilcox | 0.059 | 0.002 | 0.073 | |
| findIT_regionRP | 2.059 | 0.061 | 2.325 | |
| getAssocPairNumber | 0.410 | 0.021 | 0.455 | |
| integrate_ChIP_RNA | 0.768 | 0.034 | 0.825 | |
| integrate_replicates | 0.001 | 0.000 | 0.001 | |
| jaccard_findIT_TTpair | 0.035 | 0.004 | 0.043 | |
| jaccard_findIT_enrichFisher | 0.065 | 0.002 | 0.068 | |
| loadPeakFile | 0.022 | 0.001 | 0.024 | |
| mm_geneBound | 0.416 | 0.016 | 0.450 | |
| mm_geneScan | 0.429 | 0.022 | 0.491 | |
| mm_nearestGene | 0.400 | 0.017 | 0.444 | |
| peakGeneCor | 0.815 | 0.028 | 0.892 | |
| plot_annoDistance | 0.635 | 0.017 | 0.682 | |
| plot_peakGeneAlias_summary | 0.931 | 0.029 | 0.996 | |
| plot_peakGeneCor | 1.020 | 0.047 | 1.130 | |
| test_geneSet | 0.000 | 0.001 | 0.000 | |