| Back to Build/check report for BioC 3.23: simplified long |
|
This page was generated on 2025-11-08 11:32 -0500 (Sat, 08 Nov 2025).
| Hostname | OS | Arch (*) | R version | Installed pkgs |
|---|---|---|---|---|
| nebbiolo1 | Linux (Ubuntu 24.04.3 LTS) | x86_64 | R Under development (unstable) (2025-10-20 r88955) -- "Unsuffered Consequences" | 4821 |
| Click on any hostname to see more info about the system (e.g. compilers) (*) as reported by 'uname -p', except on Windows and Mac OS X | ||||
|
To the developers/maintainers of the BiocStyle package: - Allow up to 24 hours (and sometimes 48 hours) for your latest push to git@git.bioconductor.org:packages/BiocStyle.git to reflect on this report. See Troubleshooting Build Report for more information. - Use the following Renviron settings to reproduce errors and warnings. - If 'R CMD check' started to fail recently on the Linux builder(s) over a missing dependency, add the missing dependency to 'Suggests:' in your DESCRIPTION file. See Renviron.bioc for more information. |
| Package 202/2323 | Hostname | OS / Arch | INSTALL | BUILD | CHECK | BUILD BIN | ||||||||
| BiocStyle 2.39.0 (landing page) Bioconductor Package Maintainer
| nebbiolo1 | Linux (Ubuntu 24.04.3 LTS) / x86_64 | OK | OK | OK | |||||||||
| QUICK STATS | OS / Arch | INSTALL | BUILD | CHECK | BUILD BIN | ||||||||||||||
| nebbiolo1 | Linux (Ubuntu 24.04.3 LTS) / x86_64 |
|
|
| |||||||||||||||
| Package 1/41 | Hostname | OS / Arch | INSTALL | BUILD | CHECK | BUILD BIN | |||||||||||||
| abseqR 1.29.0 (landing page) JiaHong Fong
| nebbiolo1 | Linux (Ubuntu 24.04.3 LTS) / x86_64 | OK | OK | OK | ||||||||||||||
| Package 2/41 | Hostname | OS / Arch | INSTALL | BUILD | CHECK | BUILD BIN | |||||||||||||
| ASpli 2.21.0 (landing page) Ariel Chernomoretz
| nebbiolo1 | Linux (Ubuntu 24.04.3 LTS) / x86_64 | OK | OK | WARNINGS | ||||||||||||||
| Package 3/41 | Hostname | OS / Arch | INSTALL | BUILD | CHECK | BUILD BIN | |||||||||||||
| bandle 1.15.0 (landing page) Oliver M. Crook
| nebbiolo1 | Linux (Ubuntu 24.04.3 LTS) / x86_64 | OK | OK | WARNINGS | ||||||||||||||
| Package 4/41 | Hostname | OS / Arch | INSTALL | BUILD | CHECK | BUILD BIN | |||||||||||||
| BiocWorkflowTools 1.37.0 (landing page) Mike Smith
| nebbiolo1 | Linux (Ubuntu 24.04.3 LTS) / x86_64 | OK | OK | OK | ||||||||||||||
| Package 5/41 | Hostname | OS / Arch | INSTALL | BUILD | CHECK | BUILD BIN | |||||||||||||
| BioGA 1.5.0 (landing page) Dany Mukesha
| nebbiolo1 | Linux (Ubuntu 24.04.3 LTS) / x86_64 | OK | OK | OK | ||||||||||||||
| Package 6/41 | Hostname | OS / Arch | INSTALL | BUILD | CHECK | BUILD BIN | |||||||||||||
| BPRMeth 1.37.0 (landing page) Chantriolnt-Andreas Kapourani
| nebbiolo1 | Linux (Ubuntu 24.04.3 LTS) / x86_64 | OK | OK | ERROR | ||||||||||||||
| Package 7/41 | Hostname | OS / Arch | INSTALL | BUILD | CHECK | BUILD BIN | |||||||||||||
| broadSeq 1.5.0 (landing page) Rishi Das Roy
| nebbiolo1 | Linux (Ubuntu 24.04.3 LTS) / x86_64 | OK | OK | WARNINGS | ||||||||||||||
| Package 8/41 | Hostname | OS / Arch | INSTALL | BUILD | CHECK | BUILD BIN | |||||||||||||
| BubbleTree 2.41.0 (landing page) Todd Creasy
| nebbiolo1 | Linux (Ubuntu 24.04.3 LTS) / x86_64 | OK | ERROR | skipped | ||||||||||||||
| Package 9/41 | Hostname | OS / Arch | INSTALL | BUILD | CHECK | BUILD BIN | |||||||||||||
| chimeraviz 1.37.0 (landing page) Stian Lågstad
| nebbiolo1 | Linux (Ubuntu 24.04.3 LTS) / x86_64 | OK | OK | OK | ||||||||||||||
| Package 10/41 | Hostname | OS / Arch | INSTALL | BUILD | CHECK | BUILD BIN | |||||||||||||
| COMPASS 1.49.0 (landing page) Greg Finak
| nebbiolo1 | Linux (Ubuntu 24.04.3 LTS) / x86_64 | OK | OK | OK | ||||||||||||||
| Package 11/41 | Hostname | OS / Arch | INSTALL | BUILD | CHECK | BUILD BIN | |||||||||||||
| DiscoRhythm 1.27.0 (landing page) Matthew Carlucci
| nebbiolo1 | Linux (Ubuntu 24.04.3 LTS) / x86_64 | OK | OK | OK | ||||||||||||||
| Package 12/41 | Hostname | OS / Arch | INSTALL | BUILD | CHECK | BUILD BIN | |||||||||||||
| EasyCellType 1.13.0 (landing page) Ruoxing Li
| nebbiolo1 | Linux (Ubuntu 24.04.3 LTS) / x86_64 | OK | OK | OK | ||||||||||||||
| Package 13/41 | Hostname | OS / Arch | INSTALL | BUILD | CHECK | BUILD BIN | |||||||||||||
| ExpressionAtlas 2.3.0 (landing page) Anil Thanki
| nebbiolo1 | Linux (Ubuntu 24.04.3 LTS) / x86_64 | OK | OK | OK | ||||||||||||||
| Package 14/41 | Hostname | OS / Arch | INSTALL | BUILD | CHECK | BUILD BIN | |||||||||||||
| gDRstyle 1.9.1 (landing page) Arkadiusz Gladki
| nebbiolo1 | Linux (Ubuntu 24.04.3 LTS) / x86_64 | OK | OK | OK | ||||||||||||||
| Package 15/41 | Hostname | OS / Arch | INSTALL | BUILD | CHECK | BUILD BIN | |||||||||||||
| geneXtendeR 1.37.0 (landing page) Bohdan Khomtchouk
| nebbiolo1 | Linux (Ubuntu 24.04.3 LTS) / x86_64 | OK | OK | WARNINGS | ||||||||||||||
| Package 16/41 | Hostname | OS / Arch | INSTALL | BUILD | CHECK | BUILD BIN | |||||||||||||
| geyser 1.3.0 (landing page) David McGaughey
| nebbiolo1 | Linux (Ubuntu 24.04.3 LTS) / x86_64 | OK | OK | OK | ||||||||||||||
| Package 17/41 | Hostname | OS / Arch | INSTALL | BUILD | CHECK | BUILD BIN | |||||||||||||
| hdxmsqc 1.7.0 (landing page) Oliver M. Crook
| nebbiolo1 | Linux (Ubuntu 24.04.3 LTS) / x86_64 | OK | OK | OK | ||||||||||||||
| Package 18/41 | Hostname | OS / Arch | INSTALL | BUILD | CHECK | BUILD BIN | |||||||||||||
| iNETgrate 1.9.0 (landing page) Habil Zare
| nebbiolo1 | Linux (Ubuntu 24.04.3 LTS) / x86_64 | OK | OK | OK | ||||||||||||||
| Package 19/41 | Hostname | OS / Arch | INSTALL | BUILD | CHECK | BUILD BIN | |||||||||||||
| Melissa 1.27.0 (landing page) C. A. Kapourani
| nebbiolo1 | Linux (Ubuntu 24.04.3 LTS) / x86_64 | OK | OK | OK | ||||||||||||||
| Package 20/41 | Hostname | OS / Arch | INSTALL | BUILD | CHECK | BUILD BIN | |||||||||||||
| meshr 2.17.0 (landing page) Koki Tsuyuzaki
| nebbiolo1 | Linux (Ubuntu 24.04.3 LTS) / x86_64 | OK | OK | OK | ||||||||||||||
| Package 21/41 | Hostname | OS / Arch | INSTALL | BUILD | CHECK | BUILD BIN | |||||||||||||
| methodical 1.7.0 (landing page) Richard Heery
| nebbiolo1 | Linux (Ubuntu 24.04.3 LTS) / x86_64 | OK | OK | WARNINGS | ||||||||||||||
| Package 22/41 | Hostname | OS / Arch | INSTALL | BUILD | CHECK | BUILD BIN | |||||||||||||
| MSnID 1.45.0 (landing page) Vlad Petyuk
| nebbiolo1 | Linux (Ubuntu 24.04.3 LTS) / x86_64 | OK | OK | OK | ||||||||||||||
| Package 23/41 | Hostname | OS / Arch | INSTALL | BUILD | CHECK | BUILD BIN | |||||||||||||
| netboost 2.19.0 (landing page) Pascal Schlosser
| nebbiolo1 | Linux (Ubuntu 24.04.3 LTS) / x86_64 | OK | OK | WARNINGS | ||||||||||||||
| Package 24/41 | Hostname | OS / Arch | INSTALL | BUILD | CHECK | BUILD BIN | |||||||||||||
| netresponse 1.71.0 (landing page) Leo Lahti
| nebbiolo1 | Linux (Ubuntu 24.04.3 LTS) / x86_64 | OK | OK | OK | ||||||||||||||
| Package 25/41 | Hostname | OS / Arch | INSTALL | BUILD | CHECK | BUILD BIN | |||||||||||||
| partCNV 1.9.0 (landing page) Ziyi Li
| nebbiolo1 | Linux (Ubuntu 24.04.3 LTS) / x86_64 | OK | OK | OK | ||||||||||||||
| Package 26/41 | Hostname | OS / Arch | INSTALL | BUILD | CHECK | BUILD BIN | |||||||||||||
| PathoStat 1.37.0 (landing page) Solaiappan Manimaran
| nebbiolo1 | Linux (Ubuntu 24.04.3 LTS) / x86_64 | OK | OK | OK | ||||||||||||||
| Package 27/41 | Hostname | OS / Arch | INSTALL | BUILD | CHECK | BUILD BIN | |||||||||||||
| PhyloProfile 2.3.1 (landing page) Vinh Tran
| nebbiolo1 | Linux (Ubuntu 24.04.3 LTS) / x86_64 | OK | OK | OK | ||||||||||||||
| Package 28/41 | Hostname | OS / Arch | INSTALL | BUILD | CHECK | BUILD BIN | |||||||||||||
| Pigengene 1.37.0 (landing page) Habil Zare
| nebbiolo1 | Linux (Ubuntu 24.04.3 LTS) / x86_64 | OK | OK | ERROR | ||||||||||||||
| Package 29/41 | Hostname | OS / Arch | INSTALL | BUILD | CHECK | BUILD BIN | |||||||||||||
| PLSDAbatch 1.7.0 (landing page) Yiwen (Eva) Wang
| nebbiolo1 | Linux (Ubuntu 24.04.3 LTS) / x86_64 | OK | OK | OK | ||||||||||||||
| Package 30/41 | Hostname | OS / Arch | INSTALL | BUILD | CHECK | BUILD BIN | |||||||||||||
| rebook 1.21.0 (landing page) Aaron Lun
| nebbiolo1 | Linux (Ubuntu 24.04.3 LTS) / x86_64 | OK | OK | WARNINGS | ||||||||||||||
| Package 31/41 | Hostname | OS / Arch | INSTALL | BUILD | CHECK | BUILD BIN | |||||||||||||
| RegEnrich 1.21.0 (landing page) Weiyang Tao
| nebbiolo1 | Linux (Ubuntu 24.04.3 LTS) / x86_64 | OK | OK | OK | ||||||||||||||
| Package 32/41 | Hostname | OS / Arch | INSTALL | BUILD | CHECK | BUILD BIN | |||||||||||||
| RegionalST 1.9.0 (landing page) Ziyi Li
| nebbiolo1 | Linux (Ubuntu 24.04.3 LTS) / x86_64 | OK | OK | OK | ||||||||||||||
| Package 33/41 | Hostname | OS / Arch | INSTALL | BUILD | CHECK | BUILD BIN | |||||||||||||
| regionReport 1.45.0 (landing page) Leonardo Collado-Torres
| nebbiolo1 | Linux (Ubuntu 24.04.3 LTS) / x86_64 | OK | OK | OK | ||||||||||||||
| Package 34/41 | Hostname | OS / Arch | INSTALL | BUILD | CHECK | BUILD BIN | |||||||||||||
| Rmmquant 1.29.0 (landing page) Zytnicki Matthias
| nebbiolo1 | Linux (Ubuntu 24.04.3 LTS) / x86_64 | OK | OK | OK | ||||||||||||||
| Package 35/41 | Hostname | OS / Arch | INSTALL | BUILD | CHECK | BUILD BIN | |||||||||||||
| RPA 1.67.0 (landing page) Leo Lahti
| nebbiolo1 | Linux (Ubuntu 24.04.3 LTS) / x86_64 | OK | OK | OK | ||||||||||||||
| Package 36/41 | Hostname | OS / Arch | INSTALL | BUILD | CHECK | BUILD BIN | |||||||||||||
| Rqc 1.45.0 (landing page) Welliton Souza
| nebbiolo1 | Linux (Ubuntu 24.04.3 LTS) / x86_64 | OK | OK | OK | ||||||||||||||
| Package 37/41 | Hostname | OS / Arch | INSTALL | BUILD | CHECK | BUILD BIN | |||||||||||||
| sangeranalyseR 1.21.0 (landing page) Kuan-Hao Chao
| nebbiolo1 | Linux (Ubuntu 24.04.3 LTS) / x86_64 | ERROR | ERROR | skipped | ||||||||||||||
| Package 38/41 | Hostname | OS / Arch | INSTALL | BUILD | CHECK | BUILD BIN | |||||||||||||
| scMET 1.13.0 (landing page) Andreas C. Kapourani
| nebbiolo1 | Linux (Ubuntu 24.04.3 LTS) / x86_64 | OK | OK | OK | ||||||||||||||
| Package 39/41 | Hostname | OS / Arch | INSTALL | BUILD | CHECK | BUILD BIN | |||||||||||||
| scTensor 2.21.0 (landing page) Koki Tsuyuzaki
| nebbiolo1 | Linux (Ubuntu 24.04.3 LTS) / x86_64 | OK | OK | WARNINGS | ||||||||||||||
| Package 40/41 | Hostname | OS / Arch | INSTALL | BUILD | CHECK | BUILD BIN | |||||||||||||
| scTGIF 1.25.0 (landing page) Koki Tsuyuzaki
| nebbiolo1 | Linux (Ubuntu 24.04.3 LTS) / x86_64 | OK | OK | OK | ||||||||||||||
| Package 41/41 | Hostname | OS / Arch | INSTALL | BUILD | CHECK | BUILD BIN | |||||||||||||
| srnadiff 1.31.0 (landing page) Zytnicki Matthias
| nebbiolo1 | Linux (Ubuntu 24.04.3 LTS) / x86_64 | OK | OK | WARNINGS | ||||||||||||||