Back to Build/check report for BioC 3.23:   simplified   long
ABCDEFGH[I]JKLMNOPQRSTUVWXYZ

This page was generated on 2025-11-08 11:32 -0500 (Sat, 08 Nov 2025).

HostnameOSArch (*)R versionInstalled pkgs
nebbiolo1Linux (Ubuntu 24.04.3 LTS)x86_64R Under development (unstable) (2025-10-20 r88955) -- "Unsuffered Consequences" 4821
Click on any hostname to see more info about the system (e.g. compilers)      (*) as reported by 'uname -p', except on Windows and Mac OS X

Package 1043/2323HostnameOS / ArchINSTALLBUILDCHECKBUILD BIN
iNETgrate 1.9.0  (landing page)
Habil Zare
Snapshot Date: 2025-11-07 13:40 -0500 (Fri, 07 Nov 2025)
git_url: https://git.bioconductor.org/packages/iNETgrate
git_branch: devel
git_last_commit: 81fc611
git_last_commit_date: 2025-10-29 11:23:49 -0500 (Wed, 29 Oct 2025)
nebbiolo1Linux (Ubuntu 24.04.3 LTS) / x86_64  OK    OK    OK  NO, package depends on 'Pigengene' which is not available


CHECK results for iNETgrate on nebbiolo1

To the developers/maintainers of the iNETgrate package:
- Allow up to 24 hours (and sometimes 48 hours) for your latest push to git@git.bioconductor.org:packages/iNETgrate.git to reflect on this report. See Troubleshooting Build Report for more information.
- Use the following Renviron settings to reproduce errors and warnings.
- If 'R CMD check' started to fail recently on the Linux builder(s) over a missing dependency, add the missing dependency to 'Suggests:' in your DESCRIPTION file. See Renviron.bioc for more information.

raw results


Summary

Package: iNETgrate
Version: 1.9.0
Command: /home/biocbuild/bbs-3.23-bioc/R/bin/R CMD check --install=check:iNETgrate.install-out.txt --library=/home/biocbuild/bbs-3.23-bioc/R/site-library --timings iNETgrate_1.9.0.tar.gz
StartedAt: 2025-11-08 00:35:41 -0500 (Sat, 08 Nov 2025)
EndedAt: 2025-11-08 00:53:14 -0500 (Sat, 08 Nov 2025)
EllapsedTime: 1053.5 seconds
RetCode: 0
Status:   OK  
CheckDir: iNETgrate.Rcheck
Warnings: 0

Command output

##############################################################################
##############################################################################
###
### Running command:
###
###   /home/biocbuild/bbs-3.23-bioc/R/bin/R CMD check --install=check:iNETgrate.install-out.txt --library=/home/biocbuild/bbs-3.23-bioc/R/site-library --timings iNETgrate_1.9.0.tar.gz
###
##############################################################################
##############################################################################


* using log directory ‘/home/biocbuild/bbs-3.23-bioc/meat/iNETgrate.Rcheck’
* using R Under development (unstable) (2025-10-20 r88955)
* using platform: x86_64-pc-linux-gnu
* R was compiled by
    gcc (Ubuntu 13.3.0-6ubuntu2~24.04) 13.3.0
    GNU Fortran (Ubuntu 13.3.0-6ubuntu2~24.04) 13.3.0
* running under: Ubuntu 24.04.3 LTS
* using session charset: UTF-8
* checking for file ‘iNETgrate/DESCRIPTION’ ... OK
* checking extension type ... Package
* this is package ‘iNETgrate’ version ‘1.9.0’
* checking package namespace information ... OK
* checking package dependencies ... OK
* checking if this is a source package ... OK
* checking if there is a namespace ... OK
* checking for hidden files and directories ... OK
* checking for portable file names ... OK
* checking for sufficient/correct file permissions ... OK
* checking whether package ‘iNETgrate’ can be installed ... OK
* checking installed package size ... OK
* checking package directory ... OK
* checking ‘build’ directory ... OK
* checking DESCRIPTION meta-information ... OK
* checking top-level files ... OK
* checking for left-over files ... OK
* checking index information ... OK
* checking package subdirectories ... OK
* checking code files for non-ASCII characters ... OK
* checking R files for syntax errors ... OK
* checking whether the package can be loaded ... OK
* checking whether the package can be loaded with stated dependencies ... OK
* checking whether the package can be unloaded cleanly ... OK
* checking whether the namespace can be loaded with stated dependencies ... OK
* checking whether the namespace can be unloaded cleanly ... OK
* checking loading without being on the library search path ... OK
* checking dependencies in R code ... OK
* checking S3 generic/method consistency ... OK
* checking replacement functions ... OK
* checking foreign function calls ... OK
* checking R code for possible problems ... OK
* checking Rd files ... OK
* checking Rd metadata ... OK
* checking Rd cross-references ... OK
* checking for missing documentation entries ... OK
* checking for code/documentation mismatches ... OK
* checking Rd \usage sections ... OK
* checking Rd contents ... OK
* checking for unstated dependencies in examples ... OK
* checking contents of ‘data’ directory ... OK
* checking data for non-ASCII characters ... OK
* checking data for ASCII and uncompressed saves ... OK
* checking sizes of PDF files under ‘inst/doc’ ...* checking files in ‘vignettes’ ... OK
* checking examples ... OK
Examples with CPU (user + system) or elapsed time > 5s
                     user system elapsed
iNETgrate         129.045  1.371 130.423
toyEigengenes      63.432  0.515  63.948
computEigengenes   62.647  0.475  63.130
toyComputEloci     50.116  1.118  51.238
analyzeSurvival    49.553  0.553  49.957
makeNetwork        45.214  0.193  45.407
computEigenloci    15.381  0.613  15.995
cleanAllData       12.686  0.712  13.395
accelFailAnalysis   6.450  0.168   6.581
* checking for unstated dependencies in vignettes ... OK
* checking package vignettes ... OK
* checking re-building of vignette outputs ... OK
* checking PDF version of manual ... OK
* DONE

Status: OK


Installation output

iNETgrate.Rcheck/00install.out

##############################################################################
##############################################################################
###
### Running command:
###
###   /home/biocbuild/bbs-3.23-bioc/R/bin/R CMD INSTALL iNETgrate
###
##############################################################################
##############################################################################


* installing to library ‘/home/biocbuild/bbs-3.23-bioc/R/site-library’
* installing *source* package ‘iNETgrate’ ...
** this is package ‘iNETgrate’ version ‘1.9.0’
** using staged installation
** R
** data
** inst
** byte-compile and prepare package for lazy loading
** help
*** installing help indices
** building package indices
** installing vignettes
** testing if installed package can be loaded from temporary location
** testing if installed package can be loaded from final location
** testing if installed package keeps a record of temporary installation path
* DONE (iNETgrate)

Tests output


Example timings

iNETgrate.Rcheck/iNETgrate-Ex.timings

nameusersystemelapsed
accelFailAnalysis6.4500.1686.581
analyzeSurvival49.553 0.55349.957
bestInetgrator0.2070.0380.258
cleanAllData12.686 0.71213.395
computEigengenes62.647 0.47563.130
computEigenloci15.381 0.61315.995
computeInetgrator0.2280.0440.272
computeUnion2.0650.0492.115
coxAnalysis2.0050.0352.040
createLocusGene0.1880.0050.194
distanceToTss3.0410.0433.084
downloaData000
electGenes2.5890.0102.589
filterLowCor0.5050.0040.508
findAliveCutoff0.1920.0030.196
findCore2.0310.0322.062
findTcgaDuplicates0.2450.0060.251
iNETgrate-package0.2110.0250.235
iNETgrate129.045 1.371130.423
inferEigengenes0.2210.0190.240
makeNetwork45.214 0.19345.407
plotKM0.4140.0100.424
plotLociNum0.3350.0080.343
plotLociTss0.0480.0010.049
prepareSurvival0.2060.0090.215
preprocessDnam0.9340.0240.959
sample2pat0.2280.0040.232
sampleData0.7911.1531.943
toyCleanedAml0.1680.0050.173
toyComputEloci50.116 1.11851.238
toyEigengenes63.432 0.51563.948
toyRawAml0.2040.0010.205