Back to Build/check report for BioC 3.23:   simplified   long
A[B]CDEFGHIJKLMNOPQRSTUVWXYZ

This page was generated on 2025-11-08 11:32 -0500 (Sat, 08 Nov 2025).

HostnameOSArch (*)R versionInstalled pkgs
nebbiolo1Linux (Ubuntu 24.04.3 LTS)x86_64R Under development (unstable) (2025-10-20 r88955) -- "Unsuffered Consequences" 4821
Click on any hostname to see more info about the system (e.g. compilers)      (*) as reported by 'uname -p', except on Windows and Mac OS X

Package 175/2323HostnameOS / ArchINSTALLBUILDCHECKBUILD BIN
BindingSiteFinder 2.9.0  (landing page)
Mirko Brüggemann
Snapshot Date: 2025-11-07 13:40 -0500 (Fri, 07 Nov 2025)
git_url: https://git.bioconductor.org/packages/BindingSiteFinder
git_branch: devel
git_last_commit: 885c4f6
git_last_commit_date: 2025-10-29 11:10:55 -0500 (Wed, 29 Oct 2025)
nebbiolo1Linux (Ubuntu 24.04.3 LTS) / x86_64  OK    OK    OK  UNNEEDED, same version is already published


CHECK results for BindingSiteFinder on nebbiolo1

To the developers/maintainers of the BindingSiteFinder package:
- Allow up to 24 hours (and sometimes 48 hours) for your latest push to git@git.bioconductor.org:packages/BindingSiteFinder.git to reflect on this report. See Troubleshooting Build Report for more information.
- Use the following Renviron settings to reproduce errors and warnings.
- If 'R CMD check' started to fail recently on the Linux builder(s) over a missing dependency, add the missing dependency to 'Suggests:' in your DESCRIPTION file. See Renviron.bioc for more information.

raw results


Summary

Package: BindingSiteFinder
Version: 2.9.0
Command: /home/biocbuild/bbs-3.23-bioc/R/bin/R CMD check --install=check:BindingSiteFinder.install-out.txt --library=/home/biocbuild/bbs-3.23-bioc/R/site-library --timings BindingSiteFinder_2.9.0.tar.gz
StartedAt: 2025-11-07 21:19:45 -0500 (Fri, 07 Nov 2025)
EndedAt: 2025-11-07 21:36:06 -0500 (Fri, 07 Nov 2025)
EllapsedTime: 981.5 seconds
RetCode: 0
Status:   OK  
CheckDir: BindingSiteFinder.Rcheck
Warnings: 0

Command output

##############################################################################
##############################################################################
###
### Running command:
###
###   /home/biocbuild/bbs-3.23-bioc/R/bin/R CMD check --install=check:BindingSiteFinder.install-out.txt --library=/home/biocbuild/bbs-3.23-bioc/R/site-library --timings BindingSiteFinder_2.9.0.tar.gz
###
##############################################################################
##############################################################################


* using log directory ‘/home/biocbuild/bbs-3.23-bioc/meat/BindingSiteFinder.Rcheck’
* using R Under development (unstable) (2025-10-20 r88955)
* using platform: x86_64-pc-linux-gnu
* R was compiled by
    gcc (Ubuntu 13.3.0-6ubuntu2~24.04) 13.3.0
    GNU Fortran (Ubuntu 13.3.0-6ubuntu2~24.04) 13.3.0
* running under: Ubuntu 24.04.3 LTS
* using session charset: UTF-8
* checking for file ‘BindingSiteFinder/DESCRIPTION’ ... OK
* checking extension type ... Package
* this is package ‘BindingSiteFinder’ version ‘2.9.0’
* package encoding: UTF-8
* checking package namespace information ... OK
* checking package dependencies ... OK
* checking if this is a source package ... OK
* checking if there is a namespace ... OK
* checking for hidden files and directories ... OK
* checking for portable file names ... OK
* checking for sufficient/correct file permissions ... OK
* checking whether package ‘BindingSiteFinder’ can be installed ... OK
* checking installed package size ... OK
* checking package directory ... OK
* checking ‘build’ directory ... OK
* checking DESCRIPTION meta-information ... OK
* checking top-level files ... OK
* checking for left-over files ... OK
* checking index information ... OK
* checking package subdirectories ... OK
* checking code files for non-ASCII characters ... OK
* checking R files for syntax errors ... OK
* checking whether the package can be loaded ... OK
* checking whether the package can be loaded with stated dependencies ... OK
* checking whether the package can be unloaded cleanly ... OK
* checking whether the namespace can be loaded with stated dependencies ... OK
* checking whether the namespace can be unloaded cleanly ... OK
* checking loading without being on the library search path ... OK
* checking dependencies in R code ... OK
* checking S3 generic/method consistency ... OK
* checking replacement functions ... OK
* checking foreign function calls ... OK
* checking R code for possible problems ... OK
* checking Rd files ... OK
* checking Rd metadata ... OK
* checking Rd cross-references ... NOTE
Found the following Rd file(s) with Rd \link{} targets missing package
anchors:
  BSFind.Rd: GenomicRanges, CompressedGRangesList
  annotateWithScore.Rd: GenomicRanges
  assignToGenes.Rd: GenomicRanges, overlaps
  assignToTranscriptRegions.Rd: CompressedGRangesList, overlaps
  bindingSiteDefinednessPlot.Rd: ggplot
  calculateBsBackground.Rd: GenomicRanges
  duplicatedSitesPlot.Rd: ggplot
  estimateBsWidth.Rd: GenomicRanges
  estimateBsWidthPlot.Rd: ggplot
  geneOverlapsPlot.Rd: ggplot
  geneRegulationPlot.Rd: GenomicRanges
  globalScorePlot.Rd: ggplot
  makeBsSummaryPlot.Rd: ggplot
  mergeCrosslinkDiagnosticsPlot.Rd: ggplot
  plotBsBackgroundFilter.Rd: ggplot
  plotBsMA.Rd: ggplot
  plotBsVolcano.Rd: ggplot
  processingStepsFlowChart.Rd: ggplot
  pureClipGeneWiseFilter.Rd: GenomicRanges, overlaps
  pureClipGlobalFilter.Rd: GenomicRanges
  pureClipGlobalFilterPlot.Rd: ggplot
  reproducibilityFilterPlot.Rd: ggplot
  reproducibilitySamplesPlot.Rd: ggplot
  targetGeneSpectrumPlot.Rd: ggplot
  transcriptRegionOverlapsPlot.Rd: ggplot
  transcriptRegionSpectrumPlot.Rd: ggplot
Please provide package anchors for all Rd \link{} targets not in the
package itself and the base packages.
* checking for missing documentation entries ... OK
* checking for code/documentation mismatches ... OK
* checking Rd \usage sections ... OK
* checking Rd contents ... OK
* checking for unstated dependencies in examples ... OK
* checking files in ‘vignettes’ ... OK
* checking examples ... OK
Examples with CPU (user + system) or elapsed time > 5s
                             user system elapsed
bindingSiteDefinednessPlot 35.635  0.488  41.259
quickFigure                33.396  1.065  34.462
processingStepsFlowChart   27.045  0.981  28.031
BSFind                     26.774  0.551  27.331
calculateBsFoldChange      19.468  0.156  19.778
plotBsMA                   11.425  0.051  11.478
plotBsVolcano              10.897  0.058  10.956
geneRegulationPlot         10.735  0.033  10.768
bindingSiteCoveragePlot     9.601  0.167   9.768
estimateBsWidthPlot         9.397  0.076   9.473
estimateBsWidth             8.826  0.038   8.864
rangeCoveragePlot           6.486  1.562   8.052
calculateBsBackground       7.064  0.090   7.768
reproducibilityScatterPlot  5.047  0.066   5.113
plotBsBackgroundFilter      5.034  0.067   5.101
* checking for unstated dependencies in ‘tests’ ... OK
* checking tests ...
  Running ‘testthat.R’
 OK
* checking for unstated dependencies in vignettes ... OK
* checking package vignettes ... OK
* checking re-building of vignette outputs ... OK
* checking PDF version of manual ... OK
* DONE

Status: 1 NOTE
See
  ‘/home/biocbuild/bbs-3.23-bioc/meat/BindingSiteFinder.Rcheck/00check.log’
for details.


Installation output

BindingSiteFinder.Rcheck/00install.out

##############################################################################
##############################################################################
###
### Running command:
###
###   /home/biocbuild/bbs-3.23-bioc/R/bin/R CMD INSTALL BindingSiteFinder
###
##############################################################################
##############################################################################


* installing to library ‘/home/biocbuild/bbs-3.23-bioc/R/site-library’
* installing *source* package ‘BindingSiteFinder’ ...
** this is package ‘BindingSiteFinder’ version ‘2.9.0’
** using staged installation
** R
** inst
** byte-compile and prepare package for lazy loading
** help
*** installing help indices
** building package indices
** installing vignettes
** testing if installed package can be loaded from temporary location
** testing if installed package can be loaded from final location
** testing if installed package keeps a record of temporary installation path
* DONE (BindingSiteFinder)

Tests output

BindingSiteFinder.Rcheck/tests/testthat.Rout


R Under development (unstable) (2025-10-20 r88955) -- "Unsuffered Consequences"
Copyright (C) 2025 The R Foundation for Statistical Computing
Platform: x86_64-pc-linux-gnu

R is free software and comes with ABSOLUTELY NO WARRANTY.
You are welcome to redistribute it under certain conditions.
Type 'license()' or 'licence()' for distribution details.

R is a collaborative project with many contributors.
Type 'contributors()' for more information and
'citation()' on how to cite R or R packages in publications.

Type 'demo()' for some demos, 'help()' for on-line help, or
'help.start()' for an HTML browser interface to help.
Type 'q()' to quit R.

> library("testthat")
> library("BindingSiteFinder")
Loading required package: GenomicRanges
Loading required package: stats4
Loading required package: BiocGenerics
Loading required package: generics

Attaching package: 'generics'

The following objects are masked from 'package:base':

    as.difftime, as.factor, as.ordered, intersect, is.element, setdiff,
    setequal, union


Attaching package: 'BiocGenerics'

The following objects are masked from 'package:stats':

    IQR, mad, sd, var, xtabs

The following objects are masked from 'package:base':

    Filter, Find, Map, Position, Reduce, anyDuplicated, aperm, append,
    as.data.frame, basename, cbind, colnames, dirname, do.call,
    duplicated, eval, evalq, get, grep, grepl, is.unsorted, lapply,
    mapply, match, mget, order, paste, pmax, pmax.int, pmin, pmin.int,
    rank, rbind, rownames, sapply, saveRDS, table, tapply, unique,
    unsplit, which.max, which.min

Loading required package: S4Vectors

Attaching package: 'S4Vectors'

The following object is masked from 'package:utils':

    findMatches

The following objects are masked from 'package:base':

    I, expand.grid, unname

Loading required package: IRanges
Loading required package: Seqinfo
> test_check("BindingSiteFinder")
[1] "make bs"
[1] "calc ratio"
[1] "make bs"
[1] "calc ratio"
[ FAIL 0 | WARN 0 | SKIP 0 | PASS 240 ]
> 
> proc.time()
   user  system elapsed 
265.358   2.451 267.839 

Example timings

BindingSiteFinder.Rcheck/BindingSiteFinder-Ex.timings

nameusersystemelapsed
BSFDataSet0.1770.0170.196
BSFind26.774 0.55127.331
add-BSFDataSet2.1540.0122.166
annotateWithScore1.4550.0081.465
assignToGenes1.9440.0051.950
assignToTranscriptRegions2.2760.0082.285
bindingSiteCoveragePlot9.6010.1679.768
bindingSiteDefinednessPlot35.635 0.48841.259
calculateBsBackground7.0640.0907.768
calculateBsFoldChange19.468 0.15619.778
calculateSignalToFlankScore1.5370.0051.543
clipCoverage1.9400.0021.943
collapseReplicates0.2170.0030.220
combineBSF3.1840.0203.205
coverageOverRanges0.9670.0050.972
duplicatedSitesPlot0.7540.0050.759
estimateBsWidth8.8260.0388.864
estimateBsWidthPlot9.3970.0769.473
exportTargetGenes0.0510.0010.052
exportToBED0.0510.0020.053
filterBsBackground3.5970.0043.601
geneOverlapsPlot2.6710.0062.678
geneRegulationPlot10.735 0.03310.768
getMeta0.0530.0030.056
getName0.0490.0050.054
getRanges0.0690.0040.073
getSignal0.1160.0060.122
getSummary1.2290.0031.232
globalScorePlot1.6380.0071.645
imputeBsDifferencesForTestdata2.2380.0032.242
makeBindingSites2.5490.0202.571
makeBsSummaryPlot2.6570.1262.783
mergeCrosslinkDiagnosticsPlot1.4420.0031.444
mergeSummaryPlot4.1670.0194.186
plotBsBackgroundFilter5.0340.0675.101
plotBsMA11.425 0.05111.478
plotBsVolcano10.897 0.05810.956
processingStepsFlowChart27.045 0.98128.031
processingStepsTable0.1050.0180.123
pureClipGeneWiseFilter0.4140.0330.447
pureClipGlobalFilter0.0840.0110.095
pureClipGlobalFilterPlot0.4310.0090.441
quickFigure33.396 1.06534.462
rangeCoveragePlot6.4861.5628.052
reproducibilityCutoffPlot3.3020.4813.786
reproducibilityFilter1.6370.0881.725
reproducibilityFilterPlot2.2100.1532.362
reproducibilitySamplesPlot1.8230.1251.948
reproducibilityScatterPlot5.0470.0665.113
setMeta0.0560.0050.060
setName0.0490.0060.056
setRanges0.0770.0080.085
setSignal0.0780.0060.084
setSummary0.0500.0050.055
show0.0490.0060.056
subset-BSFDataSet0.0670.0020.069
summary0.0730.0060.080
supportRatio3.6220.0693.692
supportRatioPlot3.8350.0983.932
targetGeneSpectrumPlot2.3680.0512.418
transcriptRegionOverlapsPlot2.610.042.65
transcriptRegionSpectrumPlot2.6890.0302.720