Long Tests report for BioC 3.22

See here for how to subscribe to these builds.

This page was generated on 2025-11-01 23:55 -0400 (Sat, 01 Nov 2025).

Approx. Package Snapshot Date/Time (git pull): 2025-11-01 09:55 -0400 (Sat, 01 Nov 2025)
See this page for all the Bioconductor builds and their schedule.

HostnameOSArch (*)R versionInstalled pkgs
nebbiolo2Linux (Ubuntu 24.04.3 LTS)x86_644.5.1 Patched (2025-08-23 r88802) -- "Great Square Root" 4901
lconwaymacOS 12.7.6 Montereyx86_644.5.1 Patched (2025-09-10 r88807) -- "Great Square Root" 4691
Click on any hostname to see more info about the system (e.g. compilers)      (*) as reported by 'uname -p', except on Windows and Mac OS X

Package status is indicated by one of the following glyphs
  TIMEOUT  
CHECK of package took more than 360 minutes
  ERROR  
Bad DESCRIPTION file, or CHECK of package produced errors
  WARNINGS  
CHECK of package produced warnings
  OK  
CHECK of package went OK
  NA  
CHECK result is not available because of an anomaly in the Build System
skipped
CHECK of package was skipped because the BUILD step failed
Click on any glyph in the report below to access the detailed report.

QUICK STATSOS / ArchCHECK
nebbiolo2Linux (Ubuntu 24.04.3 LTS) / x86_64
017410
lconwaymacOS 12.7.6 Monterey / x86_64
017410
Package 1/31HostnameOS / ArchCHECK
APAlyzer 1.24.0  (landing page)
Ruijia Wang
git_last_commit: d565f62
git_last_commit_date: 2025-10-29 10:53:34 -0400
nebbiolo2Linux (Ubuntu 24.04.3 LTS) / x86_64  ERROR  
lconwaymacOS 12.7.6 Monterey / x86_64  ERROR  
Package 2/31HostnameOS / ArchCHECK
autonomics 1.18.0  (landing page)
Aditya Bhagwat
git_last_commit: c22fce2
git_last_commit_date: 2025-10-29 11:06:51 -0400
nebbiolo2Linux (Ubuntu 24.04.3 LTS) / x86_64  ERROR  
lconwaymacOS 12.7.6 Monterey / x86_64  ERROR  
Package 3/31HostnameOS / ArchCHECK
beachmat 2.26.0  (landing page)
Aaron Lun
git_last_commit: 016c55e
git_last_commit_date: 2025-10-29 10:39:35 -0400
nebbiolo2Linux (Ubuntu 24.04.3 LTS) / x86_64  WARNINGS  
lconwaymacOS 12.7.6 Monterey / x86_64  WARNINGS  
Package 4/31HostnameOS / ArchCHECK
biodb 1.18.0  (landing page)
Pierrick Roger
git_last_commit: cb4e359
git_last_commit_date: 2025-10-29 11:09:05 -0400
nebbiolo2Linux (Ubuntu 24.04.3 LTS) / x86_64  WARNINGS  
lconwaymacOS 12.7.6 Monterey / x86_64  WARNINGS  
Package 5/31HostnameOS / ArchCHECK
biodbChebi 1.16.0  (landing page)
Pierrick Roger
git_last_commit: 28c1b2d
git_last_commit_date: 2025-10-29 11:12:25 -0400
nebbiolo2Linux (Ubuntu 24.04.3 LTS) / x86_64  ERROR  
lconwaymacOS 12.7.6 Monterey / x86_64  ERROR  
Package 6/31HostnameOS / ArchCHECK
biodbHmdb 1.16.0  (landing page)
Pierrick Roger
git_last_commit: 4102973
git_last_commit_date: 2025-10-29 11:13:48 -0400
nebbiolo2Linux (Ubuntu 24.04.3 LTS) / x86_64  ERROR  
lconwaymacOS 12.7.6 Monterey / x86_64  ERROR  
Package 7/31HostnameOS / ArchCHECK
biodbNcbi 1.14.0  (landing page)
Pierrick Roger
git_last_commit: dc1f90a
git_last_commit_date: 2025-10-29 11:15:40 -0400
nebbiolo2Linux (Ubuntu 24.04.3 LTS) / x86_64  ERROR  
lconwaymacOS 12.7.6 Monterey / x86_64  ERROR  
Package 8/31HostnameOS / ArchCHECK
biodbNci 1.14.0  (landing page)
Pierrick Roger
git_last_commit: 4ce22d8
git_last_commit_date: 2025-10-29 11:15:34 -0400
nebbiolo2Linux (Ubuntu 24.04.3 LTS) / x86_64  ERROR  
lconwaymacOS 12.7.6 Monterey / x86_64  ERROR  
Package 9/31HostnameOS / ArchCHECK
biodbUniprot 1.16.0  (landing page)
Pierrick Roger
git_last_commit: 13a976e
git_last_commit_date: 2025-10-29 11:12:59 -0400
nebbiolo2Linux (Ubuntu 24.04.3 LTS) / x86_64  ERROR  
lconwaymacOS 12.7.6 Monterey / x86_64  ERROR  
Package 10/31HostnameOS / ArchCHECK
cBioPortalData 2.22.0  (landing page)
Marcel Ramos
git_last_commit: 64fff17
git_last_commit_date: 2025-10-29 10:59:37 -0400
nebbiolo2Linux (Ubuntu 24.04.3 LTS) / x86_64  ERROR  
lconwaymacOS 12.7.6 Monterey / x86_64  ERROR  
Package 11/31HostnameOS / ArchCHECK
ChromSCape 1.20.0  (landing page)
Pacome Prompsy
git_last_commit: a5a7bda
git_last_commit_date: 2025-10-29 11:02:56 -0400
nebbiolo2Linux (Ubuntu 24.04.3 LTS) / x86_64  ERROR  
lconwaymacOS 12.7.6 Monterey / x86_64  ERROR  
Package 12/31HostnameOS / ArchCHECK
clusterExperiment 2.30.0  (landing page)
Elizabeth Purdom
git_last_commit: 86a6cae
git_last_commit_date: 2025-10-29 10:33:07 -0400
nebbiolo2Linux (Ubuntu 24.04.3 LTS) / x86_64  ERROR  
lconwaymacOS 12.7.6 Monterey / x86_64  ERROR  
Package 13/31HostnameOS / ArchCHECK
CRISPRball 1.6.0  (landing page)
Jared Andrews
git_last_commit: 8772923
git_last_commit_date: 2025-10-29 11:27:09 -0400
nebbiolo2Linux (Ubuntu 24.04.3 LTS) / x86_64  OK  
lconwaymacOS 12.7.6 Monterey / x86_64  OK  
Package 14/31HostnameOS / ArchCHECK
crisprScore 1.14.0  (landing page)
Jean-Philippe Fortin
git_last_commit: 86c5f68
git_last_commit_date: 2025-10-29 11:14:23 -0400
nebbiolo2Linux (Ubuntu 24.04.3 LTS) / x86_64  ERROR  
lconwaymacOS 12.7.6 Monterey / x86_64  ERROR  
Package 15/31HostnameOS / ArchCHECK
CTexploreR 1.6.0  (landing page)
Axelle Loriot
git_last_commit: c66423d
git_last_commit_date: 2025-10-29 11:26:51 -0400
nebbiolo2Linux (Ubuntu 24.04.3 LTS) / x86_64  OK  
lconwaymacOS 12.7.6 Monterey / x86_64  OK  
Package 16/31HostnameOS / ArchCHECK
DelayedMatrixStats 1.32.0  (landing page)
Peter Hickey
git_last_commit: cbf7d75
git_last_commit_date: 2025-10-29 10:41:36 -0400
nebbiolo2Linux (Ubuntu 24.04.3 LTS) / x86_64  OK  
lconwaymacOS 12.7.6 Monterey / x86_64  OK  
Package 17/31HostnameOS / ArchCHECK
DOtools 1.0.0  (landing page)
Mariano Ruz Jurado
git_last_commit: 95a2404
git_last_commit_date: 2025-10-29 11:38:46 -0400
nebbiolo2Linux (Ubuntu 24.04.3 LTS) / x86_64  ERROR  
lconwaymacOS 12.7.6 Monterey / x86_64  ERROR  
Package 18/31HostnameOS / ArchCHECK
DropletUtils 1.30.0  (landing page)
Jonathan Griffiths
git_last_commit: 6ef5eaa
git_last_commit_date: 2025-10-29 10:42:43 -0400
nebbiolo2Linux (Ubuntu 24.04.3 LTS) / x86_64  OK  
lconwaymacOS 12.7.6 Monterey / x86_64  OK  
Package 19/31HostnameOS / ArchCHECK
EpiMix 1.12.0  (landing page)
Yuanning Zheng
git_last_commit: 36341ff
git_last_commit_date: 2025-10-29 11:17:43 -0400
nebbiolo2Linux (Ubuntu 24.04.3 LTS) / x86_64  OK  
lconwaymacOS 12.7.6 Monterey / x86_64  OK  
Package 20/31HostnameOS / ArchCHECK
extraChIPs 1.14.0  (landing page)
Stevie Pederson
git_last_commit: 9b0567a
git_last_commit_date: 2025-10-29 11:16:32 -0400
nebbiolo2Linux (Ubuntu 24.04.3 LTS) / x86_64  OK  
lconwaymacOS 12.7.6 Monterey / x86_64  OK  
Package 21/31HostnameOS / ArchCHECK
GenomicFeatures 1.62.0  (landing page)
H. Pagès
git_last_commit: f4dfd41
git_last_commit_date: 2025-10-29 14:16:45 -0400
nebbiolo2Linux (Ubuntu 24.04.3 LTS) / x86_64  WARNINGS  
lconwaymacOS 12.7.6 Monterey / x86_64  WARNINGS  
Package 22/31HostnameOS / ArchCHECK
ginmappeR 1.6.0  (landing page)
Fernando Sola
git_last_commit: f5ef284
git_last_commit_date: 2025-10-29 11:28:37 -0400
nebbiolo2Linux (Ubuntu 24.04.3 LTS) / x86_64  ERROR  
lconwaymacOS 12.7.6 Monterey / x86_64  ERROR  
Package 23/31HostnameOS / ArchCHECK
HDF5Array 1.38.0  (landing page)
Hervé Pagès
git_last_commit: 9bca08f
git_last_commit_date: 2025-10-29 12:21:26 -0400
nebbiolo2Linux (Ubuntu 24.04.3 LTS) / x86_64  OK  
lconwaymacOS 12.7.6 Monterey / x86_64  OK  
Package 24/31HostnameOS / ArchCHECK
midasHLA 1.18.0  (landing page)
Maciej Migdał
git_last_commit: ba6d0cb
git_last_commit_date: 2025-10-29 11:06:38 -0400
nebbiolo2Linux (Ubuntu 24.04.3 LTS) / x86_64  ERROR  
lconwaymacOS 12.7.6 Monterey / x86_64  ERROR  
Package 25/31HostnameOS / ArchCHECK
mosdef 1.6.0  (landing page)
Federico Marini
git_last_commit: b5bb63e
git_last_commit_date: 2025-10-29 11:29:58 -0400
nebbiolo2Linux (Ubuntu 24.04.3 LTS) / x86_64  OK  
lconwaymacOS 12.7.6 Monterey / x86_64  OK  
Package 26/31HostnameOS / ArchCHECK
MungeSumstats 1.18.0  (landing page)
Alan Murphy
git_last_commit: e2c1431
git_last_commit_date: 2025-10-29 11:08:14 -0400
nebbiolo2Linux (Ubuntu 24.04.3 LTS) / x86_64  OK  
lconwaymacOS 12.7.6 Monterey / x86_64  OK  
Package 27/31HostnameOS / ArchCHECK
rhdf5 2.54.0  (landing page)
Hugo Gruson
git_last_commit: c7248dd
git_last_commit_date: 2025-10-29 10:10:03 -0400
nebbiolo2Linux (Ubuntu 24.04.3 LTS) / x86_64  WARNINGS  
lconwaymacOS 12.7.6 Monterey / x86_64  WARNINGS  
Package 28/31HostnameOS / ArchCHECK
SimBu 1.12.0  (landing page)
Alexander Dietrich
git_last_commit: c0333a2
git_last_commit_date: 2025-10-29 11:18:10 -0400
nebbiolo2Linux (Ubuntu 24.04.3 LTS) / x86_64  ERROR  
lconwaymacOS 12.7.6 Monterey / x86_64  ERROR  
Package 29/31HostnameOS / ArchCHECK
TENxIO 1.12.0  (landing page)
Marcel Ramos
git_last_commit: 4adee52
git_last_commit_date: 2025-10-29 11:19:24 -0400
nebbiolo2Linux (Ubuntu 24.04.3 LTS) / x86_64  OK  
lconwaymacOS 12.7.6 Monterey / x86_64  OK  
Package 30/31HostnameOS / ArchCHECK
xcms 4.8.0  (landing page)
Steffen Neumann
git_last_commit: 8c7e9cf
git_last_commit_date: 2025-10-29 09:56:19 -0400
nebbiolo2Linux (Ubuntu 24.04.3 LTS) / x86_64  ERROR  
lconwaymacOS 12.7.6 Monterey / x86_64  ERROR  
Package 31/31HostnameOS / ArchCHECK
zellkonverter 1.20.0  (landing page)
Luke Zappia
git_last_commit: cf55b0f
git_last_commit_date: 2025-10-29 11:01:36 -0400
nebbiolo2Linux (Ubuntu 24.04.3 LTS) / x86_64  ERROR  
lconwaymacOS 12.7.6 Monterey / x86_64  ERROR