Back to Multiple platform build/check report for BioC 3.22:   simplified   long
ABCDEFGHIJKLMNOPQR[S]TUVWXYZ

This page was generated on 2025-11-20 12:08 -0500 (Thu, 20 Nov 2025).

HostnameOSArch (*)R versionInstalled pkgs
nebbiolo2Linux (Ubuntu 24.04.3 LTS)x86_644.5.2 (2025-10-31) -- "[Not] Part in a Rumble" 4615
merida1macOS 12.7.6 Montereyx86_644.5.2 Patched (2025-11-05 r88990) -- "[Not] Part in a Rumble" 4610
kjohnson1macOS 13.7.5 Venturaarm644.5.2 Patched (2025-11-04 r88984) -- "[Not] Part in a Rumble" 4598
taishanLinux (openEuler 24.03 LTS)aarch644.5.0 (2025-04-11) -- "How About a Twenty-Six" 4668
Click on any hostname to see more info about the system (e.g. compilers)      (*) as reported by 'uname -p', except on Windows and Mac OS X

Package 2146/2361HostnameOS / ArchINSTALLBUILDCHECKBUILD BIN
structToolbox 1.22.0  (landing page)
Gavin Rhys Lloyd
Snapshot Date: 2025-11-17 13:45 -0500 (Mon, 17 Nov 2025)
git_url: https://git.bioconductor.org/packages/structToolbox
git_branch: RELEASE_3_22
git_last_commit: cad0ce8
git_last_commit_date: 2025-10-29 10:56:35 -0500 (Wed, 29 Oct 2025)
nebbiolo2Linux (Ubuntu 24.04.3 LTS) / x86_64  OK    OK    OK  NO, package depends on 'struct' which is not available
merida1macOS 12.7.6 Monterey / x86_64  OK    OK    OK    OK  NO, package depends on 'struct' which is not available
kjohnson1macOS 13.7.5 Ventura / arm64  OK    OK    OK    OK  NO, package depends on 'struct' which is not available
taishanLinux (openEuler 24.03 LTS) / aarch64  OK    OK    OK  


CHECK results for structToolbox on taishan

To the developers/maintainers of the structToolbox package:
- Allow up to 24 hours (and sometimes 48 hours) for your latest push to git@git.bioconductor.org:packages/structToolbox.git to reflect on this report. See Troubleshooting Build Report for more information.
- Use the following Renviron settings to reproduce errors and warnings.
- If 'R CMD check' started to fail recently on the Linux builder(s) over a missing dependency, add the missing dependency to 'Suggests:' in your DESCRIPTION file. See Renviron.bioc for more information.
- See Martin Grigorov's blog post for how to debug Linux ARM64 related issues on a x86_64 host.

raw results


Summary

Package: structToolbox
Version: 1.22.0
Command: /home/biocbuild/R/R/bin/R CMD check --install=check:structToolbox.install-out.txt --library=/home/biocbuild/R/R/site-library --no-vignettes --timings structToolbox_1.22.0.tar.gz
StartedAt: 2025-11-18 15:44:23 -0000 (Tue, 18 Nov 2025)
EndedAt: 2025-11-18 15:55:43 -0000 (Tue, 18 Nov 2025)
EllapsedTime: 679.9 seconds
RetCode: 0
Status:   OK  
CheckDir: structToolbox.Rcheck
Warnings: 0

Command output

##############################################################################
##############################################################################
###
### Running command:
###
###   /home/biocbuild/R/R/bin/R CMD check --install=check:structToolbox.install-out.txt --library=/home/biocbuild/R/R/site-library --no-vignettes --timings structToolbox_1.22.0.tar.gz
###
##############################################################################
##############################################################################


* using log directory ‘/home/biocbuild/bbs-3.22-bioc/meat/structToolbox.Rcheck’
* using R version 4.5.0 (2025-04-11)
* using platform: aarch64-unknown-linux-gnu
* R was compiled by
    aarch64-unknown-linux-gnu-gcc (GCC) 14.2.0
    GNU Fortran (GCC) 14.2.0
* running under: openEuler 24.03 (LTS)
* using session charset: UTF-8
* using option ‘--no-vignettes’
* checking for file ‘structToolbox/DESCRIPTION’ ... OK
* checking extension type ... Package
* this is package ‘structToolbox’ version ‘1.22.0’
* package encoding: UTF-8
* checking package namespace information ... OK
* checking package dependencies ... OK
* checking if this is a source package ... OK
* checking if there is a namespace ... OK
* checking for hidden files and directories ... OK
* checking for portable file names ... OK
* checking for sufficient/correct file permissions ... OK
* checking whether package ‘structToolbox’ can be installed ... OK
* checking installed package size ... OK
* checking package directory ... OK
* checking ‘build’ directory ... OK
* checking DESCRIPTION meta-information ... OK
* checking top-level files ... OK
* checking for left-over files ... OK
* checking index information ... OK
* checking package subdirectories ... OK
* checking code files for non-ASCII characters ... OK
* checking R files for syntax errors ... OK
* checking whether the package can be loaded ... OK
* checking whether the package can be loaded with stated dependencies ... OK
* checking whether the package can be unloaded cleanly ... OK
* checking whether the namespace can be loaded with stated dependencies ... OK
* checking whether the namespace can be unloaded cleanly ... OK
* checking loading without being on the library search path ... OK
* checking dependencies in R code ... OK
* checking S3 generic/method consistency ... OK
* checking replacement functions ... OK
* checking foreign function calls ... OK
* checking R code for possible problems ... OK
* checking Rd files ... OK
* checking Rd metadata ... OK
* checking Rd cross-references ... OK
* checking for missing documentation entries ... OK
* checking for code/documentation mismatches ... OK
* checking Rd \usage sections ... OK
* checking Rd contents ... OK
* checking for unstated dependencies in examples ... OK
* checking R/sysdata.rda ... OK
* checking files in ‘vignettes’ ... OK
* checking examples ... OK
Examples with CPU (user + system) or elapsed time > 5s
                            user system elapsed
fold_change_int           22.460  0.020  22.553
fold_change               15.956  0.036  16.053
fisher_exact              13.576  0.071  13.712
fs_line                    9.721  0.040   9.790
forward_selection_by_rank  8.856  0.068   8.951
compare_dist               6.676  0.156   6.849
kfoldxcv_grid              5.606  0.004   5.628
grid_search_1d             5.053  0.080   5.148
* checking for unstated dependencies in ‘tests’ ... OK
* checking tests ...
  Running ‘testthat.R’
 OK
* checking for unstated dependencies in vignettes ... OK
* checking package vignettes ... OK
* checking running R code from vignettes ... SKIPPED
* checking re-building of vignette outputs ... SKIPPED
* checking PDF version of manual ... OK
* DONE

Status: OK


Installation output

structToolbox.Rcheck/00install.out

##############################################################################
##############################################################################
###
### Running command:
###
###   /home/biocbuild/R/R/bin/R CMD INSTALL structToolbox
###
##############################################################################
##############################################################################


* installing to library ‘/home/biocbuild/R/R-4.5.0/site-library’
* installing *source* package ‘structToolbox’ ...
** this is package ‘structToolbox’ version ‘1.22.0’
** using staged installation
** R
** inst
** byte-compile and prepare package for lazy loading
** help
*** installing help indices
** building package indices
** installing vignettes
** testing if installed package can be loaded from temporary location
** testing if installed package can be loaded from final location
** testing if installed package keeps a record of temporary installation path
* DONE (structToolbox)

Tests output

structToolbox.Rcheck/tests/testthat.Rout


R version 4.5.0 (2025-04-11) -- "How About a Twenty-Six"
Copyright (C) 2025 The R Foundation for Statistical Computing
Platform: aarch64-unknown-linux-gnu

R is free software and comes with ABSOLUTELY NO WARRANTY.
You are welcome to redistribute it under certain conditions.
Type 'license()' or 'licence()' for distribution details.

R is a collaborative project with many contributors.
Type 'contributors()' for more information and
'citation()' on how to cite R or R packages in publications.

Type 'demo()' for some demos, 'help()' for on-line help, or
'help.start()' for an HTML browser interface to help.
Type 'q()' to quit R.

> library(testthat)
> library(ggplot2)
> library(structToolbox)
Loading required package: struct
> 
> test_check("structToolbox")
[ FAIL 0 | WARN 6 | SKIP 0 | PASS 166 ]

[ FAIL 0 | WARN 6 | SKIP 0 | PASS 166 ]
> 
> proc.time()
   user  system elapsed 
277.113   2.044 279.933 

Example timings

structToolbox.Rcheck/structToolbox-Ex.timings

nameusersystemelapsed
ANOVA0.2960.0040.301
AUC3.7290.1483.887
DFA0.3090.0000.309
DatasetExperiment_boxplot1.4180.0081.430
DatasetExperiment_dist1.6280.0671.700
DatasetExperiment_factor_boxplot0.4770.0110.490
DatasetExperiment_heatmap1.5130.0001.515
HCA0.0840.0000.084
HSD0.4060.0040.420
HSDEM0.3580.0040.362
MTBLS79_DatasetExperiment0.0020.0000.001
OPLSDA0.0160.0000.016
OPLSR0.0120.0000.012
PCA0.0060.0000.007
PLSDA0.0170.0000.018
PLSR0.0140.0000.014
SVM0.0320.0000.032
as_data_frame0.1780.0000.178
autoscale0.1060.0000.106
balanced_accuracy2.6150.0122.633
blank_filter0.5390.0230.564
blank_filter_hist0.0010.0000.001
bootstrap0.0150.0000.015
calculate0.0080.0000.007
chart_plot0.0410.0000.040
classical_lsq0.4430.0000.444
compare_dist6.6760.1566.849
confounders_clsq4.2730.0084.291
confounders_lsq_barchart4.7250.0004.740
confounders_lsq_boxplot4.5390.0284.580
constant_sum_norm0.0100.0000.009
corr_coef0.3470.0000.348
dfa_scores_plot1.3720.0041.380
dratio_filter0.4200.0040.425
equal_split0.1650.0000.166
feature_boxplot0.0340.0040.038
feature_profile0.7230.0000.725
feature_profile_array0.9030.0000.905
filter_by_name0.0420.0000.042
filter_na_count1.4850.0401.528
filter_smeta0.0820.0000.083
fisher_exact13.576 0.07113.712
fold_change15.956 0.03616.053
fold_change_int22.460 0.02022.553
fold_change_plot0.010.000.01
forward_selection_by_rank8.8560.0688.951
fs_line9.7210.0409.790
glog_opt_plot0.8310.0040.837
glog_transform0.4250.0000.426
grid_search_1d5.0530.0805.148
gs_line0.0010.0000.001
hca_dendrogram0.0010.0000.001
kfold_xval4.8770.0044.897
kfoldxcv_grid5.6060.0045.628
kfoldxcv_metric0.0010.0000.000
knn_impute0.0170.0000.017
kw_p_hist0.0010.0000.001
kw_rank_sum0.1000.0000.101
linear_model0.0410.0000.042
log_transform0.0100.0000.009
mean_centre0.0040.0000.004
mean_of_medians0.1630.0000.163
mixed_effect0.2480.0000.248
model_apply0.0350.0000.035
model_predict0.0770.0000.077
model_reverse0.0350.0000.036
model_train0.0700.0000.071
mv_boxplot0.6030.0000.604
mv_feature_filter0.1680.0000.168
mv_feature_filter_hist0.0000.0000.001
mv_histogram0.5000.0000.502
mv_sample_filter0.0120.0000.012
mv_sample_filter_hist0.0010.0000.001
nroot_transform0.010.000.01
ontology_cache000
pairs_filter0.0130.0000.014
pareto_scale0.0810.0000.081
pca_biplot0.0190.0040.022
pca_correlation_plot0.0090.0000.010
pca_dstat_plot0.0130.0000.014
pca_loadings_plot0.0130.0000.014
pca_scores_plot1.0430.0041.051
pca_scree_plot0.0080.0000.009
permutation_test0.0140.0000.013
permutation_test_plot0.0040.0000.004
permute_sample_order0.0090.0000.010
pls_regcoeff_plot0.6830.0000.685
pls_scores_plot1.2750.0001.279
pls_vip_plot0.7050.0040.711
plsda_feature_importance_plot1.2830.0001.287
plsda_predicted_plot0.8670.0000.869
plsda_roc_plot1.8240.0041.834
plsr_cook_dist0.0080.0000.009
plsr_prediction_plot0.0080.0000.008
plsr_qq_plot0.0090.0000.009
plsr_residual_hist0.0090.0000.009
pqn_norm0.4960.0000.498
pqn_norm_hist0.0010.0000.001
prop_na0.0140.0000.014
r_squared0.0010.0000.001
resample0.0240.0000.024
resample_chart0.0040.0000.005
rsd_filter0.0190.0000.020
rsd_filter_hist0.0010.0000.000
run0.0410.0000.041
sb_corr0.0380.0000.038
scatter_chart0.8250.0000.828
split_data0.0090.0000.009
stratified_split0.1560.0000.157
svm_plot_2d1.1140.0041.134
tSNE0.0330.0000.033
tSNE_scatter0.010.000.01
tic_chart0.4940.0000.495
ttest0.030.000.03
vec_norm0.0010.0000.000
wilcox_p_hist0.0010.0000.001
wilcox_test0.0250.0000.025