| Back to Multiple platform build/check report for BioC 3.22: simplified long |
|
This page was generated on 2025-10-25 12:04 -0400 (Sat, 25 Oct 2025).
| Hostname | OS | Arch (*) | R version | Installed pkgs |
|---|---|---|---|---|
| nebbiolo2 | Linux (Ubuntu 24.04.3 LTS) | x86_64 | 4.5.1 Patched (2025-08-23 r88802) -- "Great Square Root" | 4901 |
| lconway | macOS 12.7.6 Monterey | x86_64 | 4.5.1 Patched (2025-09-10 r88807) -- "Great Square Root" | 4691 |
| kjohnson3 | macOS 13.7.7 Ventura | arm64 | 4.5.1 Patched (2025-09-10 r88807) -- "Great Square Root" | 4637 |
| taishan | Linux (openEuler 24.03 LTS) | aarch64 | 4.5.0 (2025-04-11) -- "How About a Twenty-Six" | 4658 |
| Click on any hostname to see more info about the system (e.g. compilers) (*) as reported by 'uname -p', except on Windows and Mac OS X | ||||
| Package 2146/2361 | Hostname | OS / Arch | INSTALL | BUILD | CHECK | BUILD BIN | ||||||||
| structToolbox 1.21.0 (landing page) Gavin Rhys Lloyd
| nebbiolo2 | Linux (Ubuntu 24.04.3 LTS) / x86_64 | OK | OK | OK | |||||||||
| lconway | macOS 12.7.6 Monterey / x86_64 | OK | OK | OK | OK | |||||||||
| kjohnson3 | macOS 13.7.7 Ventura / arm64 | OK | OK | OK | OK | |||||||||
| taishan | Linux (openEuler 24.03 LTS) / aarch64 | OK | NA | NA | ||||||||||
|
To the developers/maintainers of the structToolbox package: - Allow up to 24 hours (and sometimes 48 hours) for your latest push to git@git.bioconductor.org:packages/structToolbox.git to reflect on this report. See Troubleshooting Build Report for more information. - Use the following Renviron settings to reproduce errors and warnings. - If 'R CMD check' started to fail recently on the Linux builder(s) over a missing dependency, add the missing dependency to 'Suggests:' in your DESCRIPTION file. See Renviron.bioc for more information. |
| Package: structToolbox |
| Version: 1.21.0 |
| Command: /home/biocbuild/bbs-3.22-bioc/R/bin/R CMD check --install=check:structToolbox.install-out.txt --library=/home/biocbuild/bbs-3.22-bioc/R/site-library --timings structToolbox_1.21.0.tar.gz |
| StartedAt: 2025-10-25 04:42:54 -0400 (Sat, 25 Oct 2025) |
| EndedAt: 2025-10-25 05:01:35 -0400 (Sat, 25 Oct 2025) |
| EllapsedTime: 1121.1 seconds |
| RetCode: 0 |
| Status: OK |
| CheckDir: structToolbox.Rcheck |
| Warnings: 0 |
##############################################################################
##############################################################################
###
### Running command:
###
### /home/biocbuild/bbs-3.22-bioc/R/bin/R CMD check --install=check:structToolbox.install-out.txt --library=/home/biocbuild/bbs-3.22-bioc/R/site-library --timings structToolbox_1.21.0.tar.gz
###
##############################################################################
##############################################################################
* using log directory ‘/home/biocbuild/bbs-3.22-bioc/meat/structToolbox.Rcheck’
* using R version 4.5.1 Patched (2025-08-23 r88802)
* using platform: x86_64-pc-linux-gnu
* R was compiled by
gcc (Ubuntu 13.3.0-6ubuntu2~24.04) 13.3.0
GNU Fortran (Ubuntu 13.3.0-6ubuntu2~24.04) 13.3.0
* running under: Ubuntu 24.04.3 LTS
* using session charset: UTF-8
* checking for file ‘structToolbox/DESCRIPTION’ ... OK
* checking extension type ... Package
* this is package ‘structToolbox’ version ‘1.21.0’
* package encoding: UTF-8
* checking package namespace information ... OK
* checking package dependencies ... OK
* checking if this is a source package ... OK
* checking if there is a namespace ... OK
* checking for hidden files and directories ... OK
* checking for portable file names ... OK
* checking for sufficient/correct file permissions ... OK
* checking whether package ‘structToolbox’ can be installed ... OK
* checking installed package size ... OK
* checking package directory ... OK
* checking ‘build’ directory ... OK
* checking DESCRIPTION meta-information ... OK
* checking top-level files ... OK
* checking for left-over files ... OK
* checking index information ... OK
* checking package subdirectories ... OK
* checking code files for non-ASCII characters ... OK
* checking R files for syntax errors ... OK
* checking whether the package can be loaded ... OK
* checking whether the package can be loaded with stated dependencies ... OK
* checking whether the package can be unloaded cleanly ... OK
* checking whether the namespace can be loaded with stated dependencies ... OK
* checking whether the namespace can be unloaded cleanly ... OK
* checking loading without being on the library search path ... OK
* checking dependencies in R code ... OK
* checking S3 generic/method consistency ... OK
* checking replacement functions ... OK
* checking foreign function calls ... OK
* checking R code for possible problems ... OK
* checking Rd files ... OK
* checking Rd metadata ... OK
* checking Rd cross-references ... OK
* checking for missing documentation entries ... OK
* checking for code/documentation mismatches ... OK
* checking Rd \usage sections ... OK
* checking Rd contents ... OK
* checking for unstated dependencies in examples ... OK
* checking R/sysdata.rda ... OK
* checking files in ‘vignettes’ ... OK
* checking examples ... OK
Examples with CPU (user + system) or elapsed time > 5s
user system elapsed
fold_change_int 15.649 0.071 15.722
fold_change 10.483 0.042 10.526
fisher_exact 9.602 0.022 9.651
forward_selection_by_rank 6.666 0.167 6.834
fs_line 6.562 0.013 6.575
compare_dist 5.168 0.323 5.491
* checking for unstated dependencies in ‘tests’ ... OK
* checking tests ...
Running ‘testthat.R’
OK
* checking for unstated dependencies in vignettes ... OK
* checking package vignettes ... OK
* checking re-building of vignette outputs ... OK
* checking PDF version of manual ... OK
* DONE
Status: OK
structToolbox.Rcheck/00install.out
############################################################################## ############################################################################## ### ### Running command: ### ### /home/biocbuild/bbs-3.22-bioc/R/bin/R CMD INSTALL structToolbox ### ############################################################################## ############################################################################## * installing to library ‘/home/biocbuild/bbs-3.22-bioc/R/site-library’ * installing *source* package ‘structToolbox’ ... ** this is package ‘structToolbox’ version ‘1.21.0’ ** using staged installation ** R ** inst ** byte-compile and prepare package for lazy loading ** help *** installing help indices ** building package indices ** installing vignettes ** testing if installed package can be loaded from temporary location ** testing if installed package can be loaded from final location ** testing if installed package keeps a record of temporary installation path * DONE (structToolbox)
structToolbox.Rcheck/tests/testthat.Rout
R version 4.5.1 Patched (2025-08-23 r88802) -- "Great Square Root"
Copyright (C) 2025 The R Foundation for Statistical Computing
Platform: x86_64-pc-linux-gnu
R is free software and comes with ABSOLUTELY NO WARRANTY.
You are welcome to redistribute it under certain conditions.
Type 'license()' or 'licence()' for distribution details.
R is a collaborative project with many contributors.
Type 'contributors()' for more information and
'citation()' on how to cite R or R packages in publications.
Type 'demo()' for some demos, 'help()' for on-line help, or
'help.start()' for an HTML browser interface to help.
Type 'q()' to quit R.
> library(testthat)
> library(ggplot2)
> library(structToolbox)
Loading required package: struct
>
> test_check("structToolbox")
[ FAIL 0 | WARN 6 | SKIP 0 | PASS 166 ]
[ FAIL 0 | WARN 6 | SKIP 0 | PASS 166 ]
>
> proc.time()
user system elapsed
181.186 1.778 182.982
structToolbox.Rcheck/structToolbox-Ex.timings
| name | user | system | elapsed | |
| ANOVA | 0.200 | 0.003 | 0.203 | |
| AUC | 2.009 | 0.185 | 2.194 | |
| DFA | 0.194 | 0.001 | 0.194 | |
| DatasetExperiment_boxplot | 1.066 | 0.040 | 1.106 | |
| DatasetExperiment_dist | 1.726 | 0.048 | 1.774 | |
| DatasetExperiment_factor_boxplot | 0.341 | 0.001 | 0.343 | |
| DatasetExperiment_heatmap | 1.445 | 0.006 | 1.451 | |
| HCA | 0.058 | 0.000 | 0.058 | |
| HSD | 0.272 | 0.013 | 0.286 | |
| HSDEM | 0.273 | 0.012 | 0.286 | |
| MTBLS79_DatasetExperiment | 0.001 | 0.000 | 0.001 | |
| OPLSDA | 0.012 | 0.000 | 0.011 | |
| OPLSR | 0.008 | 0.000 | 0.008 | |
| PCA | 0.004 | 0.000 | 0.005 | |
| PLSDA | 0.011 | 0.001 | 0.012 | |
| PLSR | 0.01 | 0.00 | 0.01 | |
| SVM | 0.022 | 0.000 | 0.022 | |
| as_data_frame | 0.150 | 0.005 | 0.154 | |
| autoscale | 0.066 | 0.001 | 0.066 | |
| balanced_accuracy | 1.724 | 0.007 | 1.731 | |
| blank_filter | 0.336 | 0.007 | 0.343 | |
| blank_filter_hist | 0.001 | 0.000 | 0.000 | |
| bootstrap | 0.009 | 0.000 | 0.009 | |
| calculate | 0.005 | 0.000 | 0.005 | |
| chart_plot | 0.03 | 0.00 | 0.03 | |
| classical_lsq | 0.298 | 0.001 | 0.299 | |
| compare_dist | 5.168 | 0.323 | 5.491 | |
| confounders_clsq | 2.811 | 0.048 | 2.859 | |
| confounders_lsq_barchart | 3.127 | 0.024 | 3.151 | |
| confounders_lsq_boxplot | 3.038 | 0.118 | 3.156 | |
| constant_sum_norm | 0.008 | 0.000 | 0.007 | |
| corr_coef | 0.258 | 0.002 | 0.261 | |
| dfa_scores_plot | 0.937 | 0.015 | 0.952 | |
| dratio_filter | 0.275 | 0.009 | 0.284 | |
| equal_split | 0.118 | 0.000 | 0.118 | |
| feature_boxplot | 0.026 | 0.000 | 0.025 | |
| feature_profile | 0.589 | 0.003 | 0.593 | |
| feature_profile_array | 0.621 | 0.003 | 0.625 | |
| filter_by_name | 0.042 | 0.000 | 0.043 | |
| filter_na_count | 0.962 | 0.018 | 0.980 | |
| filter_smeta | 0.071 | 0.000 | 0.071 | |
| fisher_exact | 9.602 | 0.022 | 9.651 | |
| fold_change | 10.483 | 0.042 | 10.526 | |
| fold_change_int | 15.649 | 0.071 | 15.722 | |
| fold_change_plot | 0.006 | 0.000 | 0.006 | |
| forward_selection_by_rank | 6.666 | 0.167 | 6.834 | |
| fs_line | 6.562 | 0.013 | 6.575 | |
| glog_opt_plot | 0.529 | 0.000 | 0.529 | |
| glog_transform | 0.297 | 0.002 | 0.298 | |
| grid_search_1d | 3.228 | 0.022 | 3.250 | |
| gs_line | 0.001 | 0.000 | 0.001 | |
| hca_dendrogram | 0.001 | 0.000 | 0.001 | |
| kfold_xval | 3.266 | 0.003 | 3.270 | |
| kfoldxcv_grid | 3.663 | 0.006 | 3.669 | |
| kfoldxcv_metric | 0.000 | 0.000 | 0.001 | |
| knn_impute | 0.010 | 0.001 | 0.012 | |
| kw_p_hist | 0.000 | 0.000 | 0.001 | |
| kw_rank_sum | 0.069 | 0.000 | 0.070 | |
| linear_model | 0.027 | 0.000 | 0.027 | |
| log_transform | 0.006 | 0.000 | 0.006 | |
| mean_centre | 0.003 | 0.000 | 0.003 | |
| mean_of_medians | 0.104 | 0.000 | 0.105 | |
| mixed_effect | 0.15 | 0.00 | 0.15 | |
| model_apply | 0.021 | 0.001 | 0.022 | |
| model_predict | 0.051 | 0.000 | 0.052 | |
| model_reverse | 0.036 | 0.000 | 0.035 | |
| model_train | 0.045 | 0.002 | 0.046 | |
| mv_boxplot | 0.389 | 0.000 | 0.388 | |
| mv_feature_filter | 0.105 | 0.000 | 0.105 | |
| mv_feature_filter_hist | 0 | 0 | 0 | |
| mv_histogram | 0.345 | 0.000 | 0.346 | |
| mv_sample_filter | 0.009 | 0.000 | 0.008 | |
| mv_sample_filter_hist | 0.001 | 0.000 | 0.000 | |
| nroot_transform | 0.006 | 0.000 | 0.006 | |
| ontology_cache | 0.000 | 0.000 | 0.001 | |
| pairs_filter | 0.009 | 0.000 | 0.008 | |
| pareto_scale | 0.050 | 0.001 | 0.051 | |
| pca_biplot | 0.014 | 0.000 | 0.013 | |
| pca_correlation_plot | 0.006 | 0.000 | 0.006 | |
| pca_dstat_plot | 0.008 | 0.000 | 0.008 | |
| pca_loadings_plot | 0.008 | 0.000 | 0.008 | |
| pca_scores_plot | 0.669 | 0.000 | 0.670 | |
| pca_scree_plot | 0.006 | 0.000 | 0.006 | |
| permutation_test | 0.009 | 0.000 | 0.008 | |
| permutation_test_plot | 0.001 | 0.001 | 0.002 | |
| permute_sample_order | 0.006 | 0.000 | 0.006 | |
| pls_regcoeff_plot | 0.422 | 0.002 | 0.424 | |
| pls_scores_plot | 0.823 | 0.001 | 0.825 | |
| pls_vip_plot | 0.481 | 0.000 | 0.481 | |
| plsda_feature_importance_plot | 0.842 | 0.000 | 0.841 | |
| plsda_predicted_plot | 0.553 | 0.003 | 0.556 | |
| plsda_roc_plot | 1.130 | 0.002 | 1.132 | |
| plsr_cook_dist | 0.006 | 0.000 | 0.006 | |
| plsr_prediction_plot | 0.005 | 0.000 | 0.006 | |
| plsr_qq_plot | 0.006 | 0.000 | 0.006 | |
| plsr_residual_hist | 0.006 | 0.000 | 0.006 | |
| pqn_norm | 0.329 | 0.000 | 0.329 | |
| pqn_norm_hist | 0 | 0 | 0 | |
| prop_na | 0.009 | 0.000 | 0.009 | |
| r_squared | 0.001 | 0.000 | 0.000 | |
| resample | 0.014 | 0.000 | 0.014 | |
| resample_chart | 0.003 | 0.000 | 0.003 | |
| rsd_filter | 0.013 | 0.000 | 0.013 | |
| rsd_filter_hist | 0.001 | 0.000 | 0.001 | |
| run | 0.027 | 0.001 | 0.029 | |
| sb_corr | 0.024 | 0.000 | 0.024 | |
| scatter_chart | 0.504 | 0.000 | 0.504 | |
| split_data | 0.007 | 0.000 | 0.007 | |
| stratified_split | 0.118 | 0.000 | 0.118 | |
| svm_plot_2d | 0.752 | 0.003 | 0.755 | |
| tSNE | 0.034 | 0.000 | 0.035 | |
| tSNE_scatter | 0.006 | 0.000 | 0.006 | |
| tic_chart | 0.309 | 0.000 | 0.309 | |
| ttest | 0.02 | 0.00 | 0.02 | |
| vec_norm | 0.001 | 0.000 | 0.001 | |
| wilcox_p_hist | 0.001 | 0.000 | 0.000 | |
| wilcox_test | 0.016 | 0.000 | 0.016 | |