Back to Multiple platform build/check report for BioC 3.22:   simplified   long
ABCDEFGHIJKLMNOPQR[S]TUVWXYZ

This page was generated on 2025-11-20 12:06 -0500 (Thu, 20 Nov 2025).

HostnameOSArch (*)R versionInstalled pkgs
nebbiolo2Linux (Ubuntu 24.04.3 LTS)x86_644.5.2 (2025-10-31) -- "[Not] Part in a Rumble" 4615
merida1macOS 12.7.6 Montereyx86_644.5.2 Patched (2025-11-05 r88990) -- "[Not] Part in a Rumble" 4610
kjohnson1macOS 13.7.5 Venturaarm644.5.2 Patched (2025-11-04 r88984) -- "[Not] Part in a Rumble" 4598
taishanLinux (openEuler 24.03 LTS)aarch644.5.0 (2025-04-11) -- "How About a Twenty-Six" 4668
Click on any hostname to see more info about the system (e.g. compilers)      (*) as reported by 'uname -p', except on Windows and Mac OS X

Package 2146/2361HostnameOS / ArchINSTALLBUILDCHECKBUILD BIN
structToolbox 1.22.0  (landing page)
Gavin Rhys Lloyd
Snapshot Date: 2025-11-17 13:45 -0500 (Mon, 17 Nov 2025)
git_url: https://git.bioconductor.org/packages/structToolbox
git_branch: RELEASE_3_22
git_last_commit: cad0ce8
git_last_commit_date: 2025-10-29 10:56:35 -0500 (Wed, 29 Oct 2025)
nebbiolo2Linux (Ubuntu 24.04.3 LTS) / x86_64  OK    OK    OK  NO, package depends on 'struct' which is not available
merida1macOS 12.7.6 Monterey / x86_64  OK    OK    OK    OK  NO, package depends on 'struct' which is not available
kjohnson1macOS 13.7.5 Ventura / arm64  OK    OK    OK    OK  NO, package depends on 'struct' which is not available
taishanLinux (openEuler 24.03 LTS) / aarch64  OK    OK    OK  


CHECK results for structToolbox on kjohnson1

To the developers/maintainers of the structToolbox package:
- Allow up to 24 hours (and sometimes 48 hours) for your latest push to git@git.bioconductor.org:packages/structToolbox.git to reflect on this report. See Troubleshooting Build Report for more information.
- Use the following Renviron settings to reproduce errors and warnings.
- If 'R CMD check' started to fail recently on the Linux builder(s) over a missing dependency, add the missing dependency to 'Suggests:' in your DESCRIPTION file. See Renviron.bioc for more information.

raw results


Summary

Package: structToolbox
Version: 1.22.0
Command: /Library/Frameworks/R.framework/Resources/bin/R CMD check --install=check:structToolbox.install-out.txt --library=/Library/Frameworks/R.framework/Resources/library --no-vignettes --timings structToolbox_1.22.0.tar.gz
StartedAt: 2025-11-18 13:52:38 -0500 (Tue, 18 Nov 2025)
EndedAt: 2025-11-18 13:56:31 -0500 (Tue, 18 Nov 2025)
EllapsedTime: 233.0 seconds
RetCode: 0
Status:   OK  
CheckDir: structToolbox.Rcheck
Warnings: 0

Command output

##############################################################################
##############################################################################
###
### Running command:
###
###   /Library/Frameworks/R.framework/Resources/bin/R CMD check --install=check:structToolbox.install-out.txt --library=/Library/Frameworks/R.framework/Resources/library --no-vignettes --timings structToolbox_1.22.0.tar.gz
###
##############################################################################
##############################################################################


* using log directory ‘/Users/biocbuild/bbs-3.22-bioc/meat/structToolbox.Rcheck’
* using R version 4.5.2 Patched (2025-11-04 r88984)
* using platform: aarch64-apple-darwin20
* R was compiled by
    Apple clang version 16.0.0 (clang-1600.0.26.6)
    GNU Fortran (GCC) 14.2.0
* running under: macOS Ventura 13.7.8
* using session charset: UTF-8
* using option ‘--no-vignettes’
* checking for file ‘structToolbox/DESCRIPTION’ ... OK
* checking extension type ... Package
* this is package ‘structToolbox’ version ‘1.22.0’
* package encoding: UTF-8
* checking package namespace information ... OK
* checking package dependencies ... OK
* checking if this is a source package ... OK
* checking if there is a namespace ... OK
* checking for hidden files and directories ... OK
* checking for portable file names ... OK
* checking for sufficient/correct file permissions ... OK
* checking whether package ‘structToolbox’ can be installed ... OK
* checking installed package size ... OK
* checking package directory ... OK
* checking ‘build’ directory ... OK
* checking DESCRIPTION meta-information ... OK
* checking top-level files ... OK
* checking for left-over files ... OK
* checking index information ... OK
* checking package subdirectories ... OK
* checking code files for non-ASCII characters ... OK
* checking R files for syntax errors ... OK
* checking whether the package can be loaded ... OK
* checking whether the package can be loaded with stated dependencies ... OK
* checking whether the package can be unloaded cleanly ... OK
* checking whether the namespace can be loaded with stated dependencies ... OK
* checking whether the namespace can be unloaded cleanly ... OK
* checking dependencies in R code ... OK
* checking S3 generic/method consistency ... OK
* checking replacement functions ... OK
* checking foreign function calls ... OK
* checking R code for possible problems ... OK
* checking Rd files ... OK
* checking Rd metadata ... OK
* checking Rd cross-references ... OK
* checking for missing documentation entries ... OK
* checking for code/documentation mismatches ... OK
* checking Rd \usage sections ... OK
* checking Rd contents ... OK
* checking for unstated dependencies in examples ... OK
* checking R/sysdata.rda ... OK
* checking files in ‘vignettes’ ... OK
* checking examples ... OK
Examples with CPU (user + system) or elapsed time > 5s
                user system elapsed
fold_change_int 5.64  0.013   6.613
* checking for unstated dependencies in ‘tests’ ... OK
* checking tests ...
  Running ‘testthat.R’
 OK
* checking for unstated dependencies in vignettes ... OK
* checking package vignettes ... OK
* checking running R code from vignettes ... SKIPPED
* checking re-building of vignette outputs ... SKIPPED
* checking PDF version of manual ... OK
* DONE

Status: OK


Installation output

structToolbox.Rcheck/00install.out

##############################################################################
##############################################################################
###
### Running command:
###
###   /Library/Frameworks/R.framework/Resources/bin/R CMD INSTALL structToolbox
###
##############################################################################
##############################################################################


* installing to library ‘/Library/Frameworks/R.framework/Versions/4.5-arm64/Resources/library’
* installing *source* package ‘structToolbox’ ...
** this is package ‘structToolbox’ version ‘1.22.0’
** using staged installation
** R
** inst
** byte-compile and prepare package for lazy loading
** help
*** installing help indices
** building package indices
** installing vignettes
** testing if installed package can be loaded from temporary location
** testing if installed package can be loaded from final location
** testing if installed package keeps a record of temporary installation path
* DONE (structToolbox)

Tests output

structToolbox.Rcheck/tests/testthat.Rout


R version 4.5.2 Patched (2025-11-04 r88984) -- "[Not] Part in a Rumble"
Copyright (C) 2025 The R Foundation for Statistical Computing
Platform: aarch64-apple-darwin20

R is free software and comes with ABSOLUTELY NO WARRANTY.
You are welcome to redistribute it under certain conditions.
Type 'license()' or 'licence()' for distribution details.

R is a collaborative project with many contributors.
Type 'contributors()' for more information and
'citation()' on how to cite R or R packages in publications.

Type 'demo()' for some demos, 'help()' for on-line help, or
'help.start()' for an HTML browser interface to help.
Type 'q()' to quit R.

> library(testthat)
> library(ggplot2)
> library(structToolbox)
Loading required package: struct
> 
> test_check("structToolbox")
[ FAIL 0 | WARN 6 | SKIP 0 | PASS 166 ]

[ FAIL 0 | WARN 6 | SKIP 0 | PASS 166 ]
> 
> proc.time()
   user  system elapsed 
 70.069   0.749  85.015 

Example timings

structToolbox.Rcheck/structToolbox-Ex.timings

nameusersystemelapsed
ANOVA0.0770.0030.083
AUC0.7670.0310.943
DFA0.0650.0000.065
DatasetExperiment_boxplot0.4000.0100.427
DatasetExperiment_dist0.5900.0240.725
DatasetExperiment_factor_boxplot0.1200.0030.125
DatasetExperiment_heatmap0.5180.0100.709
HCA0.0220.0010.023
HSD0.1040.0070.138
HSDEM0.1240.0080.150
MTBLS79_DatasetExperiment000
OPLSDA0.0040.0000.007
OPLSR0.0020.0000.003
PCA0.0020.0000.001
PLSDA0.0040.0000.004
PLSR0.0030.0010.005
SVM0.0070.0000.007
as_data_frame0.0460.0010.052
autoscale0.0270.0010.046
balanced_accuracy0.6310.0060.760
blank_filter0.1510.0090.284
blank_filter_hist0.0000.0000.001
bootstrap0.0040.0000.006
calculate0.0020.0000.002
chart_plot0.0100.0010.015
classical_lsq0.1010.0010.120
compare_dist2.0010.0672.554
confounders_clsq1.0220.0071.424
confounders_lsq_barchart1.1490.0091.749
confounders_lsq_boxplot1.2340.0131.729
constant_sum_norm0.0020.0000.003
corr_coef0.0850.0010.096
dfa_scores_plot0.3490.0040.450
dratio_filter0.0910.0020.112
equal_split0.0470.0020.075
feature_boxplot0.0100.0010.014
feature_profile0.1750.0010.191
feature_profile_array0.2430.0010.319
filter_by_name0.0180.0000.019
filter_na_count0.3820.0170.469
filter_smeta0.0210.0010.023
fisher_exact3.4420.0083.947
fold_change3.7130.0104.318
fold_change_int5.6400.0136.613
fold_change_plot0.0020.0000.003
forward_selection_by_rank2.2210.0362.543
fs_line2.5720.0453.184
glog_opt_plot0.1880.0020.230
glog_transform0.1040.0010.137
grid_search_1d1.6200.0511.996
gs_line000
hca_dendrogram0.0000.0000.001
kfold_xval1.1750.0101.389
kfoldxcv_grid1.3660.0171.757
kfoldxcv_metric0.0000.0000.001
knn_impute0.0040.0000.004
kw_p_hist000
kw_rank_sum0.0260.0000.026
linear_model0.010.000.01
log_transform0.0020.0000.002
mean_centre0.0010.0000.001
mean_of_medians0.0420.0000.066
mixed_effect0.0570.0000.065
model_apply0.0080.0010.009
model_predict0.0230.0020.029
model_reverse0.0080.0000.008
model_train0.0160.0000.017
mv_boxplot0.1450.0010.154
mv_feature_filter0.0460.0010.052
mv_feature_filter_hist0.0010.0000.000
mv_histogram0.1240.0010.154
mv_sample_filter0.0030.0000.005
mv_sample_filter_hist000
nroot_transform0.0020.0000.003
ontology_cache000
pairs_filter0.0030.0000.003
pareto_scale0.0210.0010.025
pca_biplot0.0050.0000.007
pca_correlation_plot0.0020.0000.002
pca_dstat_plot0.0030.0010.003
pca_loadings_plot0.0030.0000.003
pca_scores_plot0.2520.0030.294
pca_scree_plot0.0020.0000.002
permutation_test0.0030.0000.003
permutation_test_plot0.0010.0000.001
permute_sample_order0.0030.0000.002
pls_regcoeff_plot0.1720.0030.210
pls_scores_plot0.3020.0020.305
pls_vip_plot0.1730.0010.183
plsda_feature_importance_plot0.3200.0020.347
plsda_predicted_plot0.2150.0020.266
plsda_roc_plot0.4390.0030.535
plsr_cook_dist0.0030.0000.002
plsr_prediction_plot0.0020.0000.003
plsr_qq_plot0.0020.0000.004
plsr_residual_hist0.0030.0000.004
pqn_norm0.1260.0020.183
pqn_norm_hist000
prop_na0.0030.0000.005
r_squared000
resample0.0050.0000.009
resample_chart0.0010.0000.002
rsd_filter0.0040.0010.005
rsd_filter_hist0.0010.0000.000
run0.010.000.01
sb_corr0.0080.0010.008
scatter_chart0.1930.0010.249
split_data0.0020.0000.003
stratified_split0.0390.0000.040
svm_plot_2d0.2930.0070.318
tSNE0.0070.0000.008
tSNE_scatter0.0020.0010.004
tic_chart0.1220.0010.128
ttest0.0070.0000.008
vec_norm000
wilcox_p_hist0.0000.0000.001
wilcox_test0.0060.0000.012