Back to Multiple platform build/check report for BioC 3.22:   simplified   long
ABCDEFGHIJKLMNOPQR[S]TUVWXYZ

This page was generated on 2025-10-25 12:05 -0400 (Sat, 25 Oct 2025).

HostnameOSArch (*)R versionInstalled pkgs
nebbiolo2Linux (Ubuntu 24.04.3 LTS)x86_644.5.1 Patched (2025-08-23 r88802) -- "Great Square Root" 4901
lconwaymacOS 12.7.6 Montereyx86_644.5.1 Patched (2025-09-10 r88807) -- "Great Square Root" 4691
kjohnson3macOS 13.7.7 Venturaarm644.5.1 Patched (2025-09-10 r88807) -- "Great Square Root" 4637
taishanLinux (openEuler 24.03 LTS)aarch644.5.0 (2025-04-11) -- "How About a Twenty-Six" 4658
Click on any hostname to see more info about the system (e.g. compilers)      (*) as reported by 'uname -p', except on Windows and Mac OS X

Package 1992/2361HostnameOS / ArchINSTALLBUILDCHECKBUILD BIN
sesame 1.27.1  (landing page)
Wanding Zhou
Snapshot Date: 2025-10-24 13:45 -0400 (Fri, 24 Oct 2025)
git_url: https://git.bioconductor.org/packages/sesame
git_branch: devel
git_last_commit: e90f911
git_last_commit_date: 2025-06-21 02:29:58 -0400 (Sat, 21 Jun 2025)
nebbiolo2Linux (Ubuntu 24.04.3 LTS) / x86_64  OK    OK    OK  UNNEEDED, same version is already published
lconwaymacOS 12.7.6 Monterey / x86_64  OK    OK    OK    OK  UNNEEDED, same version is already published
kjohnson3macOS 13.7.7 Ventura / arm64  OK    OK    OK    OK  UNNEEDED, same version is already published
taishanLinux (openEuler 24.03 LTS) / aarch64  OK    NA    NA  


CHECK results for sesame on lconway

To the developers/maintainers of the sesame package:
- Allow up to 24 hours (and sometimes 48 hours) for your latest push to git@git.bioconductor.org:packages/sesame.git to reflect on this report. See Troubleshooting Build Report for more information.
- Use the following Renviron settings to reproduce errors and warnings.
- If 'R CMD check' started to fail recently on the Linux builder(s) over a missing dependency, add the missing dependency to 'Suggests:' in your DESCRIPTION file. See Renviron.bioc for more information.

raw results


Summary

Package: sesame
Version: 1.27.1
Command: /Library/Frameworks/R.framework/Resources/bin/R CMD check --install=check:sesame.install-out.txt --library=/Library/Frameworks/R.framework/Resources/library --no-vignettes --timings sesame_1.27.1.tar.gz
StartedAt: 2025-10-25 00:16:24 -0400 (Sat, 25 Oct 2025)
EndedAt: 2025-10-25 00:29:08 -0400 (Sat, 25 Oct 2025)
EllapsedTime: 764.4 seconds
RetCode: 0
Status:   OK  
CheckDir: sesame.Rcheck
Warnings: 0

Command output

##############################################################################
##############################################################################
###
### Running command:
###
###   /Library/Frameworks/R.framework/Resources/bin/R CMD check --install=check:sesame.install-out.txt --library=/Library/Frameworks/R.framework/Resources/library --no-vignettes --timings sesame_1.27.1.tar.gz
###
##############################################################################
##############################################################################


* using log directory ‘/Users/biocbuild/bbs-3.22-bioc/meat/sesame.Rcheck’
* using R version 4.5.1 Patched (2025-09-10 r88807)
* using platform: x86_64-apple-darwin20
* R was compiled by
    Apple clang version 14.0.0 (clang-1400.0.29.202)
    GNU Fortran (GCC) 14.2.0
* running under: macOS Monterey 12.7.6
* using session charset: UTF-8
* using option ‘--no-vignettes’
* checking for file ‘sesame/DESCRIPTION’ ... OK
* checking extension type ... Package
* this is package ‘sesame’ version ‘1.27.1’
* package encoding: UTF-8
* checking package namespace information ... OK
* checking package dependencies ... OK
* checking if this is a source package ... OK
* checking if there is a namespace ... OK
* checking for hidden files and directories ... OK
* checking for portable file names ... OK
* checking for sufficient/correct file permissions ... OK
* checking whether package ‘sesame’ can be installed ... OK
* checking installed package size ... OK
* checking package directory ... OK
* checking ‘build’ directory ... OK
* checking DESCRIPTION meta-information ... OK
* checking top-level files ... OK
* checking for left-over files ... OK
* checking index information ... OK
* checking package subdirectories ... OK
* checking code files for non-ASCII characters ... OK
* checking R files for syntax errors ... OK
* checking whether the package can be loaded ... OK
* checking whether the package can be loaded with stated dependencies ... OK
* checking whether the package can be unloaded cleanly ... OK
* checking whether the namespace can be loaded with stated dependencies ... OK
* checking whether the namespace can be unloaded cleanly ... OK
* checking whether startup messages can be suppressed ... OK
* checking dependencies in R code ... OK
* checking S3 generic/method consistency ... OK
* checking replacement functions ... OK
* checking foreign function calls ... OK
* checking R code for possible problems ... OK
* checking Rd files ... OK
* checking Rd metadata ... OK
* checking Rd cross-references ... OK
* checking for missing documentation entries ... OK
* checking for code/documentation mismatches ... OK
* checking Rd \usage sections ... OK
* checking Rd contents ... OK
* checking for unstated dependencies in examples ... OK
* checking files in ‘vignettes’ ... OK
* checking examples ... OK
Examples with CPU (user + system) or elapsed time > 5s
                                user system elapsed
imputeBetasByGenomicNeighbors 36.390  1.450  38.089
inferSex                      24.567  1.140  25.844
sesameQC_calcStats            22.542  1.648  24.336
sesameQC_plotHeatSNPs         20.778  1.966  22.901
imputeBetas                   18.297  1.530  20.003
ELBAR                         16.809  2.853  19.900
diffRefSet                    16.559  0.658  17.330
inferSpecies                  15.899  0.672  16.676
sesameQC_plotBar              13.566  0.503  14.173
compareMouseStrainReference   12.513  0.478  13.141
getRefSet                     12.467  0.473  13.025
compareReference              11.476  0.557  12.132
matchDesign                   11.306  0.643  12.020
sesameQC_plotBetaByDesign     10.253  1.017  11.327
DMR                            9.229  0.276   9.591
visualizeGene                  8.750  0.693   9.494
sdf_read_table                 8.792  0.427   9.287
inferTissue                    7.698  1.441   9.250
inferStrain                    7.960  0.606   8.610
DML                            7.930  0.315   8.312
estimateLeukocyte              7.060  0.528   7.652
dyeBiasCorrMostBalanced        6.711  0.299   7.064
getMask                        6.293  0.588   6.924
dyeBiasNL                      6.188  0.511   6.747
createUCSCtrack                6.208  0.315   6.577
openSesame                     5.263  0.885   6.197
deIdentify                     5.765  0.322   6.155
probeSuccessRate               5.452  0.456   5.950
reIdentify                     4.741  0.300   5.081
* checking for unstated dependencies in ‘tests’ ... OK
* checking tests ...
  Running ‘testthat.R’
 OK
* checking for unstated dependencies in vignettes ... OK
* checking package vignettes ... OK
* checking running R code from vignettes ... SKIPPED
* checking re-building of vignette outputs ... SKIPPED
* checking PDF version of manual ... OK
* DONE

Status: OK


Installation output

sesame.Rcheck/00install.out

##############################################################################
##############################################################################
###
### Running command:
###
###   /Library/Frameworks/R.framework/Resources/bin/R CMD INSTALL sesame
###
##############################################################################
##############################################################################


* installing to library ‘/Library/Frameworks/R.framework/Versions/4.5-x86_64/Resources/library’
* installing *source* package ‘sesame’ ...
** this is package ‘sesame’ version ‘1.27.1’
** using staged installation
** R
** inst
** byte-compile and prepare package for lazy loading
** help
*** installing help indices
** building package indices
** installing vignettes
** testing if installed package can be loaded from temporary location
** testing if installed package can be loaded from final location
** testing if installed package keeps a record of temporary installation path
* DONE (sesame)

Tests output

sesame.Rcheck/tests/testthat.Rout


R version 4.5.1 Patched (2025-09-10 r88807) -- "Great Square Root"
Copyright (C) 2025 The R Foundation for Statistical Computing
Platform: x86_64-apple-darwin20

R is free software and comes with ABSOLUTELY NO WARRANTY.
You are welcome to redistribute it under certain conditions.
Type 'license()' or 'licence()' for distribution details.

R is a collaborative project with many contributors.
Type 'contributors()' for more information and
'citation()' on how to cite R or R packages in publications.

Type 'demo()' for some demos, 'help()' for on-line help, or
'help.start()' for an HTML browser interface to help.
Type 'q()' to quit R.

> library(testthat)
> library(sesame)
Loading required package: sesameData
Loading required package: ExperimentHub
Loading required package: BiocGenerics
Loading required package: generics

Attaching package: 'generics'

The following objects are masked from 'package:base':

    as.difftime, as.factor, as.ordered, intersect, is.element, setdiff,
    setequal, union


Attaching package: 'BiocGenerics'

The following objects are masked from 'package:stats':

    IQR, mad, sd, var, xtabs

The following objects are masked from 'package:base':

    Filter, Find, Map, Position, Reduce, anyDuplicated, aperm, append,
    as.data.frame, basename, cbind, colnames, dirname, do.call,
    duplicated, eval, evalq, get, grep, grepl, is.unsorted, lapply,
    mapply, match, mget, order, paste, pmax, pmax.int, pmin, pmin.int,
    rank, rbind, rownames, sapply, saveRDS, table, tapply, unique,
    unsplit, which.max, which.min

Loading required package: AnnotationHub
Loading required package: BiocFileCache
Loading required package: dbplyr
Loading sesameData.

----------------------------------------------------------
| SEnsible Step-wise Analysis of DNA MEthylation (SeSAMe)
| --------------------------------------------------------
| Please cache auxiliary data by "sesameDataCache()".
| This needs to be done only once per SeSAMe installation.
----------------------------------------------------------

> 
> test_check("sesame")
[ FAIL 0 | WARN 0 | SKIP 0 | PASS 5 ]
> 
> proc.time()
   user  system elapsed 
 20.149   0.983  21.234 

Example timings

sesame.Rcheck/sesame-Ex.timings

nameusersystemelapsed
BetaValueToMValue0.0000.0010.001
DML7.9300.3158.312
DMLpredict1.3550.1191.495
DMR9.2290.2769.591
ELBAR16.809 2.85319.900
MValueToBetaValue0.0010.0000.001
SigDF0.2980.0600.363
addMask0.1610.0220.185
betasCollapseToPfx0.0140.0010.015
bisConversionControl4.5620.2264.830
calcEffectSize1.1400.1221.276
checkLevels3.2250.2963.570
cnSegmentation0.2880.0680.359
compareMouseStrainReference12.513 0.47813.141
compareMouseTissueReference000
compareReference11.476 0.55712.132
controls2.0740.2142.316
createUCSCtrack6.2080.3156.577
deIdentify5.7650.3226.155
detectionPnegEcdf1.2310.0171.252
diffRefSet16.559 0.65817.330
dmContrasts2.0680.2562.346
dyeBiasCorr2.9270.2213.170
dyeBiasCorrMostBalanced6.7110.2997.064
dyeBiasL2.4900.1592.664
dyeBiasNL6.1880.5116.747
estimateLeukocyte7.0600.5287.652
formatVCF2.1540.2462.417
getAFTypeIbySumAlleles1.7850.2012.006
getAFs1.2240.1051.341
getBetas0.9150.1091.031
getMask6.2930.5886.924
getRefSet12.467 0.47313.025
imputeBetas18.297 1.53020.003
imputeBetasByGenomicNeighbors36.390 1.45038.089
imputeBetasMatrixByMean0.0020.0000.002
inferEthnicity0.0010.0000.000
inferInfiniumIChannel0.3870.4830.877
inferSex24.567 1.14025.844
inferSpecies15.899 0.67216.676
inferStrain7.9600.6068.610
inferTissue7.6981.4419.250
initFileSet1.2210.2701.505
listAvailableMasks1.3430.1561.511
mLiftOver0.0010.0010.002
mapFileSet0.0360.0030.039
mapToMammal402.6170.3543.002
matchDesign11.306 0.64312.020
meanIntensity2.6580.2012.887
medianTotalIntensity0.8540.0570.915
noMasked3.9890.5254.551
noob2.0550.0502.116
openSesame5.2630.8856.197
openSesameToFile1.5820.1301.721
pOOBAH1.4130.0071.426
palgen0.0390.0080.048
parseGEOsignalMU3.0920.1393.259
predictAge2.6020.4083.034
predictAgeHorvath3530.0000.0000.001
predictAgeSkinBlood000
predictMouseAgeInMonth000
prefixMask0.7280.0030.732
prefixMaskButC0.1940.0010.195
prefixMaskButCG0.0840.0010.084
prepSesame3.8040.1704.014
prepSesameList0.0020.0010.003
print.DMLSummary3.0500.6683.755
print.fileSet1.1680.1821.356
probeID_designType000
probeSuccessRate5.4520.4565.950
qualityMask1.7330.2141.960
reIdentify4.7410.3005.081
readFileSet0.0580.0030.062
readIDATpair0.1590.0030.164
recommendedMaskNames0.0000.0000.001
resetMask0.4390.0690.514
scrub2.3630.5002.890
scrubSoft3.2590.4593.744
sdfPlatform0.3110.0690.385
sdf_read_table8.7920.4279.287
sdf_write_table2.5140.1512.695
searchIDATprefixes0.0040.0020.007
sesame-package2.2600.5662.860
sesameAnno_attachManifest000
sesameAnno_buildAddressFile000
sesameAnno_buildManifestGRanges0.0000.0000.001
sesameAnno_download0.0010.0000.000
sesameAnno_readManifestTSV0.0000.0010.001
sesameQC_calcStats22.542 1.64824.336
sesameQC_getStats2.4270.2972.745
sesameQC_plotBar13.566 0.50314.173
sesameQC_plotBetaByDesign10.253 1.01711.327
sesameQC_plotHeatSNPs20.778 1.96622.901
sesameQC_plotIntensVsBetas3.4380.5073.978
sesameQC_plotRedGrnQQ1.0580.1411.208
sesameQC_rankStats3.4210.6304.087
sesameQCtoDF2.1050.0122.127
sesame_checkVersion0.0030.0010.003
sesamize000
setMask0.1140.0020.116
signalMU1.0750.2351.333
sliceFileSet0.0370.0090.047
summaryExtractTest2.7250.6063.352
totalIntensities2.4540.3022.788
updateSigDF3.1140.5213.679
visualizeGene8.7500.6939.494
visualizeProbes1.2340.0361.275
visualizeRegion0.3460.0030.350
visualizeSegments1.8750.3642.270