| Back to Multiple platform build/check report for BioC 3.22: simplified long |
|
This page was generated on 2025-10-25 12:06 -0400 (Sat, 25 Oct 2025).
| Hostname | OS | Arch (*) | R version | Installed pkgs |
|---|---|---|---|---|
| nebbiolo2 | Linux (Ubuntu 24.04.3 LTS) | x86_64 | 4.5.1 Patched (2025-08-23 r88802) -- "Great Square Root" | 4901 |
| lconway | macOS 12.7.6 Monterey | x86_64 | 4.5.1 Patched (2025-09-10 r88807) -- "Great Square Root" | 4691 |
| kjohnson3 | macOS 13.7.7 Ventura | arm64 | 4.5.1 Patched (2025-09-10 r88807) -- "Great Square Root" | 4637 |
| taishan | Linux (openEuler 24.03 LTS) | aarch64 | 4.5.0 (2025-04-11) -- "How About a Twenty-Six" | 4658 |
| Click on any hostname to see more info about the system (e.g. compilers) (*) as reported by 'uname -p', except on Windows and Mac OS X | ||||
| Package 1919/2361 | Hostname | OS / Arch | INSTALL | BUILD | CHECK | BUILD BIN | ||||||||
| scDiagnostics 1.3.0 (landing page) Anthony Christidis
| nebbiolo2 | Linux (Ubuntu 24.04.3 LTS) / x86_64 | OK | OK | OK | |||||||||
| lconway | macOS 12.7.6 Monterey / x86_64 | OK | OK | OK | OK | |||||||||
| kjohnson3 | macOS 13.7.7 Ventura / arm64 | OK | OK | OK | OK | |||||||||
| taishan | Linux (openEuler 24.03 LTS) / aarch64 | OK | NA | NA | ||||||||||
|
To the developers/maintainers of the scDiagnostics package: - Allow up to 24 hours (and sometimes 48 hours) for your latest push to git@git.bioconductor.org:packages/scDiagnostics.git to reflect on this report. See Troubleshooting Build Report for more information. - Use the following Renviron settings to reproduce errors and warnings. - If 'R CMD check' started to fail recently on the Linux builder(s) over a missing dependency, add the missing dependency to 'Suggests:' in your DESCRIPTION file. See Renviron.bioc for more information. |
| Package: scDiagnostics |
| Version: 1.3.0 |
| Command: /Library/Frameworks/R.framework/Resources/bin/R CMD check --install=check:scDiagnostics.install-out.txt --library=/Library/Frameworks/R.framework/Resources/library --no-vignettes --timings scDiagnostics_1.3.0.tar.gz |
| StartedAt: 2025-10-24 21:55:02 -0400 (Fri, 24 Oct 2025) |
| EndedAt: 2025-10-24 21:57:54 -0400 (Fri, 24 Oct 2025) |
| EllapsedTime: 171.9 seconds |
| RetCode: 0 |
| Status: OK |
| CheckDir: scDiagnostics.Rcheck |
| Warnings: 0 |
##############################################################################
##############################################################################
###
### Running command:
###
### /Library/Frameworks/R.framework/Resources/bin/R CMD check --install=check:scDiagnostics.install-out.txt --library=/Library/Frameworks/R.framework/Resources/library --no-vignettes --timings scDiagnostics_1.3.0.tar.gz
###
##############################################################################
##############################################################################
* using log directory ‘/Users/biocbuild/bbs-3.22-bioc/meat/scDiagnostics.Rcheck’
* using R version 4.5.1 Patched (2025-09-10 r88807)
* using platform: aarch64-apple-darwin20
* R was compiled by
Apple clang version 16.0.0 (clang-1600.0.26.6)
GNU Fortran (GCC) 14.2.0
* running under: macOS Ventura 13.7.7
* using session charset: UTF-8
* using option ‘--no-vignettes’
* checking for file ‘scDiagnostics/DESCRIPTION’ ... OK
* checking extension type ... Package
* this is package ‘scDiagnostics’ version ‘1.3.0’
* package encoding: UTF-8
* checking package namespace information ... OK
* checking package dependencies ... OK
* checking if this is a source package ... OK
* checking if there is a namespace ... OK
* checking for hidden files and directories ... OK
* checking for portable file names ... OK
* checking for sufficient/correct file permissions ... OK
* checking whether package ‘scDiagnostics’ can be installed ... OK
* checking installed package size ... OK
* checking package directory ... OK
* checking ‘build’ directory ... OK
* checking DESCRIPTION meta-information ... OK
* checking top-level files ... OK
* checking for left-over files ... OK
* checking index information ... OK
* checking package subdirectories ... OK
* checking code files for non-ASCII characters ... OK
* checking R files for syntax errors ... OK
* checking whether the package can be loaded ... OK
* checking whether the package can be loaded with stated dependencies ... OK
* checking whether the package can be unloaded cleanly ... OK
* checking whether the namespace can be loaded with stated dependencies ... OK
* checking whether the namespace can be unloaded cleanly ... OK
* checking dependencies in R code ... OK
* checking S3 generic/method consistency ... OK
* checking replacement functions ... OK
* checking foreign function calls ... OK
* checking R code for possible problems ... OK
* checking Rd files ... OK
* checking Rd metadata ... OK
* checking Rd cross-references ... NOTE
Found the following Rd file(s) with Rd \link{} targets missing package
anchors:
argumentCheck.Rd: SingleCellExperiment-class
boxplotPCA.Rd: SingleCellExperiment-class
calculateAveragePairwiseCorrelation.Rd: SingleCellExperiment-class
calculateCellDistances.Rd: SingleCellExperiment-class
calculateCellDistancesSimilarity.Rd: SingleCellExperiment-class
calculateCellSimilarityPCA.Rd: SingleCellExperiment-class
calculateCramerPValue.Rd: SingleCellExperiment-class
calculateDiscriminantSpace.Rd: SingleCellExperiment-class
calculateHotellingPValue.Rd: SingleCellExperiment-class
calculateNearestNeighborProbabilities.Rd: SingleCellExperiment-class
calculateSIRSpace.Rd: SingleCellExperiment-class
calculateVarImpOverlap.Rd: SingleCellExperiment-class
calculateWassersteinDistance.Rd: SingleCellExperiment-class
compareCCA.Rd: SingleCellExperiment-class
comparePCA.Rd: SingleCellExperiment-class
comparePCASubspace.Rd: SingleCellExperiment-class
detectAnomaly.Rd: SingleCellExperiment-class
histQCvsAnnotation.Rd: SingleCellExperiment-class
plotCellTypeMDS.Rd: SingleCellExperiment-class
plotCellTypePCA.Rd: SingleCellExperiment-class
plotGeneExpressionDimred.Rd: SingleCellExperiment-class
plotGeneSetScores.Rd: SingleCellExperiment-class
plotMarkerExpression.Rd: SingleCellExperiment-class
plotPairwiseDistancesDensity.Rd: SingleCellExperiment-class
plotQCvsAnnotation.Rd: SingleCellExperiment-class
projectPCA.Rd: SingleCellExperiment-class
projectSIR.Rd: SingleCellExperiment-class
regressPC.Rd: SingleCellExperiment-class
Please provide package anchors for all Rd \link{} targets not in the
package itself and the base packages.
* checking for missing documentation entries ... OK
* checking for code/documentation mismatches ... OK
* checking Rd \usage sections ... OK
* checking Rd contents ... OK
* checking for unstated dependencies in examples ... OK
* checking contents of ‘data’ directory ... OK
* checking data for non-ASCII characters ... OK
* checking LazyData ... NOTE
'LazyDataCompression' is specified without 'LazyData'
* checking data for ASCII and uncompressed saves ... OK
* checking files in ‘vignettes’ ... OK
* checking examples ... OK
Examples with CPU (user + system) or elapsed time > 5s
user system elapsed
plotCellTypeMDS 10.175 0.077 10.257
calculateCellDistances 5.718 0.226 5.995
* checking for unstated dependencies in ‘tests’ ... OK
* checking tests ...
Running ‘testthat.R’
OK
* checking for unstated dependencies in vignettes ... OK
* checking package vignettes ... OK
* checking running R code from vignettes ... SKIPPED
* checking re-building of vignette outputs ... SKIPPED
* checking PDF version of manual ... OK
* DONE
Status: 2 NOTEs
See
‘/Users/biocbuild/bbs-3.22-bioc/meat/scDiagnostics.Rcheck/00check.log’
for details.
scDiagnostics.Rcheck/00install.out
############################################################################## ############################################################################## ### ### Running command: ### ### /Library/Frameworks/R.framework/Resources/bin/R CMD INSTALL scDiagnostics ### ############################################################################## ############################################################################## * installing to library ‘/Library/Frameworks/R.framework/Versions/4.5-arm64/Resources/library’ * installing *source* package ‘scDiagnostics’ ... ** this is package ‘scDiagnostics’ version ‘1.3.0’ ** using staged installation ** R ** data ** inst ** byte-compile and prepare package for lazy loading ** help *** installing help indices ** building package indices ** installing vignettes ** testing if installed package can be loaded from temporary location ** testing if installed package can be loaded from final location ** testing if installed package keeps a record of temporary installation path * DONE (scDiagnostics)
scDiagnostics.Rcheck/tests/testthat.Rout
R version 4.5.1 Patched (2025-09-10 r88807) -- "Great Square Root"
Copyright (C) 2025 The R Foundation for Statistical Computing
Platform: aarch64-apple-darwin20
R is free software and comes with ABSOLUTELY NO WARRANTY.
You are welcome to redistribute it under certain conditions.
Type 'license()' or 'licence()' for distribution details.
R is a collaborative project with many contributors.
Type 'contributors()' for more information and
'citation()' on how to cite R or R packages in publications.
Type 'demo()' for some demos, 'help()' for on-line help, or
'help.start()' for an HTML browser interface to help.
Type 'q()' to quit R.
> # This file is part of the standard setup for testthat.
> # It is recommended that you do not modify it.
> #
> # Where should you do additional test configuration?
> # Learn more about the roles of various files in:
> # * https://r-pkgs.org/testing-design.html#sec-tests-files-overview
> # * https://testthat.r-lib.org/articles/special-files.html
>
> library(testthat)
> library(scDiagnostics)
>
> test_check("scDiagnostics")
'as(<dsCMatrix>, "dgCMatrix")' is deprecated.
Use 'as(., "generalMatrix")' instead.
See help("Deprecated") and help("Matrix-deprecated").
[ FAIL 0 | WARN 27 | SKIP 0 | PASS 276 ]
[ FAIL 0 | WARN 27 | SKIP 0 | PASS 276 ]
>
> proc.time()
user system elapsed
56.132 3.776 57.301
scDiagnostics.Rcheck/scDiagnostics-Ex.timings
| name | user | system | elapsed | |
| boxplotPCA | 0.972 | 0.022 | 0.995 | |
| calculateAveragePairwiseCorrelation | 1.141 | 0.051 | 1.198 | |
| calculateCategorizationEntropy | 0.017 | 0.002 | 0.020 | |
| calculateCellDistances | 5.718 | 0.226 | 5.995 | |
| calculateCellDistancesSimilarity | 1.810 | 0.090 | 1.904 | |
| calculateCellSimilarityPCA | 0.688 | 0.039 | 0.734 | |
| calculateCramerPValue | 3.642 | 1.231 | 4.884 | |
| calculateDiscriminantSpace | 2.199 | 0.080 | 1.658 | |
| calculateHVGOverlap | 0.433 | 0.021 | 0.463 | |
| calculateHotellingPValue | 0.495 | 0.033 | 0.532 | |
| calculateNearestNeighborProbabilities | 0.582 | 0.024 | 0.611 | |
| calculateSIRSpace | 1.203 | 0.014 | 1.217 | |
| calculateVarImpOverlap | 2.104 | 0.029 | 1.303 | |
| calculateWassersteinDistance | 0.871 | 0.064 | 0.936 | |
| compareCCA | 0.418 | 0.019 | 0.437 | |
| comparePCA | 0.431 | 0.017 | 0.448 | |
| comparePCASubspace | 0.464 | 0.010 | 0.473 | |
| detectAnomaly | 0.836 | 0.032 | 0.873 | |
| histQCvsAnnotation | 0.281 | 0.003 | 0.284 | |
| plot.calculateWassersteinDistanceObject | 0.641 | 0.043 | 0.685 | |
| plotCellTypeMDS | 10.175 | 0.077 | 10.257 | |
| plotCellTypePCA | 0.579 | 0.041 | 0.621 | |
| plotGeneExpressionDimred | 0.620 | 0.008 | 0.629 | |
| plotGeneSetScores | 0.442 | 0.005 | 0.485 | |
| plotMarkerExpression | 0.260 | 0.003 | 0.265 | |
| plotPairwiseDistancesDensity | 0.816 | 0.076 | 0.893 | |
| plotQCvsAnnotation | 0.106 | 0.002 | 0.108 | |
| projectPCA | 0.112 | 0.004 | 0.116 | |
| projectSIR | 0.661 | 0.015 | 0.674 | |
| qc_data | 0.016 | 0.001 | 0.018 | |
| query_data | 0.015 | 0.000 | 0.016 | |
| reference_data | 0.036 | 0.001 | 0.036 | |
| regressPC | 0.668 | 0.023 | 0.694 | |