Back to Multiple platform build/check report for BioC 3.22:   simplified   long
ABCDEF[G]HIJKLMNOPQRSTUVWXYZ

This page was generated on 2025-11-24 12:07 -0500 (Mon, 24 Nov 2025).

HostnameOSArch (*)R versionInstalled pkgs
nebbiolo2Linux (Ubuntu 24.04.3 LTS)x86_644.5.2 (2025-10-31) -- "[Not] Part in a Rumble" 4873
merida1macOS 12.7.6 Montereyx86_644.5.2 Patched (2025-11-05 r88990) -- "[Not] Part in a Rumble" 4654
kjohnson1macOS 13.7.5 Venturaarm644.5.2 Patched (2025-11-04 r88984) -- "[Not] Part in a Rumble" 4600
taishanLinux (openEuler 24.03 LTS)aarch644.5.0 (2025-04-11) -- "How About a Twenty-Six" 4668
Click on any hostname to see more info about the system (e.g. compilers)      (*) as reported by 'uname -p', except on Windows and Mac OS X

Package 812/2361HostnameOS / ArchINSTALLBUILDCHECKBUILD BIN
gemma.R 3.6.0  (landing page)
Ogan Mancarci
Snapshot Date: 2025-11-20 15:01 -0500 (Thu, 20 Nov 2025)
git_url: https://git.bioconductor.org/packages/gemma.R
git_branch: RELEASE_3_22
git_last_commit: 11548e5
git_last_commit_date: 2025-10-29 11:18:54 -0500 (Wed, 29 Oct 2025)
nebbiolo2Linux (Ubuntu 24.04.3 LTS) / x86_64  OK    OK    OK  UNNEEDED, same version is already published
merida1macOS 12.7.6 Monterey / x86_64  OK    OK    OK    OK  UNNEEDED, same version is already published
kjohnson1macOS 13.7.5 Ventura / arm64  OK    OK    OK    OK  UNNEEDED, same version is already published
taishanLinux (openEuler 24.03 LTS) / aarch64  OK    OK    OK  


CHECK results for gemma.R on taishan

To the developers/maintainers of the gemma.R package:
- Allow up to 24 hours (and sometimes 48 hours) for your latest push to git@git.bioconductor.org:packages/gemma.R.git to reflect on this report. See Troubleshooting Build Report for more information.
- Use the following Renviron settings to reproduce errors and warnings.
- If 'R CMD check' started to fail recently on the Linux builder(s) over a missing dependency, add the missing dependency to 'Suggests:' in your DESCRIPTION file. See Renviron.bioc for more information.
- See Martin Grigorov's blog post for how to debug Linux ARM64 related issues on a x86_64 host.

raw results


Summary

Package: gemma.R
Version: 3.6.0
Command: /home/biocbuild/R/R/bin/R CMD check --install=check:gemma.R.install-out.txt --library=/home/biocbuild/R/R/site-library --no-vignettes --timings gemma.R_3.6.0.tar.gz
StartedAt: 2025-11-21 10:56:14 -0000 (Fri, 21 Nov 2025)
EndedAt: 2025-11-21 11:15:51 -0000 (Fri, 21 Nov 2025)
EllapsedTime: 1177.7 seconds
RetCode: 0
Status:   OK  
CheckDir: gemma.R.Rcheck
Warnings: 0

Command output

##############################################################################
##############################################################################
###
### Running command:
###
###   /home/biocbuild/R/R/bin/R CMD check --install=check:gemma.R.install-out.txt --library=/home/biocbuild/R/R/site-library --no-vignettes --timings gemma.R_3.6.0.tar.gz
###
##############################################################################
##############################################################################


* using log directory ‘/home/biocbuild/bbs-3.22-bioc/meat/gemma.R.Rcheck’
* using R version 4.5.0 (2025-04-11)
* using platform: aarch64-unknown-linux-gnu
* R was compiled by
    aarch64-unknown-linux-gnu-gcc (GCC) 14.2.0
    GNU Fortran (GCC) 14.2.0
* running under: openEuler 24.03 (LTS)
* using session charset: UTF-8
* using option ‘--no-vignettes’
* checking for file ‘gemma.R/DESCRIPTION’ ... OK
* this is package ‘gemma.R’ version ‘3.6.0’
* package encoding: UTF-8
* checking package namespace information ... OK
* checking package dependencies ... INFO
Imports includes 21 non-default packages.
Importing from so many packages makes the package vulnerable to any of
them becoming unavailable.  Move as many as possible to Suggests and
use conditionally.
* checking if this is a source package ... OK
* checking if there is a namespace ... OK
* checking for hidden files and directories ... OK
* checking for portable file names ... OK
* checking for sufficient/correct file permissions ... OK
* checking whether package ‘gemma.R’ can be installed ... OK
* checking installed package size ... OK
* checking package directory ... OK
* checking ‘build’ directory ... OK
* checking DESCRIPTION meta-information ... OK
* checking top-level files ... OK
* checking for left-over files ... OK
* checking index information ... OK
* checking package subdirectories ... OK
* checking code files for non-ASCII characters ... OK
* checking R files for syntax errors ... OK
* checking whether the package can be loaded ... OK
* checking whether the package can be loaded with stated dependencies ... OK
* checking whether the package can be unloaded cleanly ... OK
* checking whether the namespace can be loaded with stated dependencies ... OK
* checking whether the namespace can be unloaded cleanly ... OK
* checking loading without being on the library search path ... OK
* checking dependencies in R code ... OK
* checking S3 generic/method consistency ... OK
* checking replacement functions ... OK
* checking foreign function calls ... OK
* checking R code for possible problems ... OK
* checking Rd files ... OK
* checking Rd metadata ... OK
* checking Rd cross-references ... OK
* checking for missing documentation entries ... OK
* checking for code/documentation mismatches ... OK
* checking Rd \usage sections ... OK
* checking Rd contents ... OK
* checking for unstated dependencies in examples ... OK
* checking files in ‘vignettes’ ... OK
* checking examples ... OK
Examples with CPU (user + system) or elapsed time > 5s
                                              user system elapsed
get_dataset_object                           9.188  0.283  16.266
get_gene_differential_expression_values      3.083  0.076  10.690
dot-get_gene_differential_expression_values  2.555  0.116  13.408
get_dataset_processed_expression             1.131  0.021  62.207
get_dataset_expression                       0.918  0.032   8.296
update_result                                0.664  0.004   7.000
get_dataset_differential_expression_analyses 0.606  0.012   7.826
get_datasets                                 0.171  0.012   6.586
* checking for unstated dependencies in ‘tests’ ... OK
* checking tests ...
  Running ‘testthat.R’
 OK
* checking for unstated dependencies in vignettes ... OK
* checking package vignettes ... OK
* checking running R code from vignettes ... SKIPPED
* checking re-building of vignette outputs ... SKIPPED
* checking PDF version of manual ... OK
* DONE

Status: OK


Installation output

gemma.R.Rcheck/00install.out

##############################################################################
##############################################################################
###
### Running command:
###
###   /home/biocbuild/R/R/bin/R CMD INSTALL gemma.R
###
##############################################################################
##############################################################################


* installing to library ‘/home/biocbuild/R/R-4.5.0/site-library’
* installing *source* package ‘gemma.R’ ...
** this is package ‘gemma.R’ version ‘3.6.0’
** using staged installation
** R
** inst
** byte-compile and prepare package for lazy loading
** help
*** installing help indices
*** copying figures
** building package indices
** installing vignettes
** testing if installed package can be loaded from temporary location
** testing if installed package can be loaded from final location
** testing if installed package keeps a record of temporary installation path
* DONE (gemma.R)

Tests output

gemma.R.Rcheck/tests/testthat.Rout


R version 4.5.0 (2025-04-11) -- "How About a Twenty-Six"
Copyright (C) 2025 The R Foundation for Statistical Computing
Platform: aarch64-unknown-linux-gnu

R is free software and comes with ABSOLUTELY NO WARRANTY.
You are welcome to redistribute it under certain conditions.
Type 'license()' or 'licence()' for distribution details.

R is a collaborative project with many contributors.
Type 'contributors()' for more information and
'citation()' on how to cite R or R packages in publications.

Type 'demo()' for some demos, 'help()' for on-line help, or
'help.start()' for an HTML browser interface to help.
Type 'q()' to quit R.

> library(testthat)
> library(dplyr)

Attaching package: 'dplyr'

The following object is masked from 'package:testthat':

    matches

The following objects are masked from 'package:stats':

    filter, lag

The following objects are masked from 'package:base':

    intersect, setdiff, setequal, union

> 
> # Prevent certificate issues for GitHub actions
> options(gemma.SSL = FALSE)
> # get gemma api path if it's set in the environment
> gemma.R:::setGemmaPath('prod')
[1] "https://gemma.msl.ubc.ca/rest/v2/"
> print(gemma.R:::gemmaPath())
[1] "https://gemma.msl.ubc.ca/rest/v2/"
> test_check("gemma.R")
Loading required package: gemma.R
Warning: stack imbalance in '::', 130 then 131
Warning: stack imbalance in '{', 126 then 127
Warning: stack imbalance in 'lapply', 115 then 116
[ FAIL 0 | WARN 0 | SKIP 5 | PASS 192 ]

══ Skipped tests (5) ═══════════════════════════════════════════════════════════
• On Bioconductor (4): 'testCaches.R:37:3', 'testConvenience.R:15:5',
  'testConvenience.R:37:5', 'testDatasetEndpoints.R:88:5'
• empty test (1): 'testConvenience.R:1:1'

[ FAIL 0 | WARN 0 | SKIP 5 | PASS 192 ]
> 
> 
> 
> proc.time()
   user  system elapsed 
135.049   2.278 965.563 

Example timings

gemma.R.Rcheck/gemma.R-Ex.timings

nameusersystemelapsed
dot-getResultSets000
dot-get_dataset_expression_for_genes1.3010.0774.068
dot-get_gene_differential_expression_values 2.555 0.11613.408
filter_properties0.0480.0000.050
forget_gemma_memoised0.0120.0150.073
gemma_call0.0040.0040.200
get_annotation_children0.0100.0000.196
get_annotation_parents0.0120.0000.196
get_child_terms0.0220.0000.231
get_dataset_annotations0.0110.0000.206
get_dataset_differential_expression_analyses0.6060.0127.826
get_dataset_expression0.9180.0328.296
get_dataset_expression_for_genes0.4080.0041.697
get_dataset_object 9.188 0.28316.266
get_dataset_platforms0.0130.0043.356
get_dataset_processed_expression 1.131 0.02162.207
get_dataset_publications0.0080.0040.204
get_dataset_quantitation_types0.0100.0040.325
get_dataset_raw_expression0.6500.0163.001
get_dataset_samples0.3400.0080.864
get_datasets0.1710.0126.586
get_datasets_by_ids0.0510.0000.449
get_differential_expression_values0.2880.0044.304
get_gene_differential_expression_values 3.083 0.07610.690
get_gene_go_terms0.0460.0080.840
get_gene_locations0.0290.0000.462
get_gene_probes0.0260.0080.343
get_genes0.0350.0000.450
get_platform_annotations0.5610.0342.359
get_platform_datasets0.0420.0000.441
get_platform_element_genes0.0150.0000.237
get_platforms_by_ids0.0310.0000.457
get_result_sets0.0490.0000.460
get_taxa0.0120.0000.202
get_taxa_by_ids0.0110.0000.201
get_taxon_datasets0.0460.0000.504
make_design0.9670.0041.552
search_annotations0.0140.0000.206
search_datasets0.0430.0030.459
search_gemma0.1320.0001.132
update_result0.6640.0047.000