Back to Multiple platform build/check report for BioC 3.22:   simplified   long
ABCDEF[G]HIJKLMNOPQRSTUVWXYZ

This page was generated on 2025-11-20 12:03 -0500 (Thu, 20 Nov 2025).

HostnameOSArch (*)R versionInstalled pkgs
nebbiolo2Linux (Ubuntu 24.04.3 LTS)x86_644.5.2 (2025-10-31) -- "[Not] Part in a Rumble" 4615
merida1macOS 12.7.6 Montereyx86_644.5.2 Patched (2025-11-05 r88990) -- "[Not] Part in a Rumble" 4610
kjohnson1macOS 13.7.5 Venturaarm644.5.2 Patched (2025-11-04 r88984) -- "[Not] Part in a Rumble" 4598
taishanLinux (openEuler 24.03 LTS)aarch644.5.0 (2025-04-11) -- "How About a Twenty-Six" 4668
Click on any hostname to see more info about the system (e.g. compilers)      (*) as reported by 'uname -p', except on Windows and Mac OS X

Package 812/2361HostnameOS / ArchINSTALLBUILDCHECKBUILD BIN
gemma.R 3.6.0  (landing page)
Ogan Mancarci
Snapshot Date: 2025-11-17 13:45 -0500 (Mon, 17 Nov 2025)
git_url: https://git.bioconductor.org/packages/gemma.R
git_branch: RELEASE_3_22
git_last_commit: 11548e5
git_last_commit_date: 2025-10-29 11:18:54 -0500 (Wed, 29 Oct 2025)
nebbiolo2Linux (Ubuntu 24.04.3 LTS) / x86_64  OK    OK    OK  UNNEEDED, same version is already published
merida1macOS 12.7.6 Monterey / x86_64  OK    OK    OK    OK  UNNEEDED, same version is already published
kjohnson1macOS 13.7.5 Ventura / arm64  OK    OK    OK    OK  UNNEEDED, same version is already published
taishanLinux (openEuler 24.03 LTS) / aarch64  OK    ERROR  skipped


CHECK results for gemma.R on nebbiolo2

To the developers/maintainers of the gemma.R package:
- Allow up to 24 hours (and sometimes 48 hours) for your latest push to git@git.bioconductor.org:packages/gemma.R.git to reflect on this report. See Troubleshooting Build Report for more information.
- Use the following Renviron settings to reproduce errors and warnings.
- If 'R CMD check' started to fail recently on the Linux builder(s) over a missing dependency, add the missing dependency to 'Suggests:' in your DESCRIPTION file. See Renviron.bioc for more information.

raw results


Summary

Package: gemma.R
Version: 3.6.0
Command: /home/biocbuild/bbs-3.22-bioc/R/bin/R CMD check --install=check:gemma.R.install-out.txt --library=/home/biocbuild/bbs-3.22-bioc/R/site-library --timings gemma.R_3.6.0.tar.gz
StartedAt: 2025-11-18 04:17:14 -0500 (Tue, 18 Nov 2025)
EndedAt: 2025-11-18 04:31:13 -0500 (Tue, 18 Nov 2025)
EllapsedTime: 839.6 seconds
RetCode: 0
Status:   OK  
CheckDir: gemma.R.Rcheck
Warnings: 0

Command output

##############################################################################
##############################################################################
###
### Running command:
###
###   /home/biocbuild/bbs-3.22-bioc/R/bin/R CMD check --install=check:gemma.R.install-out.txt --library=/home/biocbuild/bbs-3.22-bioc/R/site-library --timings gemma.R_3.6.0.tar.gz
###
##############################################################################
##############################################################################


* using log directory ‘/home/biocbuild/bbs-3.22-bioc/meat/gemma.R.Rcheck’
* using R version 4.5.2 (2025-10-31)
* using platform: x86_64-pc-linux-gnu
* R was compiled by
    gcc (Ubuntu 13.3.0-6ubuntu2~24.04) 13.3.0
    GNU Fortran (Ubuntu 13.3.0-6ubuntu2~24.04) 13.3.0
* running under: Ubuntu 24.04.3 LTS
* using session charset: UTF-8
* checking for file ‘gemma.R/DESCRIPTION’ ... OK
* this is package ‘gemma.R’ version ‘3.6.0’
* package encoding: UTF-8
* checking package namespace information ... OK
* checking package dependencies ... INFO
Imports includes 21 non-default packages.
Importing from so many packages makes the package vulnerable to any of
them becoming unavailable.  Move as many as possible to Suggests and
use conditionally.
* checking if this is a source package ... OK
* checking if there is a namespace ... OK
* checking for hidden files and directories ... OK
* checking for portable file names ... OK
* checking for sufficient/correct file permissions ... OK
* checking whether package ‘gemma.R’ can be installed ... OK
* checking installed package size ... OK
* checking package directory ... OK
* checking ‘build’ directory ... OK
* checking DESCRIPTION meta-information ... OK
* checking top-level files ... OK
* checking for left-over files ... OK
* checking index information ... OK
* checking package subdirectories ... OK
* checking code files for non-ASCII characters ... OK
* checking R files for syntax errors ... OK
* checking whether the package can be loaded ... OK
* checking whether the package can be loaded with stated dependencies ... OK
* checking whether the package can be unloaded cleanly ... OK
* checking whether the namespace can be loaded with stated dependencies ... OK
* checking whether the namespace can be unloaded cleanly ... OK
* checking loading without being on the library search path ... OK
* checking dependencies in R code ... OK
* checking S3 generic/method consistency ... OK
* checking replacement functions ... OK
* checking foreign function calls ... OK
* checking R code for possible problems ... OK
* checking Rd files ... OK
* checking Rd metadata ... OK
* checking Rd cross-references ... OK
* checking for missing documentation entries ... OK
* checking for code/documentation mismatches ... OK
* checking Rd \usage sections ... OK
* checking Rd contents ... OK
* checking for unstated dependencies in examples ... OK
* checking files in ‘vignettes’ ... OK
* checking examples ... OK
Examples with CPU (user + system) or elapsed time > 5s
                                             user system elapsed
get_dataset_object                          7.229  0.330  10.116
get_gene_differential_expression_values     2.167  0.083  11.485
dot-get_gene_differential_expression_values 1.692  0.029  10.135
get_dataset_processed_expression            1.184  0.050   5.280
dot-get_dataset_expression_for_genes        1.031  0.075   7.562
update_result                               0.674  0.011   5.207
get_differential_expression_values          0.342  0.033   5.075
get_datasets                                0.195  0.029   7.529
* checking for unstated dependencies in ‘tests’ ... OK
* checking tests ...
  Running ‘testthat.R’
 OK
* checking for unstated dependencies in vignettes ... OK
* checking package vignettes ... OK
* checking re-building of vignette outputs ... OK
* checking PDF version of manual ... OK
* DONE

Status: OK


Installation output

gemma.R.Rcheck/00install.out

##############################################################################
##############################################################################
###
### Running command:
###
###   /home/biocbuild/bbs-3.22-bioc/R/bin/R CMD INSTALL gemma.R
###
##############################################################################
##############################################################################


* installing to library ‘/home/biocbuild/bbs-3.22-bioc/R/site-library’
* installing *source* package ‘gemma.R’ ...
** this is package ‘gemma.R’ version ‘3.6.0’
** using staged installation
** R
** inst
** byte-compile and prepare package for lazy loading
** help
*** installing help indices
*** copying figures
** building package indices
** installing vignettes
** testing if installed package can be loaded from temporary location
** testing if installed package can be loaded from final location
** testing if installed package keeps a record of temporary installation path
* DONE (gemma.R)

Tests output

gemma.R.Rcheck/tests/testthat.Rout


R version 4.5.2 (2025-10-31) -- "[Not] Part in a Rumble"
Copyright (C) 2025 The R Foundation for Statistical Computing
Platform: x86_64-pc-linux-gnu

R is free software and comes with ABSOLUTELY NO WARRANTY.
You are welcome to redistribute it under certain conditions.
Type 'license()' or 'licence()' for distribution details.

R is a collaborative project with many contributors.
Type 'contributors()' for more information and
'citation()' on how to cite R or R packages in publications.

Type 'demo()' for some demos, 'help()' for on-line help, or
'help.start()' for an HTML browser interface to help.
Type 'q()' to quit R.

> library(testthat)
> library(dplyr)

Attaching package: 'dplyr'

The following objects are masked from 'package:stats':

    filter, lag

The following objects are masked from 'package:base':

    intersect, setdiff, setequal, union

> 
> # Prevent certificate issues for GitHub actions
> options(gemma.SSL = FALSE)
> # get gemma api path if it's set in the environment
> gemma.R:::setGemmaPath('prod')
[1] "https://gemma.msl.ubc.ca/rest/v2/"
> print(gemma.R:::gemmaPath())
[1] "https://gemma.msl.ubc.ca/rest/v2/"
> test_check("gemma.R")
Loading required package: gemma.R
Warning: stack imbalance in '::', 130 then 131
Warning: stack imbalance in '{', 126 then 127
Warning: stack imbalance in 'lapply', 115 then 116
[ FAIL 0 | WARN 0 | SKIP 5 | PASS 192 ]

══ Skipped tests (5) ═══════════════════════════════════════════════════════════
• On Bioconductor (4): 'testCaches.R:37:3', 'testConvenience.R:15:5',
  'testConvenience.R:37:5', 'testDatasetEndpoints.R:88:5'
• empty test (1): 'testConvenience.R:1:1'

[ FAIL 0 | WARN 0 | SKIP 5 | PASS 192 ]
> 
> 
> 
> proc.time()
   user  system elapsed 
104.941   4.402 348.427 

Example timings

gemma.R.Rcheck/gemma.R-Ex.timings

nameusersystemelapsed
dot-getResultSets0.0000.0000.001
dot-get_dataset_expression_for_genes1.0310.0757.562
dot-get_gene_differential_expression_values 1.692 0.02910.135
filter_properties0.0360.0010.037
forget_gemma_memoised0.0130.0130.032
gemma_call0.0050.0010.092
get_annotation_children0.0080.0000.094
get_annotation_parents0.0090.0000.087
get_child_terms0.0160.0000.122
get_dataset_annotations0.0090.0000.097
get_dataset_differential_expression_analyses0.5340.0344.960
get_dataset_expression0.8060.0363.070
get_dataset_expression_for_genes0.2970.0060.989
get_dataset_object 7.229 0.33010.116
get_dataset_platforms0.0590.0020.566
get_dataset_processed_expression1.1840.0505.280
get_dataset_publications0.0080.0000.091
get_dataset_quantitation_types0.0080.0000.220
get_dataset_raw_expression0.6120.0212.894
get_dataset_samples0.2870.0010.796
get_datasets0.1950.0297.529
get_datasets_by_ids0.0580.0020.244
get_differential_expression_values0.3420.0335.075
get_gene_differential_expression_values 2.167 0.08311.485
get_gene_go_terms0.0730.0000.400
get_gene_locations0.0230.0000.247
get_gene_probes0.0460.0000.235
get_genes0.0410.0010.239
get_platform_annotations0.7020.0394.925
get_platform_datasets0.0630.0010.491
get_platform_element_genes0.0160.0000.134
get_platforms_by_ids0.0390.0000.244
get_result_sets0.0670.0130.275
get_taxa0.0120.0040.100
get_taxa_by_ids0.0150.0010.096
get_taxon_datasets0.0670.0060.355
make_design0.5090.0151.054
search_annotations0.0080.0020.091
search_datasets0.0990.0080.794
search_gemma0.0850.0030.755
update_result0.6740.0115.207