| Back to Multiple platform build/check report for BioC 3.22: simplified long |
|
This page was generated on 2025-11-20 12:06 -0500 (Thu, 20 Nov 2025).
| Hostname | OS | Arch (*) | R version | Installed pkgs |
|---|---|---|---|---|
| nebbiolo2 | Linux (Ubuntu 24.04.3 LTS) | x86_64 | 4.5.2 (2025-10-31) -- "[Not] Part in a Rumble" | 4615 |
| merida1 | macOS 12.7.6 Monterey | x86_64 | 4.5.2 Patched (2025-11-05 r88990) -- "[Not] Part in a Rumble" | 4610 |
| kjohnson1 | macOS 13.7.5 Ventura | arm64 | 4.5.2 Patched (2025-11-04 r88984) -- "[Not] Part in a Rumble" | 4598 |
| taishan | Linux (openEuler 24.03 LTS) | aarch64 | 4.5.0 (2025-04-11) -- "How About a Twenty-Six" | 4668 |
| Click on any hostname to see more info about the system (e.g. compilers) (*) as reported by 'uname -p', except on Windows and Mac OS X | ||||
| Package 812/2361 | Hostname | OS / Arch | INSTALL | BUILD | CHECK | BUILD BIN | ||||||||
| gemma.R 3.6.0 (landing page) Ogan Mancarci
| nebbiolo2 | Linux (Ubuntu 24.04.3 LTS) / x86_64 | OK | OK | OK | |||||||||
| merida1 | macOS 12.7.6 Monterey / x86_64 | OK | OK | OK | OK | |||||||||
| kjohnson1 | macOS 13.7.5 Ventura / arm64 | OK | OK | OK | OK | |||||||||
| taishan | Linux (openEuler 24.03 LTS) / aarch64 | OK | ERROR | skipped | ||||||||||
|
To the developers/maintainers of the gemma.R package: - Allow up to 24 hours (and sometimes 48 hours) for your latest push to git@git.bioconductor.org:packages/gemma.R.git to reflect on this report. See Troubleshooting Build Report for more information. - Use the following Renviron settings to reproduce errors and warnings. - If 'R CMD check' started to fail recently on the Linux builder(s) over a missing dependency, add the missing dependency to 'Suggests:' in your DESCRIPTION file. See Renviron.bioc for more information. |
| Package: gemma.R |
| Version: 3.6.0 |
| Command: /Library/Frameworks/R.framework/Resources/bin/R CMD check --install=check:gemma.R.install-out.txt --library=/Library/Frameworks/R.framework/Resources/library --no-vignettes --timings gemma.R_3.6.0.tar.gz |
| StartedAt: 2025-11-18 06:46:39 -0500 (Tue, 18 Nov 2025) |
| EndedAt: 2025-11-18 06:53:00 -0500 (Tue, 18 Nov 2025) |
| EllapsedTime: 380.4 seconds |
| RetCode: 0 |
| Status: OK |
| CheckDir: gemma.R.Rcheck |
| Warnings: 0 |
##############################################################################
##############################################################################
###
### Running command:
###
### /Library/Frameworks/R.framework/Resources/bin/R CMD check --install=check:gemma.R.install-out.txt --library=/Library/Frameworks/R.framework/Resources/library --no-vignettes --timings gemma.R_3.6.0.tar.gz
###
##############################################################################
##############################################################################
* using log directory ‘/Users/biocbuild/bbs-3.22-bioc/meat/gemma.R.Rcheck’
* using R version 4.5.2 Patched (2025-11-04 r88984)
* using platform: aarch64-apple-darwin20
* R was compiled by
Apple clang version 16.0.0 (clang-1600.0.26.6)
GNU Fortran (GCC) 14.2.0
* running under: macOS Ventura 13.7.8
* using session charset: UTF-8
* using option ‘--no-vignettes’
* checking for file ‘gemma.R/DESCRIPTION’ ... OK
* this is package ‘gemma.R’ version ‘3.6.0’
* package encoding: UTF-8
* checking package namespace information ... OK
* checking package dependencies ... INFO
Imports includes 21 non-default packages.
Importing from so many packages makes the package vulnerable to any of
them becoming unavailable. Move as many as possible to Suggests and
use conditionally.
* checking if this is a source package ... OK
* checking if there is a namespace ... OK
* checking for hidden files and directories ... OK
* checking for portable file names ... OK
* checking for sufficient/correct file permissions ... OK
* checking whether package ‘gemma.R’ can be installed ... OK
* checking installed package size ... OK
* checking package directory ... OK
* checking ‘build’ directory ... OK
* checking DESCRIPTION meta-information ... OK
* checking top-level files ... OK
* checking for left-over files ... OK
* checking index information ... OK
* checking package subdirectories ... OK
* checking code files for non-ASCII characters ... OK
* checking R files for syntax errors ... OK
* checking whether the package can be loaded ... OK
* checking whether the package can be loaded with stated dependencies ... OK
* checking whether the package can be unloaded cleanly ... OK
* checking whether the namespace can be loaded with stated dependencies ... OK
* checking whether the namespace can be unloaded cleanly ... OK
* checking dependencies in R code ... OK
* checking S3 generic/method consistency ... OK
* checking replacement functions ... OK
* checking foreign function calls ... OK
* checking R code for possible problems ... OK
* checking Rd files ... OK
* checking Rd metadata ... OK
* checking Rd cross-references ... OK
* checking for missing documentation entries ... OK
* checking for code/documentation mismatches ... OK
* checking Rd \usage sections ... OK
* checking Rd contents ... OK
* checking for unstated dependencies in examples ... OK
* checking files in ‘vignettes’ ... OK
* checking examples ... OK
Examples with CPU (user + system) or elapsed time > 5s
user system elapsed
get_dataset_object 2.973 0.092 6.775
dot-get_gene_differential_expression_values 0.593 0.004 9.840
get_gene_differential_expression_values 0.564 0.019 9.313
update_result 0.262 0.013 5.513
get_dataset_differential_expression_analyses 0.246 0.012 5.068
get_datasets 0.069 0.010 9.430
* checking for unstated dependencies in ‘tests’ ... OK
* checking tests ...
Running ‘testthat.R’
OK
* checking for unstated dependencies in vignettes ... OK
* checking package vignettes ... OK
* checking running R code from vignettes ... SKIPPED
* checking re-building of vignette outputs ... SKIPPED
* checking PDF version of manual ... OK
* DONE
Status: OK
gemma.R.Rcheck/00install.out
############################################################################## ############################################################################## ### ### Running command: ### ### /Library/Frameworks/R.framework/Resources/bin/R CMD INSTALL gemma.R ### ############################################################################## ############################################################################## * installing to library ‘/Library/Frameworks/R.framework/Versions/4.5-arm64/Resources/library’ * installing *source* package ‘gemma.R’ ... ** this is package ‘gemma.R’ version ‘3.6.0’ ** using staged installation ** R ** inst ** byte-compile and prepare package for lazy loading ** help *** installing help indices *** copying figures ** building package indices ** installing vignettes ** testing if installed package can be loaded from temporary location ** testing if installed package can be loaded from final location ** testing if installed package keeps a record of temporary installation path * DONE (gemma.R)
gemma.R.Rcheck/tests/testthat.Rout
R version 4.5.2 Patched (2025-11-04 r88984) -- "[Not] Part in a Rumble"
Copyright (C) 2025 The R Foundation for Statistical Computing
Platform: aarch64-apple-darwin20
R is free software and comes with ABSOLUTELY NO WARRANTY.
You are welcome to redistribute it under certain conditions.
Type 'license()' or 'licence()' for distribution details.
R is a collaborative project with many contributors.
Type 'contributors()' for more information and
'citation()' on how to cite R or R packages in publications.
Type 'demo()' for some demos, 'help()' for on-line help, or
'help.start()' for an HTML browser interface to help.
Type 'q()' to quit R.
> library(testthat)
> library(dplyr)
Attaching package: 'dplyr'
The following objects are masked from 'package:stats':
filter, lag
The following objects are masked from 'package:base':
intersect, setdiff, setequal, union
>
> # Prevent certificate issues for GitHub actions
> options(gemma.SSL = FALSE)
> # get gemma api path if it's set in the environment
> gemma.R:::setGemmaPath('prod')
[1] "https://gemma.msl.ubc.ca/rest/v2/"
> print(gemma.R:::gemmaPath())
[1] "https://gemma.msl.ubc.ca/rest/v2/"
> test_check("gemma.R")
Loading required package: gemma.R
Warning: stack imbalance in '::', 130 then 131
Warning: stack imbalance in '{', 126 then 127
Warning: stack imbalance in 'lapply', 115 then 116
[ FAIL 0 | WARN 1 | SKIP 5 | PASS 192 ]
══ Skipped tests (5) ═══════════════════════════════════════════════════════════
• On Bioconductor (4): 'testCaches.R:37:3', 'testConvenience.R:15:5',
'testConvenience.R:37:5', 'testDatasetEndpoints.R:88:5'
• empty test (1): 'testConvenience.R:1:1'
[ FAIL 0 | WARN 1 | SKIP 5 | PASS 192 ]
>
>
>
> proc.time()
user system elapsed
46.061 2.396 281.333
gemma.R.Rcheck/gemma.R-Ex.timings
| name | user | system | elapsed | |
| dot-getResultSets | 0 | 0 | 0 | |
| dot-get_dataset_expression_for_genes | 0.466 | 0.027 | 2.256 | |
| dot-get_gene_differential_expression_values | 0.593 | 0.004 | 9.840 | |
| filter_properties | 0.010 | 0.001 | 0.012 | |
| forget_gemma_memoised | 0.006 | 0.016 | 0.031 | |
| gemma_call | 0.003 | 0.003 | 0.163 | |
| get_annotation_children | 0.003 | 0.000 | 0.151 | |
| get_annotation_parents | 0.007 | 0.001 | 0.161 | |
| get_child_terms | 0.007 | 0.001 | 0.176 | |
| get_dataset_annotations | 0.003 | 0.000 | 0.159 | |
| get_dataset_differential_expression_analyses | 0.246 | 0.012 | 5.068 | |
| get_dataset_expression | 0.318 | 0.022 | 3.905 | |
| get_dataset_expression_for_genes | 0.096 | 0.003 | 0.857 | |
| get_dataset_object | 2.973 | 0.092 | 6.775 | |
| get_dataset_platforms | 0.005 | 0.001 | 0.171 | |
| get_dataset_processed_expression | 0.505 | 0.030 | 3.624 | |
| get_dataset_publications | 0.005 | 0.001 | 0.154 | |
| get_dataset_quantitation_types | 0.004 | 0.000 | 0.283 | |
| get_dataset_raw_expression | 0.303 | 0.015 | 2.551 | |
| get_dataset_samples | 0.317 | 0.005 | 0.909 | |
| get_datasets | 0.069 | 0.010 | 9.430 | |
| get_datasets_by_ids | 0.015 | 0.001 | 0.327 | |
| get_differential_expression_values | 0.100 | 0.009 | 4.097 | |
| get_gene_differential_expression_values | 0.564 | 0.019 | 9.313 | |
| get_gene_go_terms | 0.014 | 0.001 | 0.468 | |
| get_gene_locations | 0.008 | 0.000 | 0.379 | |
| get_gene_probes | 0.011 | 0.001 | 0.324 | |
| get_genes | 0.011 | 0.001 | 0.344 | |
| get_platform_annotations | 0.356 | 0.021 | 3.233 | |
| get_platform_datasets | 0.016 | 0.001 | 0.657 | |
| get_platform_element_genes | 0.005 | 0.000 | 0.207 | |
| get_platforms_by_ids | 0.010 | 0.000 | 0.353 | |
| get_result_sets | 0.021 | 0.001 | 0.344 | |
| get_taxa | 0.007 | 0.000 | 0.165 | |
| get_taxa_by_ids | 0.008 | 0.000 | 0.156 | |
| get_taxon_datasets | 0.016 | 0.002 | 0.431 | |
| make_design | 0.232 | 0.005 | 0.800 | |
| search_annotations | 0.009 | 0.001 | 0.158 | |
| search_datasets | 0.014 | 0.001 | 0.505 | |
| search_gemma | 0.043 | 0.007 | 0.798 | |
| update_result | 0.262 | 0.013 | 5.513 | |