Back to Multiple platform build/check report for BioC 3.22:   simplified   long
ABCDEF[G]HIJKLMNOPQRSTUVWXYZ

This page was generated on 2025-11-20 12:06 -0500 (Thu, 20 Nov 2025).

HostnameOSArch (*)R versionInstalled pkgs
nebbiolo2Linux (Ubuntu 24.04.3 LTS)x86_644.5.2 (2025-10-31) -- "[Not] Part in a Rumble" 4615
merida1macOS 12.7.6 Montereyx86_644.5.2 Patched (2025-11-05 r88990) -- "[Not] Part in a Rumble" 4610
kjohnson1macOS 13.7.5 Venturaarm644.5.2 Patched (2025-11-04 r88984) -- "[Not] Part in a Rumble" 4598
taishanLinux (openEuler 24.03 LTS)aarch644.5.0 (2025-04-11) -- "How About a Twenty-Six" 4668
Click on any hostname to see more info about the system (e.g. compilers)      (*) as reported by 'uname -p', except on Windows and Mac OS X

Package 806/2361HostnameOS / ArchINSTALLBUILDCHECKBUILD BIN
gDRutils 1.8.0  (landing page)
Arkadiusz Gladki
Snapshot Date: 2025-11-17 13:45 -0500 (Mon, 17 Nov 2025)
git_url: https://git.bioconductor.org/packages/gDRutils
git_branch: RELEASE_3_22
git_last_commit: b7dd34b
git_last_commit_date: 2025-10-29 11:23:43 -0500 (Wed, 29 Oct 2025)
nebbiolo2Linux (Ubuntu 24.04.3 LTS) / x86_64  OK    OK    OK  UNNEEDED, same version is already published
merida1macOS 12.7.6 Monterey / x86_64  OK    OK    OK    OK  UNNEEDED, same version is already published
kjohnson1macOS 13.7.5 Ventura / arm64  OK    OK    OK    OK  UNNEEDED, same version is already published
taishanLinux (openEuler 24.03 LTS) / aarch64  OK    OK    OK  


CHECK results for gDRutils on kjohnson1

To the developers/maintainers of the gDRutils package:
- Allow up to 24 hours (and sometimes 48 hours) for your latest push to git@git.bioconductor.org:packages/gDRutils.git to reflect on this report. See Troubleshooting Build Report for more information.
- Use the following Renviron settings to reproduce errors and warnings.
- If 'R CMD check' started to fail recently on the Linux builder(s) over a missing dependency, add the missing dependency to 'Suggests:' in your DESCRIPTION file. See Renviron.bioc for more information.

raw results


Summary

Package: gDRutils
Version: 1.8.0
Command: /Library/Frameworks/R.framework/Resources/bin/R CMD check --install=check:gDRutils.install-out.txt --library=/Library/Frameworks/R.framework/Resources/library --no-vignettes --timings gDRutils_1.8.0.tar.gz
StartedAt: 2025-11-18 06:44:53 -0500 (Tue, 18 Nov 2025)
EndedAt: 2025-11-18 06:47:04 -0500 (Tue, 18 Nov 2025)
EllapsedTime: 130.2 seconds
RetCode: 0
Status:   OK  
CheckDir: gDRutils.Rcheck
Warnings: 0

Command output

##############################################################################
##############################################################################
###
### Running command:
###
###   /Library/Frameworks/R.framework/Resources/bin/R CMD check --install=check:gDRutils.install-out.txt --library=/Library/Frameworks/R.framework/Resources/library --no-vignettes --timings gDRutils_1.8.0.tar.gz
###
##############################################################################
##############################################################################


* using log directory ‘/Users/biocbuild/bbs-3.22-bioc/meat/gDRutils.Rcheck’
* using R version 4.5.2 Patched (2025-11-04 r88984)
* using platform: aarch64-apple-darwin20
* R was compiled by
    Apple clang version 16.0.0 (clang-1600.0.26.6)
    GNU Fortran (GCC) 14.2.0
* running under: macOS Ventura 13.7.8
* using session charset: UTF-8
* using option ‘--no-vignettes’
* checking for file ‘gDRutils/DESCRIPTION’ ... OK
* checking extension type ... Package
* this is package ‘gDRutils’ version ‘1.8.0’
* package encoding: UTF-8
* checking package namespace information ... OK
* checking package dependencies ... OK
* checking if this is a source package ... OK
* checking if there is a namespace ... OK
* checking for hidden files and directories ... OK
* checking for portable file names ... OK
* checking for sufficient/correct file permissions ... OK
* checking whether package ‘gDRutils’ can be installed ... OK
* checking installed package size ... OK
* checking package directory ... OK
* checking ‘build’ directory ... OK
* checking DESCRIPTION meta-information ... OK
* checking top-level files ... OK
* checking for left-over files ... OK
* checking index information ... OK
* checking package subdirectories ... OK
* checking code files for non-ASCII characters ... OK
* checking R files for syntax errors ... OK
* checking whether the package can be loaded ... OK
* checking whether the package can be loaded with stated dependencies ... OK
* checking whether the package can be unloaded cleanly ... OK
* checking whether the namespace can be loaded with stated dependencies ... OK
* checking whether the namespace can be unloaded cleanly ... OK
* checking dependencies in R code ... OK
* checking S3 generic/method consistency ... OK
* checking replacement functions ... OK
* checking foreign function calls ... OK
* checking R code for possible problems ... OK
* checking Rd files ... OK
* checking Rd metadata ... OK
* checking Rd cross-references ... NOTE
Found the following Rd file(s) with Rd \link{} targets missing package
anchors:
  SE_metadata.Rd: SummarizedExperiment-class
  convert_mae_assay_to_dt.Rd: SummarizedExperiment-class,
    MultiAssayExperiment-class
  convert_se_assay_to_dt.Rd: SummarizedExperiment-class
  is_exp_empty.Rd: SummarizedExperiment-class
  split_SE_components.Rd: SummarizedExperiment-class
  validate_se_assay_name.Rd: SummarizedExperiment-class
Please provide package anchors for all Rd \link{} targets not in the
package itself and the base packages.
* checking for missing documentation entries ... OK
* checking for code/documentation mismatches ... OK
* checking Rd \usage sections ... OK
* checking Rd contents ... OK
* checking for unstated dependencies in examples ... OK
* checking files in ‘vignettes’ ... OK
* checking examples ... OK
* checking for unstated dependencies in ‘tests’ ... OK
* checking tests ...
  Running ‘testthat.R’
 OK
* checking for unstated dependencies in vignettes ... OK
* checking package vignettes ... OK
* checking running R code from vignettes ... SKIPPED
* checking re-building of vignette outputs ... SKIPPED
* checking PDF version of manual ... OK
* DONE

Status: 1 NOTE
See
  ‘/Users/biocbuild/bbs-3.22-bioc/meat/gDRutils.Rcheck/00check.log’
for details.


Installation output

gDRutils.Rcheck/00install.out

##############################################################################
##############################################################################
###
### Running command:
###
###   /Library/Frameworks/R.framework/Resources/bin/R CMD INSTALL gDRutils
###
##############################################################################
##############################################################################


* installing to library ‘/Library/Frameworks/R.framework/Versions/4.5-arm64/Resources/library’
* installing *source* package ‘gDRutils’ ...
** this is package ‘gDRutils’ version ‘1.8.0’
** using staged installation
** R
** inst
** byte-compile and prepare package for lazy loading
** help
*** installing help indices
** building package indices
** installing vignettes
** testing if installed package can be loaded from temporary location
** testing if installed package can be loaded from final location
** testing if installed package keeps a record of temporary installation path
* DONE (gDRutils)

Tests output

gDRutils.Rcheck/tests/testthat.Rout


R version 4.5.2 Patched (2025-11-04 r88984) -- "[Not] Part in a Rumble"
Copyright (C) 2025 The R Foundation for Statistical Computing
Platform: aarch64-apple-darwin20

R is free software and comes with ABSOLUTELY NO WARRANTY.
You are welcome to redistribute it under certain conditions.
Type 'license()' or 'licence()' for distribution details.

R is a collaborative project with many contributors.
Type 'contributors()' for more information and
'citation()' on how to cite R or R packages in publications.

Type 'demo()' for some demos, 'help()' for on-line help, or
'help.start()' for an HTML browser interface to help.
Type 'q()' to quit R.

> library("gDRutils")
> library("testthat")
> 
> test_check("gDRutils")
[ FAIL 0 | WARN 0 | SKIP 0 | PASS 845 ]
> 
> proc.time()
   user  system elapsed 
 39.586   1.596  48.409 

Example timings

gDRutils.Rcheck/gDRutils-Ex.timings

nameusersystemelapsed
MAEpply0.1690.0130.195
SE_metadata0.0170.0020.018
addClass0.0010.0000.001
aggregate_assay0.4900.0030.509
apply_bumpy_function0.5150.0240.561
assert_choices0.0010.0000.000
average_biological_replicates_dt0.1430.0060.173
calc_sd0.0000.0000.001
capVals0.0780.0040.087
cap_assay_infinities0.0930.0040.106
cap_xc500.0000.0000.001
convert_colData_to_json0.0380.0010.044
convert_combo_data_to_dt0.1040.0040.119
convert_combo_field_to_assay0.0010.0000.000
convert_mae_assay_to_dt0.0210.0010.022
convert_mae_to_json0.0070.0010.007
convert_metadata_to_json0.0030.0000.003
convert_rowData_to_json0.0010.0010.001
convert_se_assay_to_custom_dt0.4840.0270.673
convert_se_assay_to_dt0.0210.0010.022
convert_se_to_json0.0050.0000.005
define_matrix_grid_positions0.0220.0010.055
demote_fields0.1420.0050.194
df_to_bm_assay0.0470.0000.048
dot-set_invalid_fit_params000
dot-standardize_conc0.0010.0000.001
extend_normalization_type_name000
fit_curves0.0570.0070.068
flatten0.0020.0000.002
gen_synthetic_data0.0010.0010.002
geometric_mean000
get_MAE_identifiers0.0030.0010.004
get_additional_variables0.0050.0000.005
get_assay_dt_duplicated_rows0.0610.0020.070
get_assay_names0.0000.0000.001
get_assay_req_uniq_cols0.0410.0020.043
get_combo_assay_names0.0010.0000.001
get_combo_base_assay_names000
get_combo_excess_field_names0.0010.0000.000
get_combo_score_assay_names000
get_combo_score_field_names0.0010.0000.000
get_default_identifiers000
get_duplicated_rows0.0010.0000.001
get_env_assay_names0.0000.0000.001
get_env_var000
get_expect_one_identifiers0.0010.0010.000
get_experiment_groups000
get_gDR_session_info0.5060.2190.761
get_identifiers_dt0.0030.0020.003
get_idfs_synonyms000
get_isobologram_columns0.0220.0010.026
get_non_empty_assays0.0280.0010.059
get_required_identifiers000
get_settings_from_json000
get_supported_experiments000
get_synthetic_data0.0050.0000.005
get_testdata0.0320.0070.058
get_testdata_codilution0.0280.0020.038
get_testdata_combo0.0770.0090.133
has_assay_dt_duplicated_rows0.0380.0010.039
has_dt_duplicated_rows000
has_single_codrug_data0.0540.0010.059
has_valid_codrug_data0.0440.0010.065
headers0.0070.0030.016
identifiers000
identify_unique_se_metadata_fields0.0040.0000.009
is_any_exp_empty0.0170.0010.049
is_combo_data0.0690.0040.083
is_exp_empty0.0490.0030.063
is_mae_empty0.0160.0010.017
logisticFit0.0110.0000.010
loop1.2090.0181.807
map_conc_to_standardized_conc0.0010.0020.003
mcolData0.2860.2120.024
merge_MAE1.2100.0691.619
merge_SE0.4790.0160.736
merge_assay0.0980.0050.194
merge_metadata0.0090.0010.009
modifyData0.0870.0010.089
mrowData0.0050.0010.006
predict_conc_from_efficacy000
predict_efficacy_from_conc0.0010.0000.000
predict_smooth_from_combo0.0690.0040.073
prettify_flat_metrics0.0100.0010.011
process_batch0.3000.0370.432
promote_fields0.0630.0020.082
refine_coldata0.0040.0010.007
refine_rowdata0.0170.0000.021
remove_codrug_data0.0200.0000.022
remove_drug_batch0.0000.0000.001
rename_DFrame0.0050.0000.005
rename_bumpy0.0110.0010.012
round_concentration000
set_constant_fit_params000
set_unique_cl_names0.0180.0000.021
set_unique_cl_names_dt0.0060.0000.006
set_unique_drug_names0.0170.0000.018
set_unique_drug_names_dt0.0110.0000.013
set_unique_identifiers0.0900.0020.101
set_unique_names_dt0.0060.0000.006
shorten_normalization_type_name000
split_SE_components0.0310.0010.035
split_big_table_for_xlsx0.0020.0010.002
standardize_mae0.0400.0000.042
standardize_se0.0120.0010.013
throw_msg_if_duplicates0.0480.0010.057
update_env_idfs_from_mae000
update_idfs_synonyms0.0000.0000.001
validate_MAE0.0270.0010.037
validate_SE0.0100.0000.012
validate_identifiers0.0030.0010.003
validate_json000
validate_mae_with_schema0.1590.0140.174
validate_se_assay_name0.0040.0000.004