Back to Multiple platform build/check report for BioC 3.22:   simplified   long
ABCDEF[G]HIJKLMNOPQRSTUVWXYZ

This page was generated on 2025-10-25 12:03 -0400 (Sat, 25 Oct 2025).

HostnameOSArch (*)R versionInstalled pkgs
nebbiolo2Linux (Ubuntu 24.04.3 LTS)x86_644.5.1 Patched (2025-08-23 r88802) -- "Great Square Root" 4901
lconwaymacOS 12.7.6 Montereyx86_644.5.1 Patched (2025-09-10 r88807) -- "Great Square Root" 4691
kjohnson3macOS 13.7.7 Venturaarm644.5.1 Patched (2025-09-10 r88807) -- "Great Square Root" 4637
taishanLinux (openEuler 24.03 LTS)aarch644.5.0 (2025-04-11) -- "How About a Twenty-Six" 4658
Click on any hostname to see more info about the system (e.g. compilers)      (*) as reported by 'uname -p', except on Windows and Mac OS X

Package 806/2361HostnameOS / ArchINSTALLBUILDCHECKBUILD BIN
gDRutils 1.7.18  (landing page)
Arkadiusz Gladki
Snapshot Date: 2025-10-24 13:45 -0400 (Fri, 24 Oct 2025)
git_url: https://git.bioconductor.org/packages/gDRutils
git_branch: devel
git_last_commit: f4317a5
git_last_commit_date: 2025-10-13 05:11:46 -0400 (Mon, 13 Oct 2025)
nebbiolo2Linux (Ubuntu 24.04.3 LTS) / x86_64  OK    OK    OK  UNNEEDED, same version is already published
lconwaymacOS 12.7.6 Monterey / x86_64  OK    OK    OK    OK  UNNEEDED, same version is already published
kjohnson3macOS 13.7.7 Ventura / arm64  OK    OK    OK    OK  UNNEEDED, same version is already published
taishanLinux (openEuler 24.03 LTS) / aarch64  OK    NA    NA  


CHECK results for gDRutils on nebbiolo2

To the developers/maintainers of the gDRutils package:
- Allow up to 24 hours (and sometimes 48 hours) for your latest push to git@git.bioconductor.org:packages/gDRutils.git to reflect on this report. See Troubleshooting Build Report for more information.
- Use the following Renviron settings to reproduce errors and warnings.
- If 'R CMD check' started to fail recently on the Linux builder(s) over a missing dependency, add the missing dependency to 'Suggests:' in your DESCRIPTION file. See Renviron.bioc for more information.

raw results


Summary

Package: gDRutils
Version: 1.7.18
Command: /home/biocbuild/bbs-3.22-bioc/R/bin/R CMD check --install=check:gDRutils.install-out.txt --library=/home/biocbuild/bbs-3.22-bioc/R/site-library --timings gDRutils_1.7.18.tar.gz
StartedAt: 2025-10-24 23:54:22 -0400 (Fri, 24 Oct 2025)
EndedAt: 2025-10-24 23:58:59 -0400 (Fri, 24 Oct 2025)
EllapsedTime: 276.3 seconds
RetCode: 0
Status:   OK  
CheckDir: gDRutils.Rcheck
Warnings: 0

Command output

##############################################################################
##############################################################################
###
### Running command:
###
###   /home/biocbuild/bbs-3.22-bioc/R/bin/R CMD check --install=check:gDRutils.install-out.txt --library=/home/biocbuild/bbs-3.22-bioc/R/site-library --timings gDRutils_1.7.18.tar.gz
###
##############################################################################
##############################################################################


* using log directory ‘/home/biocbuild/bbs-3.22-bioc/meat/gDRutils.Rcheck’
* using R version 4.5.1 Patched (2025-08-23 r88802)
* using platform: x86_64-pc-linux-gnu
* R was compiled by
    gcc (Ubuntu 13.3.0-6ubuntu2~24.04) 13.3.0
    GNU Fortran (Ubuntu 13.3.0-6ubuntu2~24.04) 13.3.0
* running under: Ubuntu 24.04.3 LTS
* using session charset: UTF-8
* checking for file ‘gDRutils/DESCRIPTION’ ... OK
* checking extension type ... Package
* this is package ‘gDRutils’ version ‘1.7.18’
* package encoding: UTF-8
* checking package namespace information ... OK
* checking package dependencies ... OK
* checking if this is a source package ... OK
* checking if there is a namespace ... OK
* checking for hidden files and directories ... OK
* checking for portable file names ... OK
* checking for sufficient/correct file permissions ... OK
* checking whether package ‘gDRutils’ can be installed ... OK
* checking installed package size ... OK
* checking package directory ... OK
* checking ‘build’ directory ... OK
* checking DESCRIPTION meta-information ... OK
* checking top-level files ... OK
* checking for left-over files ... OK
* checking index information ... OK
* checking package subdirectories ... OK
* checking code files for non-ASCII characters ... OK
* checking R files for syntax errors ... OK
* checking whether the package can be loaded ... OK
* checking whether the package can be loaded with stated dependencies ... OK
* checking whether the package can be unloaded cleanly ... OK
* checking whether the namespace can be loaded with stated dependencies ... OK
* checking whether the namespace can be unloaded cleanly ... OK
* checking loading without being on the library search path ... OK
* checking dependencies in R code ... OK
* checking S3 generic/method consistency ... OK
* checking replacement functions ... OK
* checking foreign function calls ... OK
* checking R code for possible problems ... OK
* checking Rd files ... OK
* checking Rd metadata ... OK
* checking Rd cross-references ... NOTE
Found the following Rd file(s) with Rd \link{} targets missing package
anchors:
  SE_metadata.Rd: SummarizedExperiment-class
  convert_mae_assay_to_dt.Rd: SummarizedExperiment-class,
    MultiAssayExperiment-class
  convert_se_assay_to_dt.Rd: SummarizedExperiment-class
  is_exp_empty.Rd: SummarizedExperiment-class
  split_SE_components.Rd: SummarizedExperiment-class
  validate_se_assay_name.Rd: SummarizedExperiment-class
Please provide package anchors for all Rd \link{} targets not in the
package itself and the base packages.
* checking for missing documentation entries ... OK
* checking for code/documentation mismatches ... OK
* checking Rd \usage sections ... OK
* checking Rd contents ... OK
* checking for unstated dependencies in examples ... OK
* checking files in ‘vignettes’ ... OK
* checking examples ... OK
* checking for unstated dependencies in ‘tests’ ... OK
* checking tests ...
  Running ‘testthat.R’
 OK
* checking for unstated dependencies in vignettes ... OK
* checking package vignettes ... OK
* checking re-building of vignette outputs ... OK
* checking PDF version of manual ... OK
* DONE

Status: 1 NOTE
See
  ‘/home/biocbuild/bbs-3.22-bioc/meat/gDRutils.Rcheck/00check.log’
for details.


Installation output

gDRutils.Rcheck/00install.out

##############################################################################
##############################################################################
###
### Running command:
###
###   /home/biocbuild/bbs-3.22-bioc/R/bin/R CMD INSTALL gDRutils
###
##############################################################################
##############################################################################


* installing to library ‘/home/biocbuild/bbs-3.22-bioc/R/site-library’
* installing *source* package ‘gDRutils’ ...
** this is package ‘gDRutils’ version ‘1.7.18’
** using staged installation
** R
** inst
** byte-compile and prepare package for lazy loading
** help
*** installing help indices
** building package indices
** installing vignettes
** testing if installed package can be loaded from temporary location
** testing if installed package can be loaded from final location
** testing if installed package keeps a record of temporary installation path
* DONE (gDRutils)

Tests output

gDRutils.Rcheck/tests/testthat.Rout


R version 4.5.1 Patched (2025-08-23 r88802) -- "Great Square Root"
Copyright (C) 2025 The R Foundation for Statistical Computing
Platform: x86_64-pc-linux-gnu

R is free software and comes with ABSOLUTELY NO WARRANTY.
You are welcome to redistribute it under certain conditions.
Type 'license()' or 'licence()' for distribution details.

R is a collaborative project with many contributors.
Type 'contributors()' for more information and
'citation()' on how to cite R or R packages in publications.

Type 'demo()' for some demos, 'help()' for on-line help, or
'help.start()' for an HTML browser interface to help.
Type 'q()' to quit R.

> library("gDRutils")
> library("testthat")
> 
> test_check("gDRutils")
[ FAIL 0 | WARN 0 | SKIP 0 | PASS 845 ]
> 
> proc.time()
   user  system elapsed 
 96.571   3.867  98.002 

Example timings

gDRutils.Rcheck/gDRutils-Ex.timings

nameusersystemelapsed
MAEpply0.9000.0460.946
SE_metadata0.0340.0020.035
addClass0.0020.0000.002
aggregate_assay0.4840.0130.490
apply_bumpy_function2.1000.0462.145
assert_choices0.0000.0000.001
average_biological_replicates_dt0.3410.0820.423
calc_sd0.0010.0010.001
capVals0.2030.0180.223
cap_assay_infinities0.3030.0020.243
cap_xc50000
convert_colData_to_json0.0560.0000.051
convert_combo_data_to_dt0.3490.0090.306
convert_combo_field_to_assay0.0020.0000.002
convert_mae_assay_to_dt0.0550.0020.058
convert_mae_to_json0.0130.0010.014
convert_metadata_to_json0.0080.0000.008
convert_rowData_to_json0.0030.0000.003
convert_se_assay_to_custom_dt0.5510.0100.537
convert_se_assay_to_dt0.0570.0010.057
convert_se_to_json0.0130.0000.012
define_matrix_grid_positions0.0570.0000.050
demote_fields0.3960.0000.359
df_to_bm_assay0.1220.0000.123
dot-set_invalid_fit_params0.0000.0000.001
dot-standardize_conc0.0010.0000.000
extend_normalization_type_name000
fit_curves0.1320.0040.136
flatten0.0070.0000.007
gen_synthetic_data0.0040.0000.005
geometric_mean0.0000.0000.001
get_MAE_identifiers0.0070.0000.006
get_additional_variables0.0110.0010.012
get_assay_dt_duplicated_rows0.1760.0010.178
get_assay_names000
get_assay_req_uniq_cols0.1020.0020.104
get_combo_assay_names0.0000.0000.001
get_combo_base_assay_names0.0000.0000.001
get_combo_excess_field_names0.0010.0000.002
get_combo_score_assay_names0.0000.0000.001
get_combo_score_field_names0.0000.0000.001
get_default_identifiers000
get_duplicated_rows0.0030.0000.002
get_env_assay_names0.0000.0000.001
get_env_var0.0010.0000.000
get_expect_one_identifiers0.0000.0000.001
get_experiment_groups0.0010.0000.000
get_gDR_session_info0.0510.0100.059
get_identifiers_dt0.0110.0000.005
get_idfs_synonyms0.0010.0000.000
get_isobologram_columns0.0590.0000.059
get_non_empty_assays0.0590.0000.043
get_required_identifiers000
get_settings_from_json0.0010.0010.001
get_supported_experiments000
get_synthetic_data0.0190.0000.011
get_testdata0.0920.0010.079
get_testdata_codilution0.0870.0010.073
get_testdata_combo0.2410.0110.207
has_assay_dt_duplicated_rows0.1760.0000.177
has_dt_duplicated_rows0.0000.0000.001
has_single_codrug_data0.1380.0000.138
has_valid_codrug_data0.1230.0000.123
headers0.0190.0010.020
identifiers0.0000.0000.001
identify_unique_se_metadata_fields0.0070.0000.007
is_any_exp_empty0.0630.0110.055
is_combo_data0.1430.0110.144
is_exp_empty0.0620.0010.046
is_mae_empty0.0640.0000.042
logisticFit0.0380.0000.026
loop3.1540.1444.349
map_conc_to_standardized_conc0.0040.0010.004
mcolData0.0140.0010.016
merge_MAE4.1870.7133.628
merge_SE1.6180.0241.363
merge_assay0.3180.0070.288
merge_metadata0.0070.0000.008
modifyData0.2630.0070.271
mrowData0.0120.0010.014
predict_conc_from_efficacy000
predict_efficacy_from_conc0.0000.0000.001
predict_smooth_from_combo0.1780.0120.190
prettify_flat_metrics0.0340.0000.033
process_batch0.7410.0820.823
promote_fields0.1800.0010.171
refine_coldata0.0100.0000.011
refine_rowdata0.0410.0000.041
remove_codrug_data0.0600.0000.059
remove_drug_batch0.0020.0000.001
rename_DFrame0.0090.0000.010
rename_bumpy0.0290.0000.029
round_concentration000
set_constant_fit_params000
set_unique_cl_names0.0480.0000.047
set_unique_cl_names_dt0.0170.0010.018
set_unique_drug_names0.0510.0000.052
set_unique_drug_names_dt0.0350.0000.035
set_unique_identifiers0.2460.0010.247
set_unique_names_dt0.0180.0000.017
shorten_normalization_type_name000
split_SE_components0.0890.0000.089
split_big_table_for_xlsx0.0040.0010.004
standardize_mae0.1050.0000.105
standardize_se0.0460.0000.047
throw_msg_if_duplicates0.1050.0000.106
update_env_idfs_from_mae0.0010.0000.001
update_idfs_synonyms0.0000.0000.001
validate_MAE0.0700.0010.071
validate_SE0.0250.0000.024
validate_identifiers0.0060.0000.006
validate_json000
validate_mae_with_schema0.3850.0330.418
validate_se_assay_name0.0070.0000.007