Back to Multiple platform build/check report for BioC 3.22:   simplified   long
ABCDE[F]GHIJKLMNOPQRSTUVWXYZ

This page was generated on 2025-11-20 12:04 -0500 (Thu, 20 Nov 2025).

HostnameOSArch (*)R versionInstalled pkgs
nebbiolo2Linux (Ubuntu 24.04.3 LTS)x86_644.5.2 (2025-10-31) -- "[Not] Part in a Rumble" 4615
merida1macOS 12.7.6 Montereyx86_644.5.2 Patched (2025-11-05 r88990) -- "[Not] Part in a Rumble" 4610
kjohnson1macOS 13.7.5 Venturaarm644.5.2 Patched (2025-11-04 r88984) -- "[Not] Part in a Rumble" 4598
taishanLinux (openEuler 24.03 LTS)aarch644.5.0 (2025-04-11) -- "How About a Twenty-Six" 4668
Click on any hostname to see more info about the system (e.g. compilers)      (*) as reported by 'uname -p', except on Windows and Mac OS X

Package 758/2361HostnameOS / ArchINSTALLBUILDCHECKBUILD BIN
flowGraph 1.18.0  (landing page)
Alice Yue
Snapshot Date: 2025-11-17 13:45 -0500 (Mon, 17 Nov 2025)
git_url: https://git.bioconductor.org/packages/flowGraph
git_branch: RELEASE_3_22
git_last_commit: 5889e7a
git_last_commit_date: 2025-10-29 11:04:59 -0500 (Wed, 29 Oct 2025)
nebbiolo2Linux (Ubuntu 24.04.3 LTS) / x86_64  OK    OK    OK  UNNEEDED, same version is already published
merida1macOS 12.7.6 Monterey / x86_64  OK    OK    OK    OK  UNNEEDED, same version is already published
kjohnson1macOS 13.7.5 Ventura / arm64  OK    OK    OK    OK  UNNEEDED, same version is already published
taishanLinux (openEuler 24.03 LTS) / aarch64  OK    OK    OK  


CHECK results for flowGraph on merida1

To the developers/maintainers of the flowGraph package:
- Allow up to 24 hours (and sometimes 48 hours) for your latest push to git@git.bioconductor.org:packages/flowGraph.git to reflect on this report. See Troubleshooting Build Report for more information.
- Use the following Renviron settings to reproduce errors and warnings.
- If 'R CMD check' started to fail recently on the Linux builder(s) over a missing dependency, add the missing dependency to 'Suggests:' in your DESCRIPTION file. See Renviron.bioc for more information.

raw results


Summary

Package: flowGraph
Version: 1.18.0
Command: /Library/Frameworks/R.framework/Resources/bin/R CMD check --install=check:flowGraph.install-out.txt --library=/Library/Frameworks/R.framework/Resources/library --no-vignettes --timings flowGraph_1.18.0.tar.gz
StartedAt: 2025-11-18 07:40:46 -0500 (Tue, 18 Nov 2025)
EndedAt: 2025-11-18 07:51:17 -0500 (Tue, 18 Nov 2025)
EllapsedTime: 631.3 seconds
RetCode: 0
Status:   OK  
CheckDir: flowGraph.Rcheck
Warnings: 0

Command output

##############################################################################
##############################################################################
###
### Running command:
###
###   /Library/Frameworks/R.framework/Resources/bin/R CMD check --install=check:flowGraph.install-out.txt --library=/Library/Frameworks/R.framework/Resources/library --no-vignettes --timings flowGraph_1.18.0.tar.gz
###
##############################################################################
##############################################################################


* using log directory ‘/Users/biocbuild/bbs-3.22-bioc/meat/flowGraph.Rcheck’
* using R version 4.5.2 Patched (2025-11-05 r88990)
* using platform: x86_64-apple-darwin20
* R was compiled by
    Apple clang version 14.0.0 (clang-1400.0.29.202)
    GNU Fortran (GCC) 14.2.0
* running under: macOS Monterey 12.7.6
* using session charset: UTF-8
* using option ‘--no-vignettes’
* checking for file ‘flowGraph/DESCRIPTION’ ... OK
* checking extension type ... Package
* this is package ‘flowGraph’ version ‘1.18.0’
* checking package namespace information ... OK
* checking package dependencies ... OK
* checking if this is a source package ... OK
* checking if there is a namespace ... OK
* checking for hidden files and directories ... OK
* checking for portable file names ... OK
* checking for sufficient/correct file permissions ... OK
* checking whether package ‘flowGraph’ can be installed ... OK
* checking installed package size ... OK
* checking package directory ... OK
* checking ‘build’ directory ... OK
* checking DESCRIPTION meta-information ... OK
* checking top-level files ... OK
* checking for left-over files ... OK
* checking index information ... OK
* checking package subdirectories ... OK
* checking code files for non-ASCII characters ... OK
* checking R files for syntax errors ... OK
* checking whether the package can be loaded ... OK
* checking whether the package can be loaded with stated dependencies ... OK
* checking whether the package can be unloaded cleanly ... OK
* checking whether the namespace can be loaded with stated dependencies ... OK
* checking whether the namespace can be unloaded cleanly ... OK
* checking dependencies in R code ... OK
* checking S3 generic/method consistency ... OK
* checking replacement functions ... OK
* checking foreign function calls ... OK
* checking R code for possible problems ... NOTE
get_child: no visible binding for global variable ‘no_cores’
get_paren: no visible binding for global variable ‘no_cores’
ms_psig: no visible binding for global variable ‘meta’
Undefined global functions or variables:
  meta no_cores
* checking Rd files ... NOTE
checkRd: (-1) fg_get_graph.Rd:13: Lost braces
    13 | A list containing two data frames (\code{v} and ]code{e})
       |                                                      ^
checkRd: (-1) ggdf.Rd:22: Lost braces
    22 | code{ggdf} adds to the data frames \code{v} and \code{e} in slot
       |     ^
* checking Rd metadata ... OK
* checking Rd cross-references ... OK
* checking for missing documentation entries ... OK
* checking for code/documentation mismatches ... OK
* checking Rd \usage sections ... OK
* checking Rd contents ... OK
* checking for unstated dependencies in examples ... OK
* checking contents of ‘data’ directory ... OK
* checking data for non-ASCII characters ... OK
* checking data for ASCII and uncompressed saves ... OK
* checking files in ‘vignettes’ ... OK
* checking examples ... OK
Examples with CPU (user + system) or elapsed time > 5s
                  user system elapsed
fg_save_plots  113.809  0.786 121.732
fg_load        113.299  0.964 124.984
fg_save        112.505  0.771 122.153
fg_get_summary   4.558  0.097   5.100
* checking for unstated dependencies in ‘tests’ ... OK
* checking tests ...
  Running ‘testthat.R’
 OK
* checking for unstated dependencies in vignettes ... OK
* checking package vignettes ... OK
* checking running R code from vignettes ... SKIPPED
* checking re-building of vignette outputs ... SKIPPED
* checking PDF version of manual ... OK
* DONE

Status: 2 NOTEs
See
  ‘/Users/biocbuild/bbs-3.22-bioc/meat/flowGraph.Rcheck/00check.log’
for details.


Installation output

flowGraph.Rcheck/00install.out

##############################################################################
##############################################################################
###
### Running command:
###
###   /Library/Frameworks/R.framework/Resources/bin/R CMD INSTALL flowGraph
###
##############################################################################
##############################################################################


* installing to library ‘/Library/Frameworks/R.framework/Versions/4.5-x86_64/Resources/library’
* installing *source* package ‘flowGraph’ ...
** this is package ‘flowGraph’ version ‘1.18.0’
** using staged installation
** R
** data
** inst
** byte-compile and prepare package for lazy loading
** help
Loading required namespace: flowGraph
*** installing help indices
** building package indices
** installing vignettes
** testing if installed package can be loaded from temporary location
** testing if installed package can be loaded from final location
** testing if installed package keeps a record of temporary installation path
* DONE (flowGraph)

Tests output

flowGraph.Rcheck/tests/testthat.Rout


R version 4.5.2 Patched (2025-11-05 r88990) -- "[Not] Part in a Rumble"
Copyright (C) 2025 The R Foundation for Statistical Computing
Platform: x86_64-apple-darwin20

R is free software and comes with ABSOLUTELY NO WARRANTY.
You are welcome to redistribute it under certain conditions.
Type 'license()' or 'licence()' for distribution details.

R is a collaborative project with many contributors.
Type 'contributors()' for more information and
'citation()' on how to cite R or R packages in publications.

Type 'demo()' for some demos, 'help()' for on-line help, or
'help.start()' for an HTML browser interface to help.
Type 'q()' to quit R.

> library(testthat)
> library(flowGraph)
> 
> test_check("flowGraph")
[ FAIL 0 | WARN 1 | SKIP 0 | PASS 34 ]

[ FAIL 0 | WARN 1 | SKIP 0 | PASS 34 ]
> 
> proc.time()
   user  system elapsed 
 12.955   0.679  14.692 

Example timings

flowGraph.Rcheck/flowGraph-Ex.timings

nameusersystemelapsed
cell_type_layers0.0050.0010.007
fg_add_feature0.8370.0190.918
fg_add_summary2.2980.0332.818
fg_clean_phen0.0000.0010.000
fg_clear_features2.0890.0222.322
fg_clear_summary0.8600.0100.962
fg_extract_phenotypes0.6780.0090.774
fg_extract_raw2.0840.0152.306
fg_extract_samples0.6630.0080.707
fg_feat_cumsum0.6670.0080.696
fg_feat_edge_specenr1.0490.0111.206
fg_feat_mean_class0.6660.0100.822
fg_feat_node_prop0.6860.0100.903
fg_feat_node_specenr1.0270.0141.209
fg_feat_prop_edge0.6850.0100.725
fg_get_feature0.6510.0070.664
fg_get_feature_desc2.0900.0132.115
fg_get_feature_means3.1760.0223.496
fg_get_graph0.6560.0080.762
fg_get_markers0.6600.0070.743
fg_get_meta0.6570.0060.736
fg_get_summary4.5580.0975.100
fg_get_summary_desc2.0140.0212.159
fg_get_summary_index4.3140.0324.622
fg_get_summary_tables3.0840.0233.281
fg_gsub_ids0.6250.0070.663
fg_gsub_markers0.7990.0100.852
fg_load113.299 0.964124.984
fg_merge0.7020.0100.752
fg_merge_samples0.6940.0090.733
fg_plot1.0400.0131.104
fg_plot_box1.7830.0171.899
fg_plot_pVSdiff0.9710.0151.056
fg_plot_qq3.5720.4404.403
fg_replace_meta0.6530.0070.667
fg_rm_feature2.1380.0192.219
fg_rm_summary0.8710.0080.882
fg_save112.505 0.771122.153
fg_save_plots113.809 0.786121.732
fg_set_layout0.6840.0080.734
fg_summary0.8920.0111.070
flowGraph-class0.0010.0020.003
flowGraph3.1090.0233.414
flowGraphSubset0.0000.0010.001
flowGraphSubset_summary_adjust0.0010.0010.002
flowGraphSubset_summary_pars0.0000.0010.002
get_phen_list0.0280.0020.033
get_phen_meta0.0040.0010.005
ggdf0.6720.0110.751
loop_ind_f0.0010.0010.002
meandiff0.0010.0000.002
plot_gr3.6080.0584.018
set_layout_graph0.7120.1050.894
summary_table0.0080.0010.010
time_output0.0020.0000.004
tstr0.0000.0010.000