Back to Multiple platform build/check report for BioC 3.22:   simplified   long
ABCDE[F]GHIJKLMNOPQRSTUVWXYZ

This page was generated on 2025-11-20 12:07 -0500 (Thu, 20 Nov 2025).

HostnameOSArch (*)R versionInstalled pkgs
nebbiolo2Linux (Ubuntu 24.04.3 LTS)x86_644.5.2 (2025-10-31) -- "[Not] Part in a Rumble" 4615
merida1macOS 12.7.6 Montereyx86_644.5.2 Patched (2025-11-05 r88990) -- "[Not] Part in a Rumble" 4610
kjohnson1macOS 13.7.5 Venturaarm644.5.2 Patched (2025-11-04 r88984) -- "[Not] Part in a Rumble" 4598
taishanLinux (openEuler 24.03 LTS)aarch644.5.0 (2025-04-11) -- "How About a Twenty-Six" 4668
Click on any hostname to see more info about the system (e.g. compilers)      (*) as reported by 'uname -p', except on Windows and Mac OS X

Package 758/2361HostnameOS / ArchINSTALLBUILDCHECKBUILD BIN
flowGraph 1.18.0  (landing page)
Alice Yue
Snapshot Date: 2025-11-17 13:45 -0500 (Mon, 17 Nov 2025)
git_url: https://git.bioconductor.org/packages/flowGraph
git_branch: RELEASE_3_22
git_last_commit: 5889e7a
git_last_commit_date: 2025-10-29 11:04:59 -0500 (Wed, 29 Oct 2025)
nebbiolo2Linux (Ubuntu 24.04.3 LTS) / x86_64  OK    OK    OK  UNNEEDED, same version is already published
merida1macOS 12.7.6 Monterey / x86_64  OK    OK    OK    OK  UNNEEDED, same version is already published
kjohnson1macOS 13.7.5 Ventura / arm64  OK    OK    OK    OK  UNNEEDED, same version is already published
taishanLinux (openEuler 24.03 LTS) / aarch64  OK    OK    OK  


CHECK results for flowGraph on taishan

To the developers/maintainers of the flowGraph package:
- Allow up to 24 hours (and sometimes 48 hours) for your latest push to git@git.bioconductor.org:packages/flowGraph.git to reflect on this report. See Troubleshooting Build Report for more information.
- Use the following Renviron settings to reproduce errors and warnings.
- If 'R CMD check' started to fail recently on the Linux builder(s) over a missing dependency, add the missing dependency to 'Suggests:' in your DESCRIPTION file. See Renviron.bioc for more information.
- See Martin Grigorov's blog post for how to debug Linux ARM64 related issues on a x86_64 host.

raw results


Summary

Package: flowGraph
Version: 1.18.0
Command: /home/biocbuild/R/R/bin/R CMD check --install=check:flowGraph.install-out.txt --library=/home/biocbuild/R/R/site-library --no-vignettes --timings flowGraph_1.18.0.tar.gz
StartedAt: 2025-11-18 09:54:38 -0000 (Tue, 18 Nov 2025)
EndedAt: 2025-11-18 10:00:15 -0000 (Tue, 18 Nov 2025)
EllapsedTime: 337.4 seconds
RetCode: 0
Status:   OK  
CheckDir: flowGraph.Rcheck
Warnings: 0

Command output

##############################################################################
##############################################################################
###
### Running command:
###
###   /home/biocbuild/R/R/bin/R CMD check --install=check:flowGraph.install-out.txt --library=/home/biocbuild/R/R/site-library --no-vignettes --timings flowGraph_1.18.0.tar.gz
###
##############################################################################
##############################################################################


* using log directory ‘/home/biocbuild/bbs-3.22-bioc/meat/flowGraph.Rcheck’
* using R version 4.5.0 (2025-04-11)
* using platform: aarch64-unknown-linux-gnu
* R was compiled by
    aarch64-unknown-linux-gnu-gcc (GCC) 14.2.0
    GNU Fortran (GCC) 14.2.0
* running under: openEuler 24.03 (LTS)
* using session charset: UTF-8
* using option ‘--no-vignettes’
* checking for file ‘flowGraph/DESCRIPTION’ ... OK
* checking extension type ... Package
* this is package ‘flowGraph’ version ‘1.18.0’
* checking package namespace information ... OK
* checking package dependencies ... OK
* checking if this is a source package ... OK
* checking if there is a namespace ... OK
* checking for hidden files and directories ... OK
* checking for portable file names ... OK
* checking for sufficient/correct file permissions ... OK
* checking whether package ‘flowGraph’ can be installed ... OK
* checking installed package size ... OK
* checking package directory ... OK
* checking ‘build’ directory ... OK
* checking DESCRIPTION meta-information ... OK
* checking top-level files ... OK
* checking for left-over files ... OK
* checking index information ... OK
* checking package subdirectories ... OK
* checking code files for non-ASCII characters ... OK
* checking R files for syntax errors ... OK
* checking whether the package can be loaded ... OK
* checking whether the package can be loaded with stated dependencies ... OK
* checking whether the package can be unloaded cleanly ... OK
* checking whether the namespace can be loaded with stated dependencies ... OK
* checking whether the namespace can be unloaded cleanly ... OK
* checking loading without being on the library search path ... OK
* checking dependencies in R code ... OK
* checking S3 generic/method consistency ... OK
* checking replacement functions ... OK
* checking foreign function calls ... OK
* checking R code for possible problems ... NOTE
get_child: no visible binding for global variable ‘no_cores’
get_paren: no visible binding for global variable ‘no_cores’
ms_psig: no visible binding for global variable ‘meta’
Undefined global functions or variables:
  meta no_cores
* checking Rd files ... NOTE
checkRd: (-1) fg_get_graph.Rd:13: Lost braces
    13 | A list containing two data frames (\code{v} and ]code{e})
       |                                                      ^
checkRd: (-1) ggdf.Rd:22: Lost braces
    22 | code{ggdf} adds to the data frames \code{v} and \code{e} in slot
       |     ^
* checking Rd metadata ... OK
* checking Rd cross-references ... OK
* checking for missing documentation entries ... OK
* checking for code/documentation mismatches ... OK
* checking Rd \usage sections ... OK
* checking Rd contents ... OK
* checking for unstated dependencies in examples ... OK
* checking contents of ‘data’ directory ... OK
* checking data for non-ASCII characters ... OK
* checking data for ASCII and uncompressed saves ... OK
* checking files in ‘vignettes’ ... OK
* checking examples ... OK
Examples with CPU (user + system) or elapsed time > 5s
                user system elapsed
fg_save_plots 64.401  0.403  64.982
fg_load       63.836  0.463  64.478
fg_save       62.345  0.447  62.939
* checking for unstated dependencies in ‘tests’ ... OK
* checking tests ...
  Running ‘testthat.R’
 OK
* checking for unstated dependencies in vignettes ... OK
* checking package vignettes ... OK
* checking running R code from vignettes ... SKIPPED
* checking re-building of vignette outputs ... SKIPPED
* checking PDF version of manual ... OK
* DONE

Status: 2 NOTEs
See
  ‘/home/biocbuild/bbs-3.22-bioc/meat/flowGraph.Rcheck/00check.log’
for details.


Installation output

flowGraph.Rcheck/00install.out

##############################################################################
##############################################################################
###
### Running command:
###
###   /home/biocbuild/R/R/bin/R CMD INSTALL flowGraph
###
##############################################################################
##############################################################################


* installing to library ‘/home/biocbuild/R/R-4.5.0/site-library’
* installing *source* package ‘flowGraph’ ...
** this is package ‘flowGraph’ version ‘1.18.0’
** using staged installation
** R
** data
** inst
** byte-compile and prepare package for lazy loading
** help
Loading required namespace: flowGraph
*** installing help indices
** building package indices
** installing vignettes
** testing if installed package can be loaded from temporary location
** testing if installed package can be loaded from final location
** testing if installed package keeps a record of temporary installation path
* DONE (flowGraph)

Tests output

flowGraph.Rcheck/tests/testthat.Rout


R version 4.5.0 (2025-04-11) -- "How About a Twenty-Six"
Copyright (C) 2025 The R Foundation for Statistical Computing
Platform: aarch64-unknown-linux-gnu

R is free software and comes with ABSOLUTELY NO WARRANTY.
You are welcome to redistribute it under certain conditions.
Type 'license()' or 'licence()' for distribution details.

R is a collaborative project with many contributors.
Type 'contributors()' for more information and
'citation()' on how to cite R or R packages in publications.

Type 'demo()' for some demos, 'help()' for on-line help, or
'help.start()' for an HTML browser interface to help.
Type 'q()' to quit R.

> library(testthat)
> library(flowGraph)
> 
> test_check("flowGraph")
[ FAIL 0 | WARN 1 | SKIP 0 | PASS 34 ]

[ FAIL 0 | WARN 1 | SKIP 0 | PASS 34 ]
> 
> proc.time()
   user  system elapsed 
  7.511   0.382   7.916 

Example timings

flowGraph.Rcheck/flowGraph-Ex.timings

nameusersystemelapsed
cell_type_layers0.0040.0000.004
fg_add_feature0.5500.0040.555
fg_add_summary1.3770.0081.389
fg_clean_phen0.0000.0000.001
fg_clear_features1.2510.1711.427
fg_clear_summary0.5590.0320.592
fg_extract_phenotypes0.4560.0120.469
fg_extract_raw1.2470.0241.276
fg_extract_samples0.4150.0000.416
fg_feat_cumsum0.4260.0040.431
fg_feat_edge_specenr0.6060.0200.627
fg_feat_mean_class0.4410.0120.454
fg_feat_node_prop0.4160.0000.417
fg_feat_node_specenr0.5940.0040.600
fg_feat_prop_edge0.4500.0120.464
fg_get_feature0.4320.0040.438
fg_get_feature_desc1.2820.0041.291
fg_get_feature_means1.9720.0201.998
fg_get_graph0.4230.0080.433
fg_get_markers0.6170.0400.658
fg_get_meta0.4070.0320.440
fg_get_summary2.5080.0282.545
fg_get_summary_desc1.1820.0001.185
fg_get_summary_index2.5050.0002.512
fg_get_summary_tables1.7650.0081.778
fg_gsub_ids0.3940.0510.447
fg_gsub_markers0.4850.0040.490
fg_load63.836 0.46364.478
fg_merge0.4200.0080.430
fg_merge_samples0.4490.0200.471
fg_plot0.6400.0040.647
fg_plot_box1.0960.0001.100
fg_plot_pVSdiff0.5700.0080.579
fg_plot_qq1.7890.0081.814
fg_replace_meta0.4220.0000.423
fg_rm_feature1.2380.0001.242
fg_rm_summary0.5420.0000.543
fg_save62.345 0.44762.939
fg_save_plots64.401 0.40364.982
fg_set_layout0.4250.0000.427
fg_summary0.5490.0040.555
flowGraph-class0.0010.0000.000
flowGraph1.8320.0081.845
flowGraphSubset0.0010.0000.000
flowGraphSubset_summary_adjust000
flowGraphSubset_summary_pars0.0000.0000.001
get_phen_list0.0150.0030.018
get_phen_meta0.0020.0000.003
ggdf0.4200.0040.425
loop_ind_f0.0010.0000.000
meandiff0.0010.0000.000
plot_gr2.2410.0072.276
set_layout_graph0.4480.0080.457
summary_table0.0000.0040.004
time_output0.0000.0000.001
tstr0.0000.0000.001