| Back to Multiple platform build/check report for BioC 3.22: simplified long |
|
This page was generated on 2025-11-15 11:58 -0500 (Sat, 15 Nov 2025).
| Hostname | OS | Arch (*) | R version | Installed pkgs |
|---|---|---|---|---|
| nebbiolo2 | Linux (Ubuntu 24.04.3 LTS) | x86_64 | 4.5.1 Patched (2025-08-23 r88802) -- "Great Square Root" | 4903 |
| taishan | Linux (openEuler 24.03 LTS) | aarch64 | 4.5.0 (2025-04-11) -- "How About a Twenty-Six" | 4668 |
| Click on any hostname to see more info about the system (e.g. compilers) (*) as reported by 'uname -p', except on Windows and Mac OS X | ||||
| Package 1430/2361 | Hostname | OS / Arch | INSTALL | BUILD | CHECK | BUILD BIN | ||||||||
| MutationalPatterns 3.20.0 (landing page) Mark van Roosmalen
| nebbiolo2 | Linux (Ubuntu 24.04.3 LTS) / x86_64 | OK | OK | ERROR | |||||||||
| taishan | Linux (openEuler 24.03 LTS) / aarch64 | OK | OK | ERROR | ||||||||||
|
To the developers/maintainers of the MutationalPatterns package: - Allow up to 24 hours (and sometimes 48 hours) for your latest push to git@git.bioconductor.org:packages/MutationalPatterns.git to reflect on this report. See Troubleshooting Build Report for more information. - Use the following Renviron settings to reproduce errors and warnings. - If 'R CMD check' started to fail recently on the Linux builder(s) over a missing dependency, add the missing dependency to 'Suggests:' in your DESCRIPTION file. See Renviron.bioc for more information. - See Martin Grigorov's blog post for how to debug Linux ARM64 related issues on a x86_64 host. |
| Package: MutationalPatterns |
| Version: 3.20.0 |
| Command: /home/biocbuild/R/R/bin/R CMD check --install=check:MutationalPatterns.install-out.txt --library=/home/biocbuild/R/R/site-library --no-vignettes --timings MutationalPatterns_3.20.0.tar.gz |
| StartedAt: 2025-11-14 12:08:41 -0000 (Fri, 14 Nov 2025) |
| EndedAt: 2025-11-14 12:25:08 -0000 (Fri, 14 Nov 2025) |
| EllapsedTime: 986.7 seconds |
| RetCode: 1 |
| Status: ERROR |
| CheckDir: MutationalPatterns.Rcheck |
| Warnings: NA |
##############################################################################
##############################################################################
###
### Running command:
###
### /home/biocbuild/R/R/bin/R CMD check --install=check:MutationalPatterns.install-out.txt --library=/home/biocbuild/R/R/site-library --no-vignettes --timings MutationalPatterns_3.20.0.tar.gz
###
##############################################################################
##############################################################################
* using log directory ‘/home/biocbuild/bbs-3.22-bioc/meat/MutationalPatterns.Rcheck’
* using R version 4.5.0 (2025-04-11)
* using platform: aarch64-unknown-linux-gnu
* R was compiled by
aarch64-unknown-linux-gnu-gcc (GCC) 14.2.0
GNU Fortran (GCC) 14.2.0
* running under: openEuler 24.03 (LTS)
* using session charset: UTF-8
* using option ‘--no-vignettes’
* checking for file ‘MutationalPatterns/DESCRIPTION’ ... OK
* checking extension type ... Package
* this is package ‘MutationalPatterns’ version ‘3.20.0’
* package encoding: UTF-8
* checking package namespace information ... OK
* checking package dependencies ... OK
* checking if this is a source package ... OK
* checking if there is a namespace ... OK
* checking for hidden files and directories ... OK
* checking for portable file names ... OK
* checking for sufficient/correct file permissions ... OK
* checking whether package ‘MutationalPatterns’ can be installed ... OK
* checking installed package size ... OK
* checking package directory ... OK
* checking ‘build’ directory ... OK
* checking DESCRIPTION meta-information ... NOTE
License stub is invalid DCF.
* checking top-level files ... OK
* checking for left-over files ... OK
* checking index information ... OK
* checking package subdirectories ... OK
* checking code files for non-ASCII characters ... OK
* checking R files for syntax errors ... OK
* checking whether the package can be loaded ... OK
* checking whether the package can be loaded with stated dependencies ... OK
* checking whether the package can be unloaded cleanly ... OK
* checking whether the namespace can be loaded with stated dependencies ... OK
* checking whether the namespace can be unloaded cleanly ... OK
* checking loading without being on the library search path ... OK
* checking dependencies in R code ... OK
* checking S3 generic/method consistency ... OK
* checking replacement functions ... OK
* checking foreign function calls ... OK
* checking R code for possible problems ... OK
* checking Rd files ... OK
* checking Rd metadata ... OK
* checking Rd cross-references ... OK
* checking for missing documentation entries ... OK
* checking for code/documentation mismatches ... OK
* checking Rd \usage sections ... OK
* checking Rd contents ... OK
* checking for unstated dependencies in examples ... OK
* checking files in ‘vignettes’ ... OK
* checking examples ... OK
Examples with CPU (user + system) or elapsed time > 5s
user system elapsed
context_potential_damage_analysis 34.082 0.765 37.102
read_vcfs_as_granges 27.062 0.427 51.497
plot_lesion_segregation 25.770 0.092 26.396
get_mut_type 17.225 0.126 20.253
plot_compare_indels 17.291 0.020 18.084
calculate_lesion_segregation 16.990 0.311 19.623
plot_indel_contexts 16.173 0.036 16.552
genomic_distribution 14.622 0.232 15.342
bin_mutation_density 12.572 0.586 13.421
plot_compare_dbs 11.000 0.076 11.563
get_indel_context 10.182 0.351 11.702
fit_to_signatures_bootstrapped 9.089 0.024 9.692
plot_spectrum_region 8.779 0.104 9.052
plot_profile_heatmap 8.461 0.072 8.567
plot_spectrum 8.305 0.075 8.848
plot_river 8.275 0.100 8.409
plot_dbs_contexts 8.025 0.044 8.642
mut_matrix_stranded 7.256 0.212 7.561
plot_enrichment_depletion 7.158 0.051 7.934
fit_to_signatures_strict 6.827 0.155 7.284
split_muts_region 6.313 0.040 6.649
plot_192_profile 5.513 0.016 7.179
determine_regional_similarity 4.522 0.119 5.752
* checking for unstated dependencies in ‘tests’ ... OK
* checking tests ...
Running ‘testthat.R’
ERROR
Running the tests in ‘tests/testthat.R’ failed.
Last 13 lines of output:
382/1728 mismatches (average diff: 1.45)
[68] 2 - 1 == 1
[69] 4 - 3 == 1
[70] 5 - 6 == -1
[71] 2 - 1 == 1
[72] 1 - 0 == 1
[74] 3 - 2 == 1
[77] 4 - 3 == 1
[78] 2 - 1 == 1
[79] 1 - 0 == 1
...
[ FAIL 3 | WARN 41 | SKIP 0 | PASS 471 ]
Error: Test failures
Execution halted
* checking for unstated dependencies in vignettes ... OK
* checking package vignettes ... OK
* checking running R code from vignettes ... SKIPPED
* checking re-building of vignette outputs ... SKIPPED
* checking PDF version of manual ... OK
* DONE
Status: 1 ERROR, 1 NOTE
See
‘/home/biocbuild/bbs-3.22-bioc/meat/MutationalPatterns.Rcheck/00check.log’
for details.
MutationalPatterns.Rcheck/00install.out
############################################################################## ############################################################################## ### ### Running command: ### ### /home/biocbuild/R/R/bin/R CMD INSTALL MutationalPatterns ### ############################################################################## ############################################################################## * installing to library ‘/home/biocbuild/R/R-4.5.0/site-library’ * installing *source* package ‘MutationalPatterns’ ... ** this is package ‘MutationalPatterns’ version ‘3.20.0’ ** using staged installation ** R ** inst ** byte-compile and prepare package for lazy loading ** help *** installing help indices ** building package indices ** installing vignettes ** testing if installed package can be loaded from temporary location ** testing if installed package can be loaded from final location ** testing if installed package keeps a record of temporary installation path * DONE (MutationalPatterns)
MutationalPatterns.Rcheck/tests/testthat.Rout.fail
R version 4.5.0 (2025-04-11) -- "How About a Twenty-Six"
Copyright (C) 2025 The R Foundation for Statistical Computing
Platform: aarch64-unknown-linux-gnu
R is free software and comes with ABSOLUTELY NO WARRANTY.
You are welcome to redistribute it under certain conditions.
Type 'license()' or 'licence()' for distribution details.
R is a collaborative project with many contributors.
Type 'contributors()' for more information and
'citation()' on how to cite R or R packages in publications.
Type 'demo()' for some demos, 'help()' for on-line help, or
'help.start()' for an HTML browser interface to help.
Type 'q()' to quit R.
> library(testthat)
> library(MutationalPatterns)
Loading required package: GenomicRanges
Loading required package: stats4
Loading required package: BiocGenerics
Loading required package: generics
Attaching package: 'generics'
The following objects are masked from 'package:base':
as.difftime, as.factor, as.ordered, intersect, is.element, setdiff,
setequal, union
Attaching package: 'BiocGenerics'
The following objects are masked from 'package:stats':
IQR, mad, sd, var, xtabs
The following objects are masked from 'package:base':
Filter, Find, Map, Position, Reduce, anyDuplicated, aperm, append,
as.data.frame, basename, cbind, colnames, dirname, do.call,
duplicated, eval, evalq, get, grep, grepl, is.unsorted, lapply,
mapply, match, mget, order, paste, pmax, pmax.int, pmin, pmin.int,
rank, rbind, rownames, sapply, saveRDS, table, tapply, unique,
unsplit, which.max, which.min
Loading required package: S4Vectors
Attaching package: 'S4Vectors'
The following object is masked from 'package:utils':
findMatches
The following objects are masked from 'package:base':
I, expand.grid, unname
Loading required package: IRanges
Loading required package: Seqinfo
Loading required package: NMF
Loading required package: registry
Loading required package: rngtools
Loading required package: cluster
NMF - BioConductor layer [OK] | Shared memory capabilities [NO: bigmemory] | Cores 2/2
To enable shared memory capabilities, try: install.extras('
NMF
')
Attaching package: 'NMF'
The following object is masked from 'package:S4Vectors':
nrun
The following object is masked from 'package:generics':
fit
The following object is masked from 'package:testthat':
compare
>
> test_check("MutationalPatterns")
[ FAIL 3 | WARN 41 | SKIP 0 | PASS 471 ]
══ Failed tests ════════════════════════════════════════════════════════════════
── Failure ('test-context_potential_damage_analysis.R:46:3'): Output is equal to expected ──
`output` not equal to `expected`.
Component "n": Mean relative difference: 0.09452736
Component "ratio": Mean relative difference: 0.06150134
Component "blosum62": Mean relative difference: 0.2656804
── Failure ('test-mut_matrix_stranded.R:20:3'): transforms correctly ───────────
`output` not equal to `expected`.
382/1728 mismatches (average diff: 1.45)
[68] 2 - 1 == 1
[69] 4 - 3 == 1
[70] 5 - 6 == -1
[71] 2 - 1 == 1
[72] 1 - 0 == 1
[74] 3 - 2 == 1
[77] 4 - 3 == 1
[78] 2 - 1 == 1
[79] 1 - 0 == 1
...
── Failure ('test-mut_matrix_stranded.R:29:3'): a list is also acceptable input ──
`output_list` not equal to `expected`.
382/1728 mismatches (average diff: 1.45)
[68] 2 - 1 == 1
[69] 4 - 3 == 1
[70] 5 - 6 == -1
[71] 2 - 1 == 1
[72] 1 - 0 == 1
[74] 3 - 2 == 1
[77] 4 - 3 == 1
[78] 2 - 1 == 1
[79] 1 - 0 == 1
...
[ FAIL 3 | WARN 41 | SKIP 0 | PASS 471 ]
Error: Test failures
Execution halted
MutationalPatterns.Rcheck/MutationalPatterns-Ex.timings
| name | user | system | elapsed | |
| bin_mutation_density | 12.572 | 0.586 | 13.421 | |
| binomial_test | 0.012 | 0.000 | 0.012 | |
| calculate_lesion_segregation | 16.990 | 0.311 | 19.623 | |
| cluster_signatures | 0.074 | 0.000 | 0.083 | |
| context_potential_damage_analysis | 34.082 | 0.765 | 37.102 | |
| convert_sigs_to_ref | 0.062 | 0.005 | 0.135 | |
| cos_sim | 0 | 0 | 0 | |
| cos_sim_matrix | 0.031 | 0.003 | 0.041 | |
| count_dbs_contexts | 0.120 | 0.004 | 0.139 | |
| count_indel_contexts | 0.139 | 0.004 | 0.168 | |
| count_mbs_contexts | 0.175 | 0.000 | 0.350 | |
| determine_regional_similarity | 4.522 | 0.119 | 5.752 | |
| enrichment_depletion_test | 0.204 | 0.000 | 0.248 | |
| extract_signatures | 0.002 | 0.000 | 0.002 | |
| fit_to_signatures | 0.119 | 0.020 | 0.159 | |
| fit_to_signatures_bootstrapped | 9.089 | 0.024 | 9.692 | |
| fit_to_signatures_strict | 6.827 | 0.155 | 7.284 | |
| genomic_distribution | 14.622 | 0.232 | 15.342 | |
| get_dbs_context | 0.344 | 0.004 | 0.421 | |
| get_indel_context | 10.182 | 0.351 | 11.702 | |
| get_known_signatures | 0.312 | 0.069 | 0.601 | |
| get_mut_type | 17.225 | 0.126 | 20.253 | |
| lengthen_mut_matrix | 0.011 | 0.004 | 0.030 | |
| merge_signatures | 1.825 | 0.028 | 1.917 | |
| mut_context | 1.500 | 0.076 | 1.580 | |
| mut_matrix | 2.781 | 0.110 | 3.075 | |
| mut_matrix_stranded | 7.256 | 0.212 | 7.561 | |
| mut_strand | 2.503 | 0.024 | 2.567 | |
| mut_type | 0.035 | 0.003 | 0.039 | |
| mut_type_occurrences | 1.414 | 0.043 | 1.514 | |
| mutations_from_vcf | 0.037 | 0.000 | 0.037 | |
| plot_192_profile | 5.513 | 0.016 | 7.179 | |
| plot_96_profile | 4.439 | 0.022 | 4.904 | |
| plot_bootstrapped_contribution | 4.006 | 0.008 | 4.150 | |
| plot_compare_dbs | 11.000 | 0.076 | 11.563 | |
| plot_compare_indels | 17.291 | 0.020 | 18.084 | |
| plot_compare_mbs | 2.056 | 0.000 | 2.204 | |
| plot_compare_profiles | 4.120 | 0.004 | 4.535 | |
| plot_contribution | 3.545 | 0.016 | 3.710 | |
| plot_contribution_heatmap | 3.572 | 0.000 | 3.692 | |
| plot_correlation_bootstrap | 2.592 | 0.017 | 3.644 | |
| plot_cosine_heatmap | 4.179 | 0.016 | 4.796 | |
| plot_dbs_contexts | 8.025 | 0.044 | 8.642 | |
| plot_enrichment_depletion | 7.158 | 0.051 | 7.934 | |
| plot_indel_contexts | 16.173 | 0.036 | 16.552 | |
| plot_lesion_segregation | 25.770 | 0.092 | 26.396 | |
| plot_main_dbs_contexts | 1.247 | 0.004 | 1.259 | |
| plot_main_indel_contexts | 1.312 | 0.000 | 1.315 | |
| plot_mbs_contexts | 1.165 | 0.004 | 1.172 | |
| plot_original_vs_reconstructed | 1.457 | 0.004 | 1.498 | |
| plot_profile_heatmap | 8.461 | 0.072 | 8.567 | |
| plot_profile_region | 2.053 | 0.012 | 2.070 | |
| plot_rainfall | 3.320 | 0.028 | 3.582 | |
| plot_regional_similarity | 3.980 | 0.000 | 4.411 | |
| plot_river | 8.275 | 0.100 | 8.409 | |
| plot_signature_strand_bias | 1.415 | 0.004 | 1.425 | |
| plot_spectrum | 8.305 | 0.075 | 8.848 | |
| plot_spectrum_region | 8.779 | 0.104 | 9.052 | |
| plot_strand | 0.468 | 0.004 | 0.477 | |
| plot_strand_bias | 1.499 | 0.012 | 1.518 | |
| pool_mut_mat | 0.054 | 0.000 | 0.055 | |
| read_vcfs_as_granges | 27.062 | 0.427 | 51.497 | |
| rename_nmf_signatures | 0.040 | 0.008 | 0.049 | |
| signature_potential_damage_analysis | 0.118 | 0.012 | 0.150 | |
| split_muts_region | 6.313 | 0.040 | 6.649 | |
| strand_bias_test | 0.154 | 0.000 | 0.154 | |
| strand_occurrences | 0.222 | 0.000 | 0.224 | |
| type_context | 1.840 | 0.083 | 1.932 | |