| Back to Multiple platform build/check report for BioC 3.22: simplified long |
|
This page was generated on 2025-10-25 12:05 -0400 (Sat, 25 Oct 2025).
| Hostname | OS | Arch (*) | R version | Installed pkgs |
|---|---|---|---|---|
| nebbiolo2 | Linux (Ubuntu 24.04.3 LTS) | x86_64 | 4.5.1 Patched (2025-08-23 r88802) -- "Great Square Root" | 4901 |
| lconway | macOS 12.7.6 Monterey | x86_64 | 4.5.1 Patched (2025-09-10 r88807) -- "Great Square Root" | 4691 |
| kjohnson3 | macOS 13.7.7 Ventura | arm64 | 4.5.1 Patched (2025-09-10 r88807) -- "Great Square Root" | 4637 |
| taishan | Linux (openEuler 24.03 LTS) | aarch64 | 4.5.0 (2025-04-11) -- "How About a Twenty-Six" | 4658 |
| Click on any hostname to see more info about the system (e.g. compilers) (*) as reported by 'uname -p', except on Windows and Mac OS X | ||||
| Package 1378/2361 | Hostname | OS / Arch | INSTALL | BUILD | CHECK | BUILD BIN | ||||||||
| MsBackendRawFileReader 1.15.1 (landing page) Christian Panse
| nebbiolo2 | Linux (Ubuntu 24.04.3 LTS) / x86_64 | OK | OK | OK | |||||||||
| lconway | macOS 12.7.6 Monterey / x86_64 | OK | OK | OK | OK | |||||||||
| kjohnson3 | macOS 13.7.7 Ventura / arm64 | OK | OK | OK | OK | |||||||||
| taishan | Linux (openEuler 24.03 LTS) / aarch64 | OK | NA | NA | ||||||||||
|
To the developers/maintainers of the MsBackendRawFileReader package: - Allow up to 24 hours (and sometimes 48 hours) for your latest push to git@git.bioconductor.org:packages/MsBackendRawFileReader.git to reflect on this report. See Troubleshooting Build Report for more information. - Use the following Renviron settings to reproduce errors and warnings. - If 'R CMD check' started to fail recently on the Linux builder(s) over a missing dependency, add the missing dependency to 'Suggests:' in your DESCRIPTION file. See Renviron.bioc for more information. |
| Package: MsBackendRawFileReader |
| Version: 1.15.1 |
| Command: /Library/Frameworks/R.framework/Resources/bin/R CMD check --install=check:MsBackendRawFileReader.install-out.txt --library=/Library/Frameworks/R.framework/Resources/library --no-vignettes --timings MsBackendRawFileReader_1.15.1.tar.gz |
| StartedAt: 2025-10-24 22:42:38 -0400 (Fri, 24 Oct 2025) |
| EndedAt: 2025-10-24 22:46:19 -0400 (Fri, 24 Oct 2025) |
| EllapsedTime: 221.2 seconds |
| RetCode: 0 |
| Status: OK |
| CheckDir: MsBackendRawFileReader.Rcheck |
| Warnings: 0 |
##############################################################################
##############################################################################
###
### Running command:
###
### /Library/Frameworks/R.framework/Resources/bin/R CMD check --install=check:MsBackendRawFileReader.install-out.txt --library=/Library/Frameworks/R.framework/Resources/library --no-vignettes --timings MsBackendRawFileReader_1.15.1.tar.gz
###
##############################################################################
##############################################################################
* using log directory ‘/Users/biocbuild/bbs-3.22-bioc/meat/MsBackendRawFileReader.Rcheck’
* using R version 4.5.1 Patched (2025-09-10 r88807)
* using platform: x86_64-apple-darwin20
* R was compiled by
Apple clang version 14.0.0 (clang-1400.0.29.202)
GNU Fortran (GCC) 14.2.0
* running under: macOS Monterey 12.7.6
* using session charset: UTF-8
* using option ‘--no-vignettes’
* checking for file ‘MsBackendRawFileReader/DESCRIPTION’ ... OK
* checking extension type ... Package
* this is package ‘MsBackendRawFileReader’ version ‘1.15.1’
* package encoding: UTF-8
* checking package namespace information ... OK
* checking package dependencies ... OK
* checking if this is a source package ... OK
* checking if there is a namespace ... OK
* checking for hidden files and directories ... OK
* checking for portable file names ... OK
* checking for sufficient/correct file permissions ... OK
* checking whether package ‘MsBackendRawFileReader’ can be installed ... OK
* checking installed package size ... OK
* checking package directory ... OK
* checking ‘build’ directory ... OK
* checking DESCRIPTION meta-information ... OK
* checking top-level files ... OK
* checking for left-over files ... OK
* checking index information ... OK
* checking package subdirectories ... OK
* checking code files for non-ASCII characters ... OK
* checking R files for syntax errors ... OK
* checking whether the package can be loaded ... OK
* checking whether the package can be loaded with stated dependencies ... OK
* checking whether the package can be unloaded cleanly ... OK
* checking whether the namespace can be loaded with stated dependencies ... OK
* checking whether the namespace can be unloaded cleanly ... OK
* checking whether startup messages can be suppressed ... OK
* checking dependencies in R code ... OK
* checking S3 generic/method consistency ... OK
* checking replacement functions ... OK
* checking foreign function calls ... OK
* checking R code for possible problems ... OK
* checking Rd files ... OK
* checking Rd metadata ... OK
* checking Rd cross-references ... OK
* checking for missing documentation entries ... OK
* checking for code/documentation mismatches ... OK
* checking Rd \usage sections ... OK
* checking Rd contents ... OK
* checking for unstated dependencies in examples ... OK
* checking files in ‘vignettes’ ... OK
* checking examples ... OK
Examples with CPU (user + system) or elapsed time > 5s
user system elapsed
ioBenchmark 28.391 11.053 16.036
MsBackendRawFileReader 7.798 2.863 11.201
MsBackendRawFileReader-class 3.547 1.061 5.010
* checking for unstated dependencies in ‘tests’ ... OK
* checking tests ...
Running ‘testthat.R’
OK
* checking for unstated dependencies in vignettes ... OK
* checking package vignettes ... OK
* checking running R code from vignettes ... SKIPPED
* checking re-building of vignette outputs ... SKIPPED
* checking PDF version of manual ... OK
* DONE
Status: OK
MsBackendRawFileReader.Rcheck/00install.out
############################################################################## ############################################################################## ### ### Running command: ### ### /Library/Frameworks/R.framework/Resources/bin/R CMD INSTALL MsBackendRawFileReader ### ############################################################################## ############################################################################## * installing to library ‘/Library/Frameworks/R.framework/Versions/4.5-x86_64/Resources/library’ * installing *source* package ‘MsBackendRawFileReader’ ... ** this is package ‘MsBackendRawFileReader’ version ‘1.15.1’ ** using staged installation ** R ** inst ** byte-compile and prepare package for lazy loading ** help *** installing help indices ** building package indices ** installing vignettes ** testing if installed package can be loaded from temporary location ** testing if installed package can be loaded from final location ** testing if installed package keeps a record of temporary installation path * DONE (MsBackendRawFileReader)
MsBackendRawFileReader.Rcheck/tests/testthat.Rout
R version 4.5.1 Patched (2025-09-10 r88807) -- "Great Square Root"
Copyright (C) 2025 The R Foundation for Statistical Computing
Platform: x86_64-apple-darwin20
R is free software and comes with ABSOLUTELY NO WARRANTY.
You are welcome to redistribute it under certain conditions.
Type 'license()' or 'licence()' for distribution details.
R is a collaborative project with many contributors.
Type 'contributors()' for more information and
'citation()' on how to cite R or R packages in publications.
Type 'demo()' for some demos, 'help()' for on-line help, or
'help.start()' for an HTML browser interface to help.
Type 'q()' to quit R.
> library("testthat")
> library("MsBackendRawFileReader")
Loading required package: Spectra
Loading required package: S4Vectors
Loading required package: stats4
Loading required package: BiocGenerics
Loading required package: generics
Attaching package: 'generics'
The following objects are masked from 'package:base':
as.difftime, as.factor, as.ordered, intersect, is.element, setdiff,
setequal, union
Attaching package: 'BiocGenerics'
The following objects are masked from 'package:stats':
IQR, mad, sd, var, xtabs
The following objects are masked from 'package:base':
Filter, Find, Map, Position, Reduce, anyDuplicated, aperm, append,
as.data.frame, basename, cbind, colnames, dirname, do.call,
duplicated, eval, evalq, get, grep, grepl, is.unsorted, lapply,
mapply, match, mget, order, paste, pmax, pmax.int, pmin, pmin.int,
rank, rbind, rownames, sapply, saveRDS, table, tapply, unique,
unsplit, which.max, which.min
Attaching package: 'S4Vectors'
The following object is masked from 'package:utils':
findMatches
The following objects are masked from 'package:base':
I, expand.grid, unname
Loading required package: BiocParallel
> library("Spectra")
>
>
> sample_raw_file <- file.path(system.file(package = "rawrr"),
+ 'extdata', 'sample.raw')
>
> sample_mzXML_file <- file.path(path.package(package = 'MsBackendRawFileReader'),
+ 'extdata', 'sample.mzXML')
>
>
> sample_raw <- backendInitialize(MsBackendRawFileReader::MsBackendRawFileReader(), files = sample_raw_file)
>
>
> #sample_mzr <- backendInitialize(MsBackendMzR(), files = sample_mzXML_file)
>
>
> mgf_file <- file.path(system.file(package = "MsBackendRawFileReader"),
+ 'extdata', '3159619b11ed_4590_9594.mgf')
>
>
> rv <- lapply(1:2, function(x){
+ file.copy(from = sample_raw_file, to = tempfile(fileext='.raw'))})
>
>
> register(SnowParam(workers = 1, type = "SOCK") , default = TRUE);
> sample_raw_2 <- backendInitialize(MsBackendRawFileReader(),
+ files = file.path(tempdir(),
+ list.files(path = tempdir(), pattern = 'raw$')))
>
>
> test_check("MsBackendRawFileReader")
[ FAIL 0 | WARN 1 | SKIP 2 | PASS 21 ]
══ Skipped tests (2) ═══════════════════════════════════════════════════════════
• isFALSE(file.exists(sample_mzXML_file)) is TRUE (1):
'test_MsBackendMzR_MsBackendRawFileReader.R:1:1'
• isFALSE(require(MsBackendRawMgf)) is TRUE (1): 'test_top_n_mgf.R:1:1'
[ FAIL 0 | WARN 1 | SKIP 2 | PASS 21 ]
>
>
> be <- Spectra::backendInitialize(MsBackendRawFileReader::MsBackendRawFileReader(),
+ files = c(sample_raw_file))
>
> ## Run the MsBackend spectra variable test suite
>
> test_suite <- system.file("test_backends", "test_MsBackend",
+ package = "Spectra")
>
> #res <- test_file(paste0(test_suite, "/test_spectra_variables.R"),
> # reporter = check_reporter(), stop_on_failure = TRUE)
>
>
> ## Run the whole suite.
> res <- test_dir(test_suite, stop_on_failure = TRUE)
✔ | F W S OK | Context
⠏ | 0 | peaks_variables
⠙ | 2 | peaks_variables
⠸ | 4 | peaks_variables
✔ | 4 | peaks_variables [4.6s]
⠏ | 0 | spectra_subsetting
⠋ | 1 | spectra_subsetting
⠹ | 13 | spectra_subsetting
⠸ | 24 | spectra_subsetting
⠸ | 34 | spectra_subsetting
⠦ | 47 | spectra_subsetting
⠇ | 59 | spectra_subsetting
⠇ | 69 | spectra_subsetting
⠙ | 82 | spectra_subsetting
⠸ | 94 | spectra_subsetting
⠸ | 104 | spectra_subsetting
⠼ | 115 | spectra_subsetting
⠦ | 127 | spectra_subsetting
⠇ | 139 | spectra_subsetting
⠋ | 151 | spectra_subsetting
⠹ | 163 | spectra_subsetting
⠼ | 175 | spectra_subsetting
⠦ | 187 | spectra_subsetting
⠇ | 199 | spectra_subsetting
⠋ | 211 | spectra_subsetting
⠹ | 223 | spectra_subsetting
⠼ | 235 | spectra_subsetting
⠦ | 247 | spectra_subsetting
⠇ | 259 | spectra_subsetting
⠋ | 271 | spectra_subsetting
⠹ | 283 | spectra_subsetting
⠼ | 295 | spectra_subsetting
⠦ | 307 | spectra_subsetting
⠇ | 319 | spectra_subsetting
⠋ | 331 | spectra_subsetting
⠹ | 343 | spectra_subsetting
⠼ | 355 | spectra_subsetting
⠼ | 365 | spectra_subsetting
⠦ | 377 | spectra_subsetting
⠇ | 389 | spectra_subsetting
⠇ | 399 | spectra_subsetting
⠏ | 410 | spectra_subsetting
⠙ | 422 | spectra_subsetting
⠹ | 433 | spectra_subsetting
⠼ | 445 | spectra_subsetting
⠦ | 457 | spectra_subsetting
⠇ | 469 | spectra_subsetting
⠋ | 481 | spectra_subsetting
⠹ | 493 | spectra_subsetting
⠼ | 505 | spectra_subsetting
⠦ | 517 | spectra_subsetting
⠇ | 529 | spectra_subsetting
⠋ | 541 | spectra_subsetting
⠹ | 553 | spectra_subsetting
⠼ | 565 | spectra_subsetting
⠦ | 577 | spectra_subsetting
⠇ | 589 | spectra_subsetting
⠋ | 601 | spectra_subsetting
⠹ | 613 | spectra_subsetting
⠼ | 625 | spectra_subsetting
⠦ | 637 | spectra_subsetting
⠇ | 649 | spectra_subsetting
⠋ | 661 | spectra_subsetting
⠸ | 674 | spectra_subsetting
⠼ | 685 | spectra_subsetting
⠼ | 695 | spectra_subsetting
⠦ | 707 | spectra_subsetting
⠧ | 718 | spectra_subsetting
⠦ | 727 | spectra_subsetting
⠇ | 739 | spectra_subsetting
⠋ | 751 | spectra_subsetting
⠹ | 763 | spectra_subsetting
⠼ | 775 | spectra_subsetting
⠇ | 789 | spectra_subsetting
⠇ | 799 | spectra_subsetting
⠋ | 811 | spectra_subsetting
⠹ | 823 | spectra_subsetting
⠼ | 835 | spectra_subsetting
⠦ | 847 | spectra_subsetting
⠏ | 860 | spectra_subsetting
⠙ | 872 | spectra_subsetting
⠴ | 886 | spectra_subsetting
⠇ | 899 | spectra_subsetting
⠏ | 910 | spectra_subsetting
⠙ | 922 | spectra_subsetting
⠸ | 934 | spectra_subsetting
⠸ | 944 | spectra_subsetting
⠼ | 955 | spectra_subsetting
⠦ | 967 | spectra_subsetting
⠇ | 979 | spectra_subsetting
⠇ | 989 | spectra_subsetting
⠏ | 1000 | spectra_subsetting
⠙ | 1012 | spectra_subsetting
⠙ | 1022 | spectra_subsetting
⠹ | 1033 | spectra_subsetting
⠼ | 1045 | spectra_subsetting
⠦ | 1057 | spectra_subsetting
⠇ | 1069 | spectra_subsetting
⠋ | 1081 | spectra_subsetting
⠙ | 1092 | spectra_subsetting
⠹ | 1103 | spectra_subsetting
⠴ | 1116 | spectra_subsetting
⠴ | 1126 | spectra_subsetting
⠧ | 1138 | spectra_subsetting
⠏ | 1150 | spectra_subsetting
⠙ | 1162 | spectra_subsetting
⠸ | 1174 | spectra_subsetting
⠦ | 1187 | spectra_subsetting
⠧ | 1198 | spectra_subsetting
⠇ | 1209 | spectra_subsetting
⠇ | 1219 | spectra_subsetting
⠋ | 1231 | spectra_subsetting
⠹ | 1243 | spectra_subsetting
⠦ | 1257 | spectra_subsetting
⠧ | 1268 | spectra_subsetting
⠇ | 1279 | spectra_subsetting
⠙ | 1292 | spectra_subsetting
⠏ | 1300 | spectra_subsetting
⠙ | 1312 | spectra_subsetting
⠸ | 1324 | spectra_subsetting
⠦ | 1337 | spectra_subsetting
⠧ | 1348 | spectra_subsetting
⠏ | 1360 | spectra_subsetting
⠼ | 1375 | spectra_subsetting
⠦ | 1387 | spectra_subsetting
⠋ | 1401 | spectra_subsetting
⠹ | 1413 | spectra_subsetting
⠹ | 1423 | spectra_subsetting
⠼ | 1435 | spectra_subsetting
⠦ | 1447 | spectra_subsetting
⠦ | 1457 | spectra_subsetting
⠇ | 1469 | spectra_subsetting
⠏ | 1480 | spectra_subsetting
⠙ | 1492 | spectra_subsetting
⠸ | 1504 | spectra_subsetting
⠴ | 1516 | spectra_subsetting
⠴ | 1526 | spectra_subsetting
⠦ | 1537 | spectra_subsetting
⠇ | 1549 | spectra_subsetting
⠙ | 1562 | spectra_subsetting
⠹ | 1573 | spectra_subsetting
⠦ | 1587 | spectra_subsetting
⠏ | 1600 | spectra_subsetting
⠏ | 1610 | spectra_subsetting
⠋ | 1621 | spectra_subsetting
⠸ | 1634 | spectra_subsetting
⠼ | 1645 | spectra_subsetting
⠧ | 1658 | spectra_subsetting
⠋ | 1671 | spectra_subsetting
⠋ | 1681 | spectra_subsetting
⠹ | 1693 | spectra_subsetting
⠴ | 1706 | spectra_subsetting
⠦ | 1717 | spectra_subsetting
⠦ | 1727 | spectra_subsetting
⠇ | 1729 | spectra_subsetting
⠙ | 1732 | spectra_subsetting
⠸ | 1734 | spectra_subsetting
⠦ | 1737 | spectra_subsetting
⠇ | 1739 | spectra_subsetting
⠙ | 1742 | spectra_subsetting
⠼ | 1745 | spectra_subsetting
⠦ | 1747 | spectra_subsetting
⠇ | 1749 | spectra_subsetting
⠋ | 1751 | spectra_subsetting
⠹ | 1753 | spectra_subsetting
⠼ | 1755 | spectra_subsetting
⠧ | 1758 | spectra_subsetting
⠏ | 1760 | spectra_subsetting
⠙ | 1762 | spectra_subsetting
⠸ | 1764 | spectra_subsetting
⠴ | 1766 | spectra_subsetting
⠧ | 1768 | spectra_subsetting
⠏ | 1770 | spectra_subsetting
⠙ | 1772 | spectra_subsetting
⠸ | 1774 | spectra_subsetting
⠴ | 1776 | spectra_subsetting
⠧ | 1778 | spectra_subsetting
⠏ | 1780 | spectra_subsetting
⠙ | 1782 | spectra_subsetting
⠸ | 1784 | spectra_subsetting
⠴ | 1786 | spectra_subsetting
⠧ | 1788 | spectra_subsetting
⠏ | 1790 | spectra_subsetting
⠙ | 1792 | spectra_subsetting
⠸ | 1794 | spectra_subsetting
⠴ | 1796 | spectra_subsetting
⠧ | 1798 | spectra_subsetting
⠏ | 1800 | spectra_subsetting
⠙ | 1802 | spectra_subsetting
⠸ | 1804 | spectra_subsetting
⠴ | 1806 | spectra_subsetting
⠧ | 1808 | spectra_subsetting
⠏ | 1810 | spectra_subsetting
⠙ | 1812 | spectra_subsetting
⠸ | 1814 | spectra_subsetting
⠴ | 1816 | spectra_subsetting
⠧ | 1818 | spectra_subsetting
⠏ | 1820 | spectra_subsetting
⠙ | 1822 | spectra_subsetting
⠸ | 1824 | spectra_subsetting
⠴ | 1826 | spectra_subsetting
⠧ | 1828 | spectra_subsetting
⠏ | 1830 | spectra_subsetting
⠙ | 1832 | spectra_subsetting
⠸ | 1834 | spectra_subsetting
⠴ | 1836 | spectra_subsetting
⠇ | 1839 | spectra_subsetting
⠋ | 1841 | spectra_subsetting
⠹ | 1843 | spectra_subsetting
⠼ | 1845 | spectra_subsetting
⠦ | 1847 | spectra_subsetting
⠇ | 1849 | spectra_subsetting
⠋ | 1851 | spectra_subsetting
⠹ | 1853 | spectra_subsetting
⠼ | 1855 | spectra_subsetting
⠦ | 1857 | spectra_subsetting
⠇ | 1859 | spectra_subsetting
⠋ | 1861 | spectra_subsetting
⠹ | 1863 | spectra_subsetting
⠼ | 1865 | spectra_subsetting
⠦ | 1867 | spectra_subsetting
⠇ | 1869 | spectra_subsetting
⠋ | 1871 | spectra_subsetting
⠹ | 1873 | spectra_subsetting
⠼ | 1875 | spectra_subsetting
⠦ | 1877 | spectra_subsetting
⠇ | 1879 | spectra_subsetting
⠙ | 1882 | spectra_subsetting
⠸ | 1884 | spectra_subsetting
⠴ | 1886 | spectra_subsetting
⠧ | 1888 | spectra_subsetting
⠏ | 1890 | spectra_subsetting
⠙ | 1892 | spectra_subsetting
⠸ | 1894 | spectra_subsetting
⠴ | 1896 | spectra_subsetting
⠧ | 1898 | spectra_subsetting
⠏ | 1900 | spectra_subsetting
⠙ | 1902 | spectra_subsetting
⠸ | 1904 | spectra_subsetting
⠴ | 1906 | spectra_subsetting
⠧ | 1908 | spectra_subsetting
⠏ | 1910 | spectra_subsetting
⠹ | 1913 | spectra_subsetting
⠼ | 1915 | spectra_subsetting
⠦ | 1917 | spectra_subsetting
⠇ | 1919 | spectra_subsetting
⠋ | 1921 | spectra_subsetting
⠹ | 1923 | spectra_subsetting
⠼ | 1925 | spectra_subsetting
⠦ | 1927 | spectra_subsetting
⠇ | 1929 | spectra_subsetting
⠋ | 1931 | spectra_subsetting
⠹ | 1933 | spectra_subsetting
⠼ | 1935 | spectra_subsetting
⠦ | 1937 | spectra_subsetting
⠇ | 1939 | spectra_subsetting
⠋ | 1941 | spectra_subsetting
⠹ | 1943 | spectra_subsetting
⠼ | 1945 | spectra_subsetting
⠦ | 1947 | spectra_subsetting
⠇ | 1949 | spectra_subsetting
⠋ | 1951 | spectra_subsetting
⠹ | 1953 | spectra_subsetting
⠼ | 1955 | spectra_subsetting
⠦ | 1957 | spectra_subsetting
⠇ | 1959 | spectra_subsetting
⠋ | 1961 | spectra_subsetting
⠹ | 1963 | spectra_subsetting
⠼ | 1965 | spectra_subsetting
⠦ | 1967 | spectra_subsetting
⠇ | 1969 | spectra_subsetting
⠙ | 1972 | spectra_subsetting
⠸ | 1974 | spectra_subsetting
⠴ | 1976 | spectra_subsetting
⠧ | 1978 | spectra_subsetting
⠏ | 1980 | spectra_subsetting
⠙ | 1982 | spectra_subsetting
⠸ | 1984 | spectra_subsetting
⠴ | 1986 | spectra_subsetting
⠧ | 1988 | spectra_subsetting
⠋ | 1991 | spectra_subsetting
⠹ | 1993 | spectra_subsetting
⠴ | 1996 | spectra_subsetting
⠇ | 1999 | spectra_subsetting
⠙ | 2002 | spectra_subsetting
⠼ | 2005 | spectra_subsetting
⠦ | 2007 | spectra_subsetting
⠏ | 2010 | spectra_subsetting
⠙ | 2012 | spectra_subsetting
⠸ | 2014 | spectra_subsetting
⠴ | 2016 | spectra_subsetting
⠇ | 2019 | spectra_subsetting
⠙ | 2022 | spectra_subsetting
⠸ | 2024 | spectra_subsetting
⠴ | 2026 | spectra_subsetting
⠧ | 2028 | spectra_subsetting
⠏ | 2030 | spectra_subsetting
⠙ | 2032 | spectra_subsetting
⠸ | 2034 | spectra_subsetting
⠴ | 2036 | spectra_subsetting
⠧ | 2038 | spectra_subsetting
⠏ | 2040 | spectra_subsetting
⠙ | 2042 | spectra_subsetting
⠸ | 2044 | spectra_subsetting
⠦ | 2047 | spectra_subsetting
⠇ | 2049 | spectra_subsetting
⠋ | 2051 | spectra_subsetting
⠹ | 2053 | spectra_subsetting
⠼ | 2055 | spectra_subsetting
⠦ | 2057 | spectra_subsetting
⠇ | 2059 | spectra_subsetting
⠋ | 2061 | spectra_subsetting
⠹ | 2063 | spectra_subsetting
⠼ | 2065 | spectra_subsetting
⠦ | 2067 | spectra_subsetting
⠇ | 2069 | spectra_subsetting
⠋ | 2071 | spectra_subsetting
⠹ | 2073 | spectra_subsetting
⠼ | 2075 | spectra_subsetting
⠦ | 2077 | spectra_subsetting
⠇ | 2079 | spectra_subsetting
⠋ | 2081 | spectra_subsetting
⠹ | 2083 | spectra_subsetting
⠼ | 2085 | spectra_subsetting
⠦ | 2087 | spectra_subsetting
⠇ | 2089 | spectra_subsetting
⠋ | 2091 | spectra_subsetting
⠹ | 2093 | spectra_subsetting
⠼ | 2095 | spectra_subsetting
⠦ | 2097 | spectra_subsetting
⠇ | 2099 | spectra_subsetting
⠙ | 2102 | spectra_subsetting
⠼ | 2105 | spectra_subsetting
⠧ | 2108 | spectra_subsetting
⠏ | 2110 | spectra_subsetting
⠹ | 2113 | spectra_subsetting
⠴ | 2116 | spectra_subsetting
⠇ | 2119 | spectra_subsetting
⠋ | 2121 | spectra_subsetting
⠸ | 2124 | spectra_subsetting
⠴ | 2126 | spectra_subsetting
⠧ | 2128 | spectra_subsetting
⠏ | 2130 | spectra_subsetting
⠙ | 2132 | spectra_subsetting
⠸ | 2134 | spectra_subsetting
⠴ | 2136 | spectra_subsetting
⠧ | 2138 | spectra_subsetting
⠏ | 2140 | spectra_subsetting
⠙ | 2142 | spectra_subsetting
⠼ | 2145 | spectra_subsetting
⠧ | 2148 | spectra_subsetting
⠏ | 2150 | spectra_subsetting
⠙ | 2152 | spectra_subsetting
⠼ | 2155 | spectra_subsetting
⠦ | 2157 | spectra_subsetting
⠇ | 2159 | spectra_subsetting
⠙ | 2162 | spectra_subsetting
⠸ | 2164 | spectra_subsetting
⠴ | 2166 | spectra_subsetting
⠧ | 2168 | spectra_subsetting
⠏ | 2170 | spectra_subsetting
⠙ | 2172 | spectra_subsetting
⠸ | 2174 | spectra_subsetting
⠴ | 2176 | spectra_subsetting
⠧ | 2178 | spectra_subsetting
⠏ | 2180 | spectra_subsetting
⠙ | 2182 | spectra_subsetting
⠸ | 2184 | spectra_subsetting
⠦ | 2187 | spectra_subsetting
⠇ | 2189 | spectra_subsetting
⠋ | 2191 | spectra_subsetting
⠹ | 2193 | spectra_subsetting
⠼ | 2195 | spectra_subsetting
⠦ | 2197 | spectra_subsetting
⠏ | 2200 | spectra_subsetting
⠹ | 2203 | spectra_subsetting
⠼ | 2205 | spectra_subsetting
⠧ | 2208 | spectra_subsetting
⠋ | 2211 | spectra_subsetting
⠸ | 2214 | spectra_subsetting
⠦ | 2217 | spectra_subsetting
⠏ | 2220 | spectra_subsetting
⠙ | 2222 | spectra_subsetting
⠸ | 2224 | spectra_subsetting
⠴ | 2226 | spectra_subsetting
⠧ | 2228 | spectra_subsetting
⠏ | 2230 | spectra_subsetting
⠙ | 2232 | spectra_subsetting
⠸ | 2234 | spectra_subsetting
⠴ | 2236 | spectra_subsetting
⠧ | 2238 | spectra_subsetting
⠏ | 2240 | spectra_subsetting
⠙ | 2242 | spectra_subsetting
⠼ | 2245 | spectra_subsetting
⠦ | 2247 | spectra_subsetting
⠇ | 2249 | spectra_subsetting
⠋ | 2251 | spectra_subsetting
⠹ | 2253 | spectra_subsetting
⠴ | 2256 | spectra_subsetting
⠧ | 2258 | spectra_subsetting
⠏ | 2260 | spectra_subsetting
⠙ | 2262 | spectra_subsetting
⠼ | 2265 | spectra_subsetting
⠦ | 2267 | spectra_subsetting
⠇ | 2269 | spectra_subsetting
⠙ | 2272 | spectra_subsetting
⠸ | 2274 | spectra_subsetting
⠦ | 2277 | spectra_subsetting
⠇ | 2279 | spectra_subsetting
⠋ | 2281 | spectra_subsetting
⠹ | 2283 | spectra_subsetting
⠴ | 2286 | spectra_subsetting
⠇ | 2289 | spectra_subsetting
⠋ | 2291 | spectra_subsetting
⠹ | 2293 | spectra_subsetting
⠴ | 2296 | spectra_subsetting
⠇ | 2299 | spectra_subsetting
⠹ | 2303 | spectra_subsetting
⠋ | 2311 | spectra_subsetting
⠧ | 2318 | spectra_subsetting
⠴ | 2326 | spectra_subsetting
⠙ | 2332 | spectra_subsetting
⠸ | 2334 | spectra_subsetting
✔ | 2342 | spectra_subsetting [49.2s]
⠏ | 0 | spectra_variables
⠙ | 12 | spectra_variables
⠸ | 14 | spectra_variables
⠴ | 16 | spectra_variables
⠦ | 27 | spectra_variables
⠇ | 29 | spectra_variables
⠋ | 31 | spectra_variables
⠹ | 43 | spectra_variables
⠦ | 1 56 | spectra_variables
✔ | 1 62 | spectra_variables [17.3s]
══ Results ═════════════════════════════════════════════════════════════════════
Duration: 71.1 s
── Skipped tests (1) ───────────────────────────────────────────────────────────
• empty test (1): 'test_spectra_variables.R:262:1'
[ FAIL 0 | WARN 0 | SKIP 1 | PASS 2408 ]
>
> proc.time()
user system elapsed
93.139 12.433 108.429
MsBackendRawFileReader.Rcheck/MsBackendRawFileReader-Ex.timings
| name | user | system | elapsed | |
| MsBackendRawFileReader-class | 3.547 | 1.061 | 5.010 | |
| MsBackendRawFileReader | 7.798 | 2.863 | 11.201 | |
| hidden_aliases | 2.575 | 0.976 | 3.761 | |
| ioBenchmark | 28.391 | 11.053 | 16.036 | |