Back to Multiple platform build/check report for BioC 3.22:   simplified   long
ABCDEFGHIJKL[M]NOPQRSTUVWXYZ

This page was generated on 2025-11-17 11:58 -0500 (Mon, 17 Nov 2025).

HostnameOSArch (*)R versionInstalled pkgs
nebbiolo2Linux (Ubuntu 24.04.3 LTS)x86_644.5.1 Patched (2025-08-23 r88802) -- "Great Square Root" 4903
taishanLinux (openEuler 24.03 LTS)aarch644.5.0 (2025-04-11) -- "How About a Twenty-Six" 4668
Click on any hostname to see more info about the system (e.g. compilers)      (*) as reported by 'uname -p', except on Windows and Mac OS X

Package 1378/2361HostnameOS / ArchINSTALLBUILDCHECKBUILD BIN
MsBackendRawFileReader 1.16.0  (landing page)
Christian Panse
Snapshot Date: 2025-11-16 13:45 -0500 (Sun, 16 Nov 2025)
git_url: https://git.bioconductor.org/packages/MsBackendRawFileReader
git_branch: RELEASE_3_22
git_last_commit: 53064fe
git_last_commit_date: 2025-10-29 11:12:57 -0500 (Wed, 29 Oct 2025)
nebbiolo2Linux (Ubuntu 24.04.3 LTS) / x86_64  OK    OK    OK  UNNEEDED, same version is already published
taishanLinux (openEuler 24.03 LTS) / aarch64  OK    ERROR  skipped


CHECK results for MsBackendRawFileReader on nebbiolo2

To the developers/maintainers of the MsBackendRawFileReader package:
- Allow up to 24 hours (and sometimes 48 hours) for your latest push to git@git.bioconductor.org:packages/MsBackendRawFileReader.git to reflect on this report. See Troubleshooting Build Report for more information.
- Use the following Renviron settings to reproduce errors and warnings.
- If 'R CMD check' started to fail recently on the Linux builder(s) over a missing dependency, add the missing dependency to 'Suggests:' in your DESCRIPTION file. See Renviron.bioc for more information.

raw results


Summary

Package: MsBackendRawFileReader
Version: 1.16.0
Command: /home/biocbuild/bbs-3.22-bioc/R/bin/R CMD check --install=check:MsBackendRawFileReader.install-out.txt --library=/home/biocbuild/bbs-3.22-bioc/R/site-library --timings MsBackendRawFileReader_1.16.0.tar.gz
StartedAt: 2025-11-17 01:58:18 -0500 (Mon, 17 Nov 2025)
EndedAt: 2025-11-17 02:03:03 -0500 (Mon, 17 Nov 2025)
EllapsedTime: 285.2 seconds
RetCode: 0
Status:   OK  
CheckDir: MsBackendRawFileReader.Rcheck
Warnings: 0

Command output

##############################################################################
##############################################################################
###
### Running command:
###
###   /home/biocbuild/bbs-3.22-bioc/R/bin/R CMD check --install=check:MsBackendRawFileReader.install-out.txt --library=/home/biocbuild/bbs-3.22-bioc/R/site-library --timings MsBackendRawFileReader_1.16.0.tar.gz
###
##############################################################################
##############################################################################


* using log directory ‘/home/biocbuild/bbs-3.22-bioc/meat/MsBackendRawFileReader.Rcheck’
* using R version 4.5.1 Patched (2025-08-23 r88802)
* using platform: x86_64-pc-linux-gnu
* R was compiled by
    gcc (Ubuntu 13.3.0-6ubuntu2~24.04) 13.3.0
    GNU Fortran (Ubuntu 13.3.0-6ubuntu2~24.04) 13.3.0
* running under: Ubuntu 24.04.3 LTS
* using session charset: UTF-8
* checking for file ‘MsBackendRawFileReader/DESCRIPTION’ ... OK
* checking extension type ... Package
* this is package ‘MsBackendRawFileReader’ version ‘1.16.0’
* package encoding: UTF-8
* checking package namespace information ... OK
* checking package dependencies ... OK
* checking if this is a source package ... OK
* checking if there is a namespace ... OK
* checking for hidden files and directories ... OK
* checking for portable file names ... OK
* checking for sufficient/correct file permissions ... OK
* checking whether package ‘MsBackendRawFileReader’ can be installed ... OK
* checking installed package size ... OK
* checking package directory ... OK
* checking ‘build’ directory ... OK
* checking DESCRIPTION meta-information ... OK
* checking top-level files ... OK
* checking for left-over files ... OK
* checking index information ... OK
* checking package subdirectories ... OK
* checking code files for non-ASCII characters ... OK
* checking R files for syntax errors ... OK
* checking whether the package can be loaded ... OK
* checking whether the package can be loaded with stated dependencies ... OK
* checking whether the package can be unloaded cleanly ... OK
* checking whether the namespace can be loaded with stated dependencies ... OK
* checking whether the namespace can be unloaded cleanly ... OK
* checking loading without being on the library search path ... OK
* checking whether startup messages can be suppressed ... OK
* checking dependencies in R code ... OK
* checking S3 generic/method consistency ... OK
* checking replacement functions ... OK
* checking foreign function calls ... OK
* checking R code for possible problems ... OK
* checking Rd files ... OK
* checking Rd metadata ... OK
* checking Rd cross-references ... OK
* checking for missing documentation entries ... OK
* checking for code/documentation mismatches ... OK
* checking Rd \usage sections ... OK
* checking Rd contents ... OK
* checking for unstated dependencies in examples ... OK
* checking files in ‘vignettes’ ... OK
* checking examples ... OK
Examples with CPU (user + system) or elapsed time > 5s
                         user system elapsed
ioBenchmark            31.203  5.945  11.452
MsBackendRawFileReader  6.403  2.064   9.042
* checking for unstated dependencies in ‘tests’ ... OK
* checking tests ...
  Running ‘testthat.R’
 OK
* checking for unstated dependencies in vignettes ... OK
* checking package vignettes ... OK
* checking re-building of vignette outputs ... OK
* checking PDF version of manual ... OK
* DONE

Status: OK


Installation output

MsBackendRawFileReader.Rcheck/00install.out

##############################################################################
##############################################################################
###
### Running command:
###
###   /home/biocbuild/bbs-3.22-bioc/R/bin/R CMD INSTALL MsBackendRawFileReader
###
##############################################################################
##############################################################################


* installing to library ‘/home/biocbuild/bbs-3.22-bioc/R/site-library’
* installing *source* package ‘MsBackendRawFileReader’ ...
** this is package ‘MsBackendRawFileReader’ version ‘1.16.0’
** using staged installation
** R
** inst
** byte-compile and prepare package for lazy loading
** help
*** installing help indices
** building package indices
** installing vignettes
** testing if installed package can be loaded from temporary location
** testing if installed package can be loaded from final location
** testing if installed package keeps a record of temporary installation path
* DONE (MsBackendRawFileReader)

Tests output

MsBackendRawFileReader.Rcheck/tests/testthat.Rout


R version 4.5.1 Patched (2025-08-23 r88802) -- "Great Square Root"
Copyright (C) 2025 The R Foundation for Statistical Computing
Platform: x86_64-pc-linux-gnu

R is free software and comes with ABSOLUTELY NO WARRANTY.
You are welcome to redistribute it under certain conditions.
Type 'license()' or 'licence()' for distribution details.

R is a collaborative project with many contributors.
Type 'contributors()' for more information and
'citation()' on how to cite R or R packages in publications.

Type 'demo()' for some demos, 'help()' for on-line help, or
'help.start()' for an HTML browser interface to help.
Type 'q()' to quit R.

> library("testthat")
> library("MsBackendRawFileReader")
Loading required package: Spectra
Loading required package: S4Vectors
Loading required package: stats4
Loading required package: BiocGenerics
Loading required package: generics

Attaching package: 'generics'

The following objects are masked from 'package:base':

    as.difftime, as.factor, as.ordered, intersect, is.element, setdiff,
    setequal, union


Attaching package: 'BiocGenerics'

The following objects are masked from 'package:stats':

    IQR, mad, sd, var, xtabs

The following objects are masked from 'package:base':

    Filter, Find, Map, Position, Reduce, anyDuplicated, aperm, append,
    as.data.frame, basename, cbind, colnames, dirname, do.call,
    duplicated, eval, evalq, get, grep, grepl, is.unsorted, lapply,
    mapply, match, mget, order, paste, pmax, pmax.int, pmin, pmin.int,
    rank, rbind, rownames, sapply, saveRDS, table, tapply, unique,
    unsplit, which.max, which.min


Attaching package: 'S4Vectors'

The following object is masked from 'package:utils':

    findMatches

The following objects are masked from 'package:base':

    I, expand.grid, unname

Loading required package: BiocParallel
> library("Spectra")
> 
> 
> sample_raw_file <- file.path(system.file(package = "rawrr"),
+                                 'extdata', 'sample.raw')
> 
> sample_mzXML_file <- file.path(path.package(package = 'MsBackendRawFileReader'),
+                                 'extdata', 'sample.mzXML')
> 
> 
> sample_raw <-  backendInitialize(MsBackendRawFileReader::MsBackendRawFileReader(), files = sample_raw_file)
> 
> 
> #sample_mzr <-  backendInitialize(MsBackendMzR(), files = sample_mzXML_file)
> 
> 
> mgf_file <- file.path(system.file(package = "MsBackendRawFileReader"),
+                              'extdata', '3159619b11ed_4590_9594.mgf')
> 
> 
> rv <- lapply(1:2, function(x){
+   file.copy(from = sample_raw_file, to = tempfile(fileext='.raw'))})
> 
> 
> register(SnowParam(workers = 1, type = "SOCK") , default = TRUE); 
> sample_raw_2 <- backendInitialize(MsBackendRawFileReader(),
+     files = file.path(tempdir(),
+          list.files(path = tempdir(), pattern = 'raw$')))
> 
> 
> test_check("MsBackendRawFileReader")
[ FAIL 0 | WARN 1 | SKIP 2 | PASS 21 ]

══ Skipped tests (2) ═══════════════════════════════════════════════════════════
• isFALSE(file.exists(sample_mzXML_file)) is TRUE (1):
  'test_MsBackendMzR_MsBackendRawFileReader.R:1:1'
• isFALSE(require(MsBackendRawMgf)) is TRUE (1): 'test_top_n_mgf.R:1:1'

[ FAIL 0 | WARN 1 | SKIP 2 | PASS 21 ]
> 
> 
> be <- Spectra::backendInitialize(MsBackendRawFileReader::MsBackendRawFileReader(),
+                                  files = c(sample_raw_file))
> 
> ## Run the MsBackend spectra variable test suite
> 
> test_suite <- system.file("test_backends", "test_MsBackend",
+                           package = "Spectra")
> 
> #res <- test_file(paste0(test_suite, "/test_spectra_variables.R"),
> #                 reporter = check_reporter(), stop_on_failure = TRUE)
> 
> 
> ## Run the whole suite.
> res <- test_dir(test_suite, stop_on_failure = TRUE)
✔ | F W  S  OK | Context

⠏ |          0 | peaks_variables                                                
⠙ |          2 | peaks_variables                                                
⠸ |          4 | peaks_variables                                                
✔ |          4 | peaks_variables [4.0s]

⠏ |          0 | spectra_subsetting                                             
⠋ |          1 | spectra_subsetting                                             
⠹ |         13 | spectra_subsetting                                             
⠧ |         28 | spectra_subsetting                                             
⠏ |         40 | spectra_subsetting                                             
⠼ |         55 | spectra_subsetting                                             
⠦ |         67 | spectra_subsetting                                             
⠇ |         79 | spectra_subsetting                                             
⠸ |         94 | spectra_subsetting                                             
⠦ |        107 | spectra_subsetting                                             
⠋ |        121 | spectra_subsetting                                             
⠸ |        134 | spectra_subsetting                                             
⠴ |        146 | spectra_subsetting                                             
⠏ |        160 | spectra_subsetting                                             
⠙ |        172 | spectra_subsetting                                             
⠦ |        187 | spectra_subsetting                                             
⠇ |        199 | spectra_subsetting                                             
⠙ |        212 | spectra_subsetting                                             
⠴ |        226 | spectra_subsetting                                             
⠧ |        238 | spectra_subsetting                                             
⠹ |        253 | spectra_subsetting                                             
⠼ |        265 | spectra_subsetting                                             
⠦ |        277 | spectra_subsetting                                             
⠏ |        290 | spectra_subsetting                                             
⠋ |        301 | spectra_subsetting                                             
⠹ |        313 | spectra_subsetting                                             
⠼ |        325 | spectra_subsetting                                             
⠸ |        334 | spectra_subsetting                                             
⠴ |        346 | spectra_subsetting                                             
⠏ |        360 | spectra_subsetting                                             
⠏ |        370 | spectra_subsetting                                             
⠙ |        382 | spectra_subsetting                                             
⠸ |        394 | spectra_subsetting                                             
⠴ |        406 | spectra_subsetting                                             
⠇ |        419 | spectra_subsetting                                             
⠋ |        431 | spectra_subsetting                                             
⠼ |        445 | spectra_subsetting                                             
⠏ |        460 | spectra_subsetting                                             
⠙ |        472 | spectra_subsetting                                             
⠦ |        487 | spectra_subsetting                                             
⠇ |        499 | spectra_subsetting                                             
⠋ |        511 | spectra_subsetting                                             
⠸ |        524 | spectra_subsetting                                             
⠸ |        534 | spectra_subsetting                                             
⠴ |        546 | spectra_subsetting                                             
⠇ |        559 | spectra_subsetting                                             
⠋ |        571 | spectra_subsetting                                             
⠴ |        586 | spectra_subsetting                                             
⠧ |        598 | spectra_subsetting                                             
⠹ |        613 | spectra_subsetting                                             
⠧ |        628 | spectra_subsetting                                             
⠹ |        643 | spectra_subsetting                                             
⠼ |        655 | spectra_subsetting                                             
⠸ |        664 | spectra_subsetting                                             
⠦ |        677 | spectra_subsetting                                             
⠏ |        690 | spectra_subsetting                                             
⠏ |        700 | spectra_subsetting                                             
⠼ |        715 | spectra_subsetting                                             
⠏ |        730 | spectra_subsetting                                             
⠼ |        745 | spectra_subsetting                                             
⠏ |        760 | spectra_subsetting                                             
⠼ |        775 | spectra_subsetting                                             
⠏ |        790 | spectra_subsetting                                             
⠙ |        802 | spectra_subsetting                                             
⠴ |        816 | spectra_subsetting                                             
⠦ |        827 | spectra_subsetting                                             
⠇ |        839 | spectra_subsetting                                             
⠹ |        853 | spectra_subsetting                                             
⠼ |        865 | spectra_subsetting                                             
⠏ |        880 | spectra_subsetting                                             
⠹ |        893 | spectra_subsetting                                             
⠦ |        907 | spectra_subsetting                                             
⠙ |        922 | spectra_subsetting                                             
⠸ |        934 | spectra_subsetting                                             
⠧ |        948 | spectra_subsetting                                             
⠧ |        958 | spectra_subsetting                                             
⠏ |        970 | spectra_subsetting                                             
⠼ |        985 | spectra_subsetting                                             
⠦ |        997 | spectra_subsetting                                             
⠋ |        1011 | spectra_subsetting                                            
⠙ |        1022 | spectra_subsetting                                            
⠹ |        1033 | spectra_subsetting                                            
⠧ |        1048 | spectra_subsetting                                            
⠏ |        1060 | spectra_subsetting                                            
⠙ |        1072 | spectra_subsetting                                            
⠙ |        1082 | spectra_subsetting                                            
⠹ |        1093 | spectra_subsetting                                            
⠼ |        1105 | spectra_subsetting                                            
⠧ |        1118 | spectra_subsetting                                            
⠇ |        1129 | spectra_subsetting                                            
⠸ |        1144 | spectra_subsetting                                            
⠴ |        1156 | spectra_subsetting                                            
⠧ |        1168 | spectra_subsetting                                            
⠹ |        1183 | spectra_subsetting                                            
⠼ |        1195 | spectra_subsetting                                            
⠏ |        1210 | spectra_subsetting                                            
⠙ |        1222 | spectra_subsetting                                            
⠼ |        1235 | spectra_subsetting                                            
⠇ |        1249 | spectra_subsetting                                            
⠋ |        1261 | spectra_subsetting                                            
⠴ |        1276 | spectra_subsetting                                            
⠧ |        1288 | spectra_subsetting                                            
⠏ |        1300 | spectra_subsetting                                            
⠸ |        1314 | spectra_subsetting                                            
⠸ |        1324 | spectra_subsetting                                            
⠦ |        1337 | spectra_subsetting                                            
⠋ |        1351 | spectra_subsetting                                            
⠹ |        1363 | spectra_subsetting                                            
⠧ |        1378 | spectra_subsetting                                            
⠏ |        1390 | spectra_subsetting                                            
⠼ |        1405 | spectra_subsetting                                            
⠧ |        1418 | spectra_subsetting                                            
⠙ |        1432 | spectra_subsetting                                            
⠦ |        1447 | spectra_subsetting                                            
⠏ |        1460 | spectra_subsetting                                            
⠸ |        1474 | spectra_subsetting                                            
⠧ |        1488 | spectra_subsetting                                            
⠋ |        1501 | spectra_subsetting                                            
⠼ |        1515 | spectra_subsetting                                            
⠦ |        1527 | spectra_subsetting                                            
⠏ |        1540 | spectra_subsetting                                            
⠙ |        1552 | spectra_subsetting                                            
⠴ |        1566 | spectra_subsetting                                            
⠇ |        1579 | spectra_subsetting                                            
⠋ |        1591 | spectra_subsetting                                            
⠴ |        1606 | spectra_subsetting                                            
⠧ |        1618 | spectra_subsetting                                            
⠏ |        1630 | spectra_subsetting                                            
⠙ |        1642 | spectra_subsetting                                            
⠸ |        1654 | spectra_subsetting                                            
⠇ |        1669 | spectra_subsetting                                            
⠙ |        1682 | spectra_subsetting                                            
⠴ |        1696 | spectra_subsetting                                            
⠏ |        1710 | spectra_subsetting                                            
⠋ |        1721 | spectra_subsetting                                            
⠦ |        1727 | spectra_subsetting                                            
⠇ |        1729 | spectra_subsetting                                            
⠋ |        1731 | spectra_subsetting                                            
⠹ |        1733 | spectra_subsetting                                            
⠼ |        1735 | spectra_subsetting                                            
⠦ |        1737 | spectra_subsetting                                            
⠇ |        1739 | spectra_subsetting                                            
⠋ |        1741 | spectra_subsetting                                            
⠹ |        1743 | spectra_subsetting                                            
⠼ |        1745 | spectra_subsetting                                            
⠦ |        1747 | spectra_subsetting                                            
⠇ |        1749 | spectra_subsetting                                            
⠋ |        1751 | spectra_subsetting                                            
⠹ |        1753 | spectra_subsetting                                            
⠼ |        1755 | spectra_subsetting                                            
⠦ |        1757 | spectra_subsetting                                            
⠇ |        1759 | spectra_subsetting                                            
⠋ |        1761 | spectra_subsetting                                            
⠹ |        1763 | spectra_subsetting                                            
⠼ |        1765 | spectra_subsetting                                            
⠦ |        1767 | spectra_subsetting                                            
⠇ |        1769 | spectra_subsetting                                            
⠋ |        1771 | spectra_subsetting                                            
⠹ |        1773 | spectra_subsetting                                            
⠼ |        1775 | spectra_subsetting                                            
⠦ |        1777 | spectra_subsetting                                            
⠇ |        1779 | spectra_subsetting                                            
⠋ |        1781 | spectra_subsetting                                            
⠹ |        1783 | spectra_subsetting                                            
⠼ |        1785 | spectra_subsetting                                            
⠦ |        1787 | spectra_subsetting                                            
⠇ |        1789 | spectra_subsetting                                            
⠋ |        1791 | spectra_subsetting                                            
⠹ |        1793 | spectra_subsetting                                            
⠼ |        1795 | spectra_subsetting                                            
⠦ |        1797 | spectra_subsetting                                            
⠇ |        1799 | spectra_subsetting                                            
⠋ |        1801 | spectra_subsetting                                            
⠹ |        1803 | spectra_subsetting                                            
⠼ |        1805 | spectra_subsetting                                            
⠦ |        1807 | spectra_subsetting                                            
⠇ |        1809 | spectra_subsetting                                            
⠋ |        1811 | spectra_subsetting                                            
⠹ |        1813 | spectra_subsetting                                            
⠼ |        1815 | spectra_subsetting                                            
⠦ |        1817 | spectra_subsetting                                            
⠇ |        1819 | spectra_subsetting                                            
⠋ |        1821 | spectra_subsetting                                            
⠹ |        1823 | spectra_subsetting                                            
⠼ |        1825 | spectra_subsetting                                            
⠦ |        1827 | spectra_subsetting                                            
⠇ |        1829 | spectra_subsetting                                            
⠋ |        1831 | spectra_subsetting                                            
⠹ |        1833 | spectra_subsetting                                            
⠼ |        1835 | spectra_subsetting                                            
⠦ |        1837 | spectra_subsetting                                            
⠇ |        1839 | spectra_subsetting                                            
⠋ |        1841 | spectra_subsetting                                            
⠹ |        1843 | spectra_subsetting                                            
⠼ |        1845 | spectra_subsetting                                            
⠦ |        1847 | spectra_subsetting                                            
⠇ |        1849 | spectra_subsetting                                            
⠋ |        1851 | spectra_subsetting                                            
⠙ |        1852 | spectra_subsetting                                            
⠼ |        1855 | spectra_subsetting                                            
⠦ |        1857 | spectra_subsetting                                            
⠇ |        1859 | spectra_subsetting                                            
⠋ |        1861 | spectra_subsetting                                            
⠹ |        1863 | spectra_subsetting                                            
⠼ |        1865 | spectra_subsetting                                            
⠧ |        1868 | spectra_subsetting                                            
⠏ |        1870 | spectra_subsetting                                            
⠙ |        1872 | spectra_subsetting                                            
⠸ |        1874 | spectra_subsetting                                            
⠦ |        1877 | spectra_subsetting                                            
⠇ |        1879 | spectra_subsetting                                            
⠋ |        1881 | spectra_subsetting                                            
⠸ |        1884 | spectra_subsetting                                            
⠦ |        1887 | spectra_subsetting                                            
⠇ |        1889 | spectra_subsetting                                            
⠙ |        1892 | spectra_subsetting                                            
⠸ |        1894 | spectra_subsetting                                            
⠦ |        1897 | spectra_subsetting                                            
⠇ |        1899 | spectra_subsetting                                            
⠋ |        1901 | spectra_subsetting                                            
⠹ |        1903 | spectra_subsetting                                            
⠼ |        1905 | spectra_subsetting                                            
⠦ |        1907 | spectra_subsetting                                            
⠇ |        1909 | spectra_subsetting                                            
⠋ |        1911 | spectra_subsetting                                            
⠸ |        1914 | spectra_subsetting                                            
⠴ |        1916 | spectra_subsetting                                            
⠧ |        1918 | spectra_subsetting                                            
⠏ |        1920 | spectra_subsetting                                            
⠙ |        1922 | spectra_subsetting                                            
⠸ |        1924 | spectra_subsetting                                            
⠦ |        1927 | spectra_subsetting                                            
⠇ |        1929 | spectra_subsetting                                            
⠙ |        1932 | spectra_subsetting                                            
⠸ |        1934 | spectra_subsetting                                            
⠴ |        1936 | spectra_subsetting                                            
⠧ |        1938 | spectra_subsetting                                            
⠏ |        1940 | spectra_subsetting                                            
⠙ |        1942 | spectra_subsetting                                            
⠸ |        1944 | spectra_subsetting                                            
⠴ |        1946 | spectra_subsetting                                            
⠧ |        1948 | spectra_subsetting                                            
⠋ |        1951 | spectra_subsetting                                            
⠸ |        1954 | spectra_subsetting                                            
⠴ |        1956 | spectra_subsetting                                            
⠇ |        1959 | spectra_subsetting                                            
⠋ |        1961 | spectra_subsetting                                            
⠸ |        1964 | spectra_subsetting                                            
⠴ |        1966 | spectra_subsetting                                            
⠧ |        1968 | spectra_subsetting                                            
⠏ |        1970 | spectra_subsetting                                            
⠹ |        1973 | spectra_subsetting                                            
⠼ |        1975 | spectra_subsetting                                            
⠦ |        1977 | spectra_subsetting                                            
⠇ |        1979 | spectra_subsetting                                            
⠙ |        1982 | spectra_subsetting                                            
⠸ |        1984 | spectra_subsetting                                            
⠦ |        1987 | spectra_subsetting                                            
⠇ |        1989 | spectra_subsetting                                            
⠋ |        1991 | spectra_subsetting                                            
⠹ |        1993 | spectra_subsetting                                            
⠼ |        1995 | spectra_subsetting                                            
⠦ |        1997 | spectra_subsetting                                            
⠇ |        1999 | spectra_subsetting                                            
⠋ |        2001 | spectra_subsetting                                            
⠸ |        2004 | spectra_subsetting                                            
⠴ |        2006 | spectra_subsetting                                            
⠧ |        2008 | spectra_subsetting                                            
⠏ |        2010 | spectra_subsetting                                            
⠙ |        2012 | spectra_subsetting                                            
⠸ |        2014 | spectra_subsetting                                            
⠴ |        2016 | spectra_subsetting                                            
⠇ |        2019 | spectra_subsetting                                            
⠋ |        2021 | spectra_subsetting                                            
⠸ |        2024 | spectra_subsetting                                            
⠦ |        2027 | spectra_subsetting                                            
⠇ |        2029 | spectra_subsetting                                            
⠙ |        2032 | spectra_subsetting                                            
⠼ |        2035 | spectra_subsetting                                            
⠧ |        2038 | spectra_subsetting                                            
⠋ |        2041 | spectra_subsetting                                            
⠹ |        2043 | spectra_subsetting                                            
⠴ |        2046 | spectra_subsetting                                            
⠧ |        2048 | spectra_subsetting                                            
⠋ |        2051 | spectra_subsetting                                            
⠸ |        2054 | spectra_subsetting                                            
⠴ |        2056 | spectra_subsetting                                            
⠇ |        2059 | spectra_subsetting                                            
⠋ |        2061 | spectra_subsetting                                            
⠹ |        2063 | spectra_subsetting                                            
⠼ |        2065 | spectra_subsetting                                            
⠧ |        2068 | spectra_subsetting                                            
⠋ |        2071 | spectra_subsetting                                            
⠸ |        2074 | spectra_subsetting                                            
⠦ |        2077 | spectra_subsetting                                            
⠏ |        2080 | spectra_subsetting                                            
⠹ |        2083 | spectra_subsetting                                            
⠴ |        2086 | spectra_subsetting                                            
⠇ |        2089 | spectra_subsetting                                            
⠙ |        2092 | spectra_subsetting                                            
⠼ |        2095 | spectra_subsetting                                            
⠧ |        2098 | spectra_subsetting                                            
⠋ |        2101 | spectra_subsetting                                            
⠸ |        2104 | spectra_subsetting                                            
⠴ |        2106 | spectra_subsetting                                            
⠇ |        2109 | spectra_subsetting                                            
⠋ |        2111 | spectra_subsetting                                            
⠸ |        2114 | spectra_subsetting                                            
⠦ |        2117 | spectra_subsetting                                            
⠏ |        2120 | spectra_subsetting                                            
⠹ |        2123 | spectra_subsetting                                            
⠼ |        2125 | spectra_subsetting                                            
⠧ |        2128 | spectra_subsetting                                            
⠋ |        2131 | spectra_subsetting                                            
⠸ |        2134 | spectra_subsetting                                            
⠦ |        2137 | spectra_subsetting                                            
⠏ |        2140 | spectra_subsetting                                            
⠙ |        2142 | spectra_subsetting                                            
⠼ |        2145 | spectra_subsetting                                            
⠦ |        2147 | spectra_subsetting                                            
⠏ |        2150 | spectra_subsetting                                            
⠹ |        2153 | spectra_subsetting                                            
⠼ |        2155 | spectra_subsetting                                            
⠧ |        2158 | spectra_subsetting                                            
⠏ |        2160 | spectra_subsetting                                            
⠹ |        2163 | spectra_subsetting                                            
⠼ |        2165 | spectra_subsetting                                            
⠦ |        2167 | spectra_subsetting                                            
⠇ |        2169 | spectra_subsetting                                            
⠙ |        2172 | spectra_subsetting                                            
⠸ |        2174 | spectra_subsetting                                            
⠦ |        2177 | spectra_subsetting                                            
⠇ |        2179 | spectra_subsetting                                            
⠙ |        2182 | spectra_subsetting                                            
⠼ |        2185 | spectra_subsetting                                            
⠦ |        2187 | spectra_subsetting                                            
⠏ |        2190 | spectra_subsetting                                            
⠙ |        2192 | spectra_subsetting                                            
⠼ |        2195 | spectra_subsetting                                            
⠦ |        2197 | spectra_subsetting                                            
⠏ |        2200 | spectra_subsetting                                            
⠙ |        2202 | spectra_subsetting                                            
⠼ |        2205 | spectra_subsetting                                            
⠧ |        2208 | spectra_subsetting                                            
⠏ |        2210 | spectra_subsetting                                            
⠹ |        2213 | spectra_subsetting                                            
⠼ |        2215 | spectra_subsetting                                            
⠧ |        2218 | spectra_subsetting                                            
⠋ |        2221 | spectra_subsetting                                            
⠹ |        2223 | spectra_subsetting                                            
⠴ |        2226 | spectra_subsetting                                            
⠇ |        2229 | spectra_subsetting                                            
⠙ |        2232 | spectra_subsetting                                            
⠼ |        2235 | spectra_subsetting                                            
⠦ |        2237 | spectra_subsetting                                            
⠏ |        2240 | spectra_subsetting                                            
⠙ |        2242 | spectra_subsetting                                            
⠼ |        2245 | spectra_subsetting                                            
⠧ |        2248 | spectra_subsetting                                            
⠋ |        2251 | spectra_subsetting                                            
⠸ |        2254 | spectra_subsetting                                            
⠴ |        2256 | spectra_subsetting                                            
⠇ |        2259 | spectra_subsetting                                            
⠙ |        2262 | spectra_subsetting                                            
⠸ |        2264 | spectra_subsetting                                            
⠴ |        2266 | spectra_subsetting                                            
⠇ |        2269 | spectra_subsetting                                            
⠙ |        2272 | spectra_subsetting                                            
⠸ |        2274 | spectra_subsetting                                            
⠦ |        2277 | spectra_subsetting                                            
⠏ |        2280 | spectra_subsetting                                            
⠙ |        2282 | spectra_subsetting                                            
⠼ |        2285 | spectra_subsetting                                            
⠦ |        2287 | spectra_subsetting                                            
⠏ |        2290 | spectra_subsetting                                            
⠹ |        2293 | spectra_subsetting                                            
⠴ |        2296 | spectra_subsetting                                            
⠇ |        2299 | spectra_subsetting                                            
⠹ |        2303 | spectra_subsetting                                            
⠙ |        2312 | spectra_subsetting                                            
⠇ |        2319 | spectra_subsetting                                            
⠇ |        2329 | spectra_subsetting                                            
⠸ |        2334 | spectra_subsetting                                            
✔ |        2342 | spectra_subsetting [46.0s]

⠏ |          0 | spectra_variables                                              
⠙ |         12 | spectra_variables                                              
⠸ |         14 | spectra_variables                                              
⠴ |         16 | spectra_variables                                              
⠦ |         27 | spectra_variables                                              
⠇ |         29 | spectra_variables                                              
⠋ |         31 | spectra_variables                                              
⠹ |         43 | spectra_variables                                              
⠏ |      1  59 | spectra_variables                                              
✔ |      1  62 | spectra_variables [14.6s]

══ Results ═════════════════════════════════════════════════════════════════════
Duration: 64.7 s

── Skipped tests (1) ───────────────────────────────────────────────────────────
• empty test (1): 'test_spectra_variables.R:262:1'

[ FAIL 0 | WARN 0 | SKIP 1 | PASS 2408 ]
> 
> proc.time()
   user  system elapsed 
 86.854   8.322  97.528 

Example timings

MsBackendRawFileReader.Rcheck/MsBackendRawFileReader-Ex.timings

nameusersystemelapsed
MsBackendRawFileReader-class3.0830.7494.212
MsBackendRawFileReader6.4032.0649.042
hidden_aliases2.0590.6692.895
ioBenchmark31.203 5.94511.452