| Back to Multiple platform build/check report for BioC 3.22: simplified long |
|
This page was generated on 2025-11-14 11:58 -0500 (Fri, 14 Nov 2025).
| Hostname | OS | Arch (*) | R version | Installed pkgs |
|---|---|---|---|---|
| nebbiolo2 | Linux (Ubuntu 24.04.3 LTS) | x86_64 | 4.5.1 Patched (2025-08-23 r88802) -- "Great Square Root" | 4903 |
| taishan | Linux (openEuler 24.03 LTS) | aarch64 | 4.5.0 (2025-04-11) -- "How About a Twenty-Six" | 4668 |
| Click on any hostname to see more info about the system (e.g. compilers) (*) as reported by 'uname -p', except on Windows and Mac OS X | ||||
| Package 1064/2361 | Hostname | OS / Arch | INSTALL | BUILD | CHECK | BUILD BIN | ||||||||
| INSPEcT 1.40.0 (landing page) Stefano de Pretis
| nebbiolo2 | Linux (Ubuntu 24.04.3 LTS) / x86_64 | OK | OK | OK | |||||||||
| taishan | Linux (openEuler 24.03 LTS) / aarch64 | OK | OK | OK | ||||||||||
|
To the developers/maintainers of the INSPEcT package: - Allow up to 24 hours (and sometimes 48 hours) for your latest push to git@git.bioconductor.org:packages/INSPEcT.git to reflect on this report. See Troubleshooting Build Report for more information. - Use the following Renviron settings to reproduce errors and warnings. - If 'R CMD check' started to fail recently on the Linux builder(s) over a missing dependency, add the missing dependency to 'Suggests:' in your DESCRIPTION file. See Renviron.bioc for more information. - See Martin Grigorov's blog post for how to debug Linux ARM64 related issues on a x86_64 host. |
| Package: INSPEcT |
| Version: 1.40.0 |
| Command: /home/biocbuild/R/R/bin/R CMD check --install=check:INSPEcT.install-out.txt --library=/home/biocbuild/R/R/site-library --no-vignettes --timings INSPEcT_1.40.0.tar.gz |
| StartedAt: 2025-11-14 10:42:14 -0000 (Fri, 14 Nov 2025) |
| EndedAt: 2025-11-14 10:58:27 -0000 (Fri, 14 Nov 2025) |
| EllapsedTime: 972.2 seconds |
| RetCode: 0 |
| Status: OK |
| CheckDir: INSPEcT.Rcheck |
| Warnings: 0 |
##############################################################################
##############################################################################
###
### Running command:
###
### /home/biocbuild/R/R/bin/R CMD check --install=check:INSPEcT.install-out.txt --library=/home/biocbuild/R/R/site-library --no-vignettes --timings INSPEcT_1.40.0.tar.gz
###
##############################################################################
##############################################################################
* using log directory ‘/home/biocbuild/bbs-3.22-bioc/meat/INSPEcT.Rcheck’
* using R version 4.5.0 (2025-04-11)
* using platform: aarch64-unknown-linux-gnu
* R was compiled by
aarch64-unknown-linux-gnu-gcc (GCC) 14.2.0
GNU Fortran (GCC) 14.2.0
* running under: openEuler 24.03 (LTS)
* using session charset: UTF-8
* using option ‘--no-vignettes’
* checking for file ‘INSPEcT/DESCRIPTION’ ... OK
* checking extension type ... Package
* this is package ‘INSPEcT’ version ‘1.40.0’
* checking package namespace information ... OK
* checking package dependencies ... OK
* checking if this is a source package ... OK
* checking if there is a namespace ... OK
* checking for hidden files and directories ... OK
* checking for portable file names ... OK
* checking for sufficient/correct file permissions ... OK
* checking whether package ‘INSPEcT’ can be installed ... OK
* checking installed package size ... INFO
installed size is 7.1Mb
sub-directories of 1Mb or more:
R 1.8Mb
data 2.8Mb
* checking package directory ... OK
* checking ‘build’ directory ... OK
* checking DESCRIPTION meta-information ... OK
* checking top-level files ... OK
* checking for left-over files ... OK
* checking index information ... OK
* checking package subdirectories ... OK
* checking code files for non-ASCII characters ... OK
* checking R files for syntax errors ... OK
* checking whether the package can be loaded ... OK
* checking whether the package can be loaded with stated dependencies ... OK
* checking whether the package can be unloaded cleanly ... OK
* checking whether the namespace can be loaded with stated dependencies ... OK
* checking whether the namespace can be unloaded cleanly ... OK
* checking loading without being on the library search path ... OK
* checking dependencies in R code ... OK
* checking S3 generic/method consistency ... OK
* checking replacement functions ... OK
* checking foreign function calls ... OK
* checking R code for possible problems ... NOTE
output_pars: no visible global function definition for ‘plot.new’
plotSingleRNADynamic: no visible global function definition for ‘lines’
Undefined global functions or variables:
lines plot.new
Consider adding
importFrom("graphics", "lines", "plot.new")
to your NAMESPACE file.
* checking Rd files ... OK
* checking Rd metadata ... OK
* checking Rd cross-references ... NOTE
Found the following Rd file(s) with Rd \link{} targets missing package
anchors:
INSPEcT-class.Rd: featureNames
Please provide package anchors for all Rd \link{} targets not in the
package itself and the base packages.
* checking for missing documentation entries ... OK
* checking for code/documentation mismatches ... OK
* checking Rd \usage sections ... OK
* checking Rd contents ... OK
* checking for unstated dependencies in examples ... OK
* checking contents of ‘data’ directory ... OK
* checking data for non-ASCII characters ... OK
* checking data for ASCII and uncompressed saves ... OK
* checking files in ‘vignettes’ ... OK
* checking examples ... OK
Examples with CPU (user + system) or elapsed time > 5s
user system elapsed
makeSimDataset 114.371 0.479 115.158
quantifyExpressionsFromBAMs 44.270 0.255 45.528
makeSimModel 39.883 0.100 40.098
rocCurve 39.693 0.168 39.970
INSPEcT_diffsteady-class 39.115 0.734 39.955
rocThresholds 37.324 0.080 37.506
plotMA 36.103 0.148 36.347
compareSteady 34.915 0.387 35.388
modelRates 23.296 0.119 23.481
quantifyExpressionsFromTrCounts 22.311 0.203 22.577
newINSPEcT 21.754 0.032 21.845
processingDelay 19.252 0.032 19.339
makeOscillatorySimModel 8.999 0.095 9.123
compareSteadyNoNascent 7.651 0.020 7.693
* checking for unstated dependencies in vignettes ... OK
* checking package vignettes ... OK
* checking running R code from vignettes ... SKIPPED
* checking re-building of vignette outputs ... SKIPPED
* checking PDF version of manual ... OK
* DONE
Status: 2 NOTEs
See
‘/home/biocbuild/bbs-3.22-bioc/meat/INSPEcT.Rcheck/00check.log’
for details.
INSPEcT.Rcheck/00install.out
############################################################################## ############################################################################## ### ### Running command: ### ### /home/biocbuild/R/R/bin/R CMD INSTALL INSPEcT ### ############################################################################## ############################################################################## * installing to library ‘/home/biocbuild/R/R-4.5.0/site-library’ * installing *source* package ‘INSPEcT’ ... ** this is package ‘INSPEcT’ version ‘1.40.0’ ** using staged installation ** R ** data ** inst ** byte-compile and prepare package for lazy loading ** help *** installing help indices ** building package indices ** installing vignettes ** testing if installed package can be loaded from temporary location ** testing if installed package can be loaded from final location ** testing if installed package keeps a record of temporary installation path * DONE (INSPEcT)
INSPEcT.Rcheck/INSPEcT-Ex.timings
| name | user | system | elapsed | |
| AIC-INSPEcT-method | 0.189 | 0.004 | 0.196 | |
| Extract | 0.443 | 0.004 | 0.448 | |
| INSPEcT_diffsteady-class | 39.115 | 0.734 | 39.955 | |
| calculateRatePvals | 0.243 | 0.012 | 0.256 | |
| chisqmodel | 0.193 | 0.000 | 0.193 | |
| chisqtest | 0.192 | 0.001 | 0.193 | |
| combine | 0.432 | 0.010 | 0.445 | |
| compareSteady | 34.915 | 0.387 | 35.388 | |
| compareSteadyNoNascent | 7.651 | 0.020 | 7.693 | |
| convergence | 0.192 | 0.000 | 0.193 | |
| geneClass | 0.254 | 0.000 | 0.255 | |
| inHeatmap | 0.235 | 0.004 | 0.239 | |
| inspectFromPCR | 4.946 | 0.020 | 4.982 | |
| labeledSF | 0.187 | 0.004 | 0.191 | |
| logLik | 0.187 | 0.004 | 0.191 | |
| makeModelRates | 0.254 | 0.000 | 0.254 | |
| makeOscillatorySimModel | 8.999 | 0.095 | 9.123 | |
| makeSimDataset | 114.371 | 0.479 | 115.158 | |
| makeSimModel | 39.883 | 0.100 | 40.098 | |
| modelRates | 23.296 | 0.119 | 23.481 | |
| modelRatesNF | 1.935 | 0.004 | 1.946 | |
| modelSelection | 0.191 | 0.000 | 0.192 | |
| modelingParams | 0.191 | 0.000 | 0.191 | |
| nGenes | 0.190 | 0.000 | 0.189 | |
| nTpts | 0.19 | 0.00 | 0.19 | |
| newINSPEcT | 21.754 | 0.032 | 21.845 | |
| plotGene | 0.245 | 0.008 | 0.254 | |
| plotMA | 36.103 | 0.148 | 36.347 | |
| processingDelay | 19.252 | 0.032 | 19.339 | |
| quantifyExpressionsFromBAMs | 44.270 | 0.255 | 45.528 | |
| quantifyExpressionsFromTrCounts | 22.311 | 0.203 | 22.577 | |
| ratePvals | 0.184 | 0.008 | 0.192 | |
| ratesFirstGuess | 0.19 | 0.00 | 0.19 | |
| ratesFirstGuessVar | 0.19 | 0.00 | 0.19 | |
| removeModel | 0.349 | 0.000 | 0.349 | |
| rocCurve | 39.693 | 0.168 | 39.970 | |
| rocThresholds | 37.324 | 0.080 | 37.506 | |
| split | 0.325 | 0.004 | 0.330 | |
| tpts | 0.188 | 0.000 | 0.188 | |
| viewConfidenceIntervals | 0.19 | 0.00 | 0.19 | |
| viewModelRates | 0.189 | 0.000 | 0.189 | |