| Back to Multiple platform build/check report for BioC 3.22: simplified long |
|
This page was generated on 2025-11-01 12:03 -0400 (Sat, 01 Nov 2025).
| Hostname | OS | Arch (*) | R version | Installed pkgs |
|---|---|---|---|---|
| nebbiolo2 | Linux (Ubuntu 24.04.3 LTS) | x86_64 | 4.5.1 Patched (2025-08-23 r88802) -- "Great Square Root" | 4901 |
| lconway | macOS 12.7.6 Monterey | x86_64 | 4.5.1 Patched (2025-09-10 r88807) -- "Great Square Root" | 4691 |
| kjohnson3 | macOS 13.7.7 Ventura | arm64 | 4.5.1 Patched (2025-09-10 r88807) -- "Great Square Root" | 4637 |
| Click on any hostname to see more info about the system (e.g. compilers) (*) as reported by 'uname -p', except on Windows and Mac OS X | ||||
| Package 632/2361 | Hostname | OS / Arch | INSTALL | BUILD | CHECK | BUILD BIN | ||||||||
| DspikeIn 1.0.0 (landing page) Mitra Ghotbi
| nebbiolo2 | Linux (Ubuntu 24.04.3 LTS) / x86_64 | OK | OK | OK | |||||||||
| lconway | macOS 12.7.6 Monterey / x86_64 | OK | OK | OK | OK | |||||||||
| kjohnson3 | macOS 13.7.7 Ventura / arm64 | OK | OK | OK | OK | |||||||||
|
To the developers/maintainers of the DspikeIn package: - Allow up to 24 hours (and sometimes 48 hours) for your latest push to git@git.bioconductor.org:packages/DspikeIn.git to reflect on this report. See Troubleshooting Build Report for more information. - Use the following Renviron settings to reproduce errors and warnings. - If 'R CMD check' started to fail recently on the Linux builder(s) over a missing dependency, add the missing dependency to 'Suggests:' in your DESCRIPTION file. See Renviron.bioc for more information. |
| Package: DspikeIn |
| Version: 1.0.0 |
| Command: /Library/Frameworks/R.framework/Resources/bin/R CMD check --install=check:DspikeIn.install-out.txt --library=/Library/Frameworks/R.framework/Resources/library --no-vignettes --timings DspikeIn_1.0.0.tar.gz |
| StartedAt: 2025-10-31 20:57:27 -0400 (Fri, 31 Oct 2025) |
| EndedAt: 2025-10-31 21:07:10 -0400 (Fri, 31 Oct 2025) |
| EllapsedTime: 582.7 seconds |
| RetCode: 0 |
| Status: OK |
| CheckDir: DspikeIn.Rcheck |
| Warnings: 0 |
##############################################################################
##############################################################################
###
### Running command:
###
### /Library/Frameworks/R.framework/Resources/bin/R CMD check --install=check:DspikeIn.install-out.txt --library=/Library/Frameworks/R.framework/Resources/library --no-vignettes --timings DspikeIn_1.0.0.tar.gz
###
##############################################################################
##############################################################################
* using log directory ‘/Users/biocbuild/bbs-3.22-bioc/meat/DspikeIn.Rcheck’
* using R version 4.5.1 Patched (2025-09-10 r88807)
* using platform: x86_64-apple-darwin20
* R was compiled by
Apple clang version 14.0.0 (clang-1400.0.29.202)
GNU Fortran (GCC) 14.2.0
* running under: macOS Monterey 12.7.6
* using session charset: UTF-8
* using option ‘--no-vignettes’
* checking for file ‘DspikeIn/DESCRIPTION’ ... OK
* checking extension type ... Package
* this is package ‘DspikeIn’ version ‘1.0.0’
* package encoding: UTF-8
* checking package namespace information ... OK
* checking package dependencies ... INFO
Imports includes 38 non-default packages.
Importing from so many packages makes the package vulnerable to any of
them becoming unavailable. Move as many as possible to Suggests and
use conditionally.
* checking if this is a source package ... OK
* checking if there is a namespace ... OK
* checking for hidden files and directories ... OK
* checking for portable file names ... OK
* checking for sufficient/correct file permissions ... OK
* checking whether package ‘DspikeIn’ can be installed ... OK
* checking installed package size ... OK
* checking package directory ... OK
* checking ‘build’ directory ... OK
* checking DESCRIPTION meta-information ... OK
* checking top-level files ... OK
* checking for left-over files ... OK
* checking index information ... OK
* checking package subdirectories ... OK
* checking code files for non-ASCII characters ... OK
* checking R files for syntax errors ... OK
* checking whether the package can be loaded ... OK
* checking whether the package can be loaded with stated dependencies ... OK
* checking whether the package can be unloaded cleanly ... OK
* checking whether the namespace can be loaded with stated dependencies ... OK
* checking whether the namespace can be unloaded cleanly ... OK
* checking whether startup messages can be suppressed ... OK
* checking dependencies in R code ... OK
* checking S3 generic/method consistency ... OK
* checking replacement functions ... OK
* checking foreign function calls ... OK
* checking R code for possible problems ... OK
* checking Rd files ... OK
* checking Rd metadata ... OK
* checking Rd cross-references ... NOTE
Non-topic package-anchored link(s) in Rd file 'label.Rd':
‘[phyloseq:tax_table-methods]{phyloseq::tax_table()}’
See section 'Cross-references' in the 'Writing R Extensions' manual.
* checking for missing documentation entries ... OK
* checking for code/documentation mismatches ... OK
* checking Rd \usage sections ... OK
* checking Rd contents ... OK
* checking for unstated dependencies in examples ... OK
* checking contents of ‘data’ directory ... OK
* checking data for non-ASCII characters ... OK
* checking LazyData ... OK
* checking data for ASCII and uncompressed saves ... OK
* checking files in ‘vignettes’ ... OK
* checking examples ... OK
Examples with CPU (user + system) or elapsed time > 5s
user system elapsed
taxa_barplot 42.426 2.151 44.768
plot_core_microbiome_custom 25.215 1.170 26.482
RandomForest_selected 20.916 0.566 21.543
summ_ASV_OTUID 16.001 0.355 16.389
convert_to_absolute_counts 12.017 0.380 12.450
node_level_metrics 10.966 0.232 11.229
calculate_spike_percentage 9.360 0.804 10.267
Pre_processing_hashcodes 8.340 0.219 8.582
ridge_plot_it 6.852 0.425 7.319
quadrant_plot 6.872 0.259 7.161
random_subsample_WithReductionFactor 5.084 1.629 6.777
proportion_adj 5.777 0.314 6.117
normalization_set 5.135 0.451 5.626
summ_phyloseq_sampleID 3.431 1.653 5.190
alluvial_plot 4.845 0.204 5.061
* checking for unstated dependencies in ‘tests’ ... OK
* checking tests ...
Running ‘testthat.R’
OK
* checking for unstated dependencies in vignettes ... OK
* checking package vignettes ... OK
* checking running R code from vignettes ... SKIPPED
* checking re-building of vignette outputs ... SKIPPED
* checking PDF version of manual ... OK
* DONE
Status: 1 NOTE
See
‘/Users/biocbuild/bbs-3.22-bioc/meat/DspikeIn.Rcheck/00check.log’
for details.
DspikeIn.Rcheck/00install.out
############################################################################## ############################################################################## ### ### Running command: ### ### /Library/Frameworks/R.framework/Resources/bin/R CMD INSTALL DspikeIn ### ############################################################################## ############################################################################## * installing to library ‘/Library/Frameworks/R.framework/Versions/4.5-x86_64/Resources/library’ * installing *source* package ‘DspikeIn’ ... ** this is package ‘DspikeIn’ version ‘1.0.0’ ** using staged installation ** R ** data *** moving datasets to lazyload DB ** inst ** byte-compile and prepare package for lazy loading ** help *** installing help indices ** building package indices ** installing vignettes ** testing if installed package can be loaded from temporary location ** testing if installed package can be loaded from final location ** testing if installed package keeps a record of temporary installation path * DONE (DspikeIn)
DspikeIn.Rcheck/tests/testthat.Rout
R version 4.5.1 Patched (2025-09-10 r88807) -- "Great Square Root"
Copyright (C) 2025 The R Foundation for Statistical Computing
Platform: x86_64-apple-darwin20
R is free software and comes with ABSOLUTELY NO WARRANTY.
You are welcome to redistribute it under certain conditions.
Type 'license()' or 'licence()' for distribution details.
R is a collaborative project with many contributors.
Type 'contributors()' for more information and
'citation()' on how to cite R or R packages in publications.
Type 'demo()' for some demos, 'help()' for on-line help, or
'help.start()' for an HTML browser interface to help.
Type 'q()' to quit R.
> # This file is part of the standard setup for testthat.
> # It is recommended that you do not modify it.
> #
> # Where should you do additional test configuration?
> # Learn more about the roles of various files in:
> # * https://r-pkgs.org/testing-design.html#sec-tests-files-overview
> # * https://testthat.r-lib.org/articles/special-files.html
>
> library(testthat)
> library(DspikeIn)
Thank you for using DspikeIn! 🎉
For support, 📧 contact: Mitra Ghotbi (mitra.ghotbi@gmail.com)
GitHub Repository: https://github.com/mghotbi/DspikeIn
🐛 Found a bug or have a suggestion? Open an issue:
https://github.com/mghotbi/DspikeIn/issues
>
> test_check("DspikeIn")
[ FAIL 0 | WARN 0 | SKIP 13 | PASS 0 ]
══ Skipped tests (13) ══════════════════════════════════════════════════════════
• On Bioconductor (13): 'test-Pre_processing_species.R:1:1',
'test-RandomForest_selected.R:1:1', 'test-calculate_spikeIn_factors.R:1:1',
'test-calculate_spike_percentage.R:1:1',
'test-calculate_summary_stats_table.R:1:1', 'test-conclusion.R:1:1',
'test-convert_to_absolute_counts.R:1:1',
'test-imbalance_calculate_list_average_scaling_factors.R:1:1',
'test-node_level_metrics.R:1:1', 'test-perform_and_visualize_DA.R:1:1',
'test-quadrant_plot.R:1:1', 'test-remove_zero_negative_count_samples.R:1:1',
'test-simulate_robustness.R:1:1'
[ FAIL 0 | WARN 0 | SKIP 13 | PASS 0 ]
>
> proc.time()
user system elapsed
13.294 0.853 14.229
DspikeIn.Rcheck/DspikeIn-Ex.timings
| name | user | system | elapsed | |
| AcceptableRange | 0.893 | 0.018 | 0.914 | |
| MG_shapes | 0.433 | 0.010 | 0.443 | |
| Pre_processing_hashcodes | 8.340 | 0.219 | 8.582 | |
| Pre_processing_species | 4.262 | 0.106 | 4.385 | |
| Pre_processing_species_list | 0.373 | 0.005 | 0.379 | |
| RandomForest_selected | 20.916 | 0.566 | 21.543 | |
| adjust_abundance_one_third | 1.920 | 0.111 | 2.042 | |
| adjusted_prevalence | 1.720 | 0.071 | 1.797 | |
| alluvial_plot | 4.845 | 0.204 | 5.061 | |
| calculate_list_average_scaling_factors | 0.051 | 0.003 | 0.054 | |
| calculate_spikeIn_factors | 3.958 | 0.177 | 4.152 | |
| calculate_spike_percentage | 9.360 | 0.804 | 10.267 | |
| calculate_spike_percentage_list | 0.771 | 0.096 | 0.877 | |
| calculate_summary_stats_table | 0.177 | 0.008 | 0.187 | |
| color_palette | 0.488 | 0.003 | 0.492 | |
| conclusion | 1.487 | 0.151 | 1.650 | |
| convert_categorical_to_factors | 0.277 | 0.010 | 0.288 | |
| convert_phyloseq_to_tse | 0.528 | 0.013 | 0.543 | |
| convert_to_absolute_counts | 12.017 | 0.380 | 12.450 | |
| convert_tse_to_phyloseq | 1.619 | 0.137 | 1.763 | |
| create_directory | 0.001 | 0.001 | 0.000 | |
| degree_network | 2.985 | 0.080 | 3.072 | |
| detect_common_asvs_taxa | 0 | 0 | 0 | |
| extract_neighbors | 0.025 | 0.005 | 0.030 | |
| filter_and_split_abundance | 2.802 | 0.121 | 2.934 | |
| get_long_format_data | 0.680 | 0.076 | 0.758 | |
| gm_mean | 0.000 | 0.000 | 0.001 | |
| imbalance_calculate_list_average_scaling_factors | 0.163 | 0.002 | 0.165 | |
| label | 0.045 | 0.002 | 0.047 | |
| metadata_full | 0.025 | 0.005 | 0.030 | |
| my_custom_theme | 0.490 | 0.005 | 0.496 | |
| node_level_metrics | 10.966 | 0.232 | 11.229 | |
| norm.DESeq | 2.966 | 0.071 | 3.044 | |
| normalization_set | 5.135 | 0.451 | 5.626 | |
| perform_and_visualize_DA | 0 | 0 | 0 | |
| physeq | 0.028 | 0.002 | 0.030 | |
| physeq_16SOTU | 0.230 | 0.230 | 0.473 | |
| physeq_ITSOTU | 0.222 | 0.097 | 0.321 | |
| plot_core_microbiome_custom | 25.215 | 1.170 | 26.482 | |
| plot_spikein_tree_diagnostic | 0.000 | 0.001 | 0.001 | |
| plotbar_abundance | 0.001 | 0.001 | 0.001 | |
| proportion_adj | 5.777 | 0.314 | 6.117 | |
| quadrant_plot | 6.872 | 0.259 | 7.161 | |
| random_subsample_WithReductionFactor | 5.084 | 1.629 | 6.777 | |
| randomsubsample_Trimmed_evenDepth | 2.771 | 0.423 | 3.208 | |
| regression_plot | 1.070 | 0.019 | 1.091 | |
| relativized_filtered_taxa | 0.317 | 0.002 | 0.320 | |
| remove_zero_negative_count_samples | 0.408 | 0.046 | 0.455 | |
| ridge_plot_it | 6.852 | 0.425 | 7.319 | |
| set_nf | 0.187 | 0.001 | 0.189 | |
| simulate_network_robustness | 2.630 | 0.096 | 2.735 | |
| summ_ASV_OTUID | 16.001 | 0.355 | 16.389 | |
| summ_count_phyloseq | 1.109 | 0.047 | 1.159 | |
| summ_phyloseq_sampleID | 3.431 | 1.653 | 5.190 | |
| taxa_barplot | 42.426 | 2.151 | 44.768 | |
| tidy_phyloseq_tse | 2.383 | 0.048 | 2.435 | |
| tse | 0.033 | 0.001 | 0.035 | |
| validate_spikein_clade | 0.646 | 0.030 | 0.686 | |
| weight_Network | 2.848 | 0.109 | 2.965 | |