Back to Multiple platform build/check report for BioC 3.22:   simplified   long
ABC[D]EFGHIJKLMNOPQRSTUVWXYZ

This page was generated on 2025-11-20 12:07 -0500 (Thu, 20 Nov 2025).

HostnameOSArch (*)R versionInstalled pkgs
nebbiolo2Linux (Ubuntu 24.04.3 LTS)x86_644.5.2 (2025-10-31) -- "[Not] Part in a Rumble" 4615
merida1macOS 12.7.6 Montereyx86_644.5.2 Patched (2025-11-05 r88990) -- "[Not] Part in a Rumble" 4610
kjohnson1macOS 13.7.5 Venturaarm644.5.2 Patched (2025-11-04 r88984) -- "[Not] Part in a Rumble" 4598
taishanLinux (openEuler 24.03 LTS)aarch644.5.0 (2025-04-11) -- "How About a Twenty-Six" 4668
Click on any hostname to see more info about the system (e.g. compilers)      (*) as reported by 'uname -p', except on Windows and Mac OS X

Package 628/2361HostnameOS / ArchINSTALLBUILDCHECKBUILD BIN
DriverNet 1.50.0  (landing page)
Jiarui Ding
Snapshot Date: 2025-11-17 13:45 -0500 (Mon, 17 Nov 2025)
git_url: https://git.bioconductor.org/packages/DriverNet
git_branch: RELEASE_3_22
git_last_commit: 45e670a
git_last_commit_date: 2025-10-29 10:12:58 -0500 (Wed, 29 Oct 2025)
nebbiolo2Linux (Ubuntu 24.04.3 LTS) / x86_64  OK    OK    OK  UNNEEDED, same version is already published
merida1macOS 12.7.6 Monterey / x86_64  OK    OK    OK    OK  UNNEEDED, same version is already published
kjohnson1macOS 13.7.5 Ventura / arm64  OK    OK    OK    OK  UNNEEDED, same version is already published
taishanLinux (openEuler 24.03 LTS) / aarch64  OK    OK    OK  


CHECK results for DriverNet on taishan

To the developers/maintainers of the DriverNet package:
- Allow up to 24 hours (and sometimes 48 hours) for your latest push to git@git.bioconductor.org:packages/DriverNet.git to reflect on this report. See Troubleshooting Build Report for more information.
- Use the following Renviron settings to reproduce errors and warnings.
- If 'R CMD check' started to fail recently on the Linux builder(s) over a missing dependency, add the missing dependency to 'Suggests:' in your DESCRIPTION file. See Renviron.bioc for more information.
- See Martin Grigorov's blog post for how to debug Linux ARM64 related issues on a x86_64 host.

raw results


Summary

Package: DriverNet
Version: 1.50.0
Command: /home/biocbuild/R/R/bin/R CMD check --install=check:DriverNet.install-out.txt --library=/home/biocbuild/R/R/site-library --no-vignettes --timings DriverNet_1.50.0.tar.gz
StartedAt: 2025-11-18 09:23:48 -0000 (Tue, 18 Nov 2025)
EndedAt: 2025-11-18 09:25:26 -0000 (Tue, 18 Nov 2025)
EllapsedTime: 98.1 seconds
RetCode: 0
Status:   OK  
CheckDir: DriverNet.Rcheck
Warnings: 0

Command output

##############################################################################
##############################################################################
###
### Running command:
###
###   /home/biocbuild/R/R/bin/R CMD check --install=check:DriverNet.install-out.txt --library=/home/biocbuild/R/R/site-library --no-vignettes --timings DriverNet_1.50.0.tar.gz
###
##############################################################################
##############################################################################


* using log directory ‘/home/biocbuild/bbs-3.22-bioc/meat/DriverNet.Rcheck’
* using R version 4.5.0 (2025-04-11)
* using platform: aarch64-unknown-linux-gnu
* R was compiled by
    aarch64-unknown-linux-gnu-gcc (GCC) 14.2.0
    GNU Fortran (GCC) 14.2.0
* running under: openEuler 24.03 (LTS)
* using session charset: UTF-8
* using option ‘--no-vignettes’
* checking for file ‘DriverNet/DESCRIPTION’ ... OK
* checking extension type ... Package
* this is package ‘DriverNet’ version ‘1.50.0’
* checking package namespace information ... OK
* checking package dependencies ... OK
* checking if this is a source package ... OK
* checking if there is a namespace ... OK
* checking for hidden files and directories ... OK
* checking for portable file names ... OK
* checking for sufficient/correct file permissions ... OK
* checking whether package ‘DriverNet’ can be installed ... OK
* checking installed package size ... OK
* checking package directory ... OK
* checking ‘build’ directory ... OK
* checking DESCRIPTION meta-information ... OK
* checking top-level files ... OK
* checking for left-over files ... OK
* checking index information ... OK
* checking package subdirectories ... OK
* checking code files for non-ASCII characters ... OK
* checking R files for syntax errors ... OK
* checking whether the package can be loaded ... OK
* checking whether the package can be loaded with stated dependencies ... OK
* checking whether the package can be unloaded cleanly ... OK
* checking whether the namespace can be loaded with stated dependencies ... OK
* checking whether the namespace can be unloaded cleanly ... OK
* checking loading without being on the library search path ... OK
* checking dependencies in R code ... NOTE
Package in Depends field not imported from: ‘methods’
  These packages need to be imported from (in the NAMESPACE file)
  for when this namespace is loaded but not attached.
* checking S3 generic/method consistency ... OK
* checking replacement functions ... OK
* checking foreign function calls ... OK
* checking R code for possible problems ... NOTE
.computeDriversHelper: no visible global function definition for ‘new’
getPatientOutlierMatrix: no visible binding for global variable ‘sd’
getPatientOutlierMatrix: no visible global function definition for
  ‘dnorm’
resultSummary: no visible global function definition for ‘write.table’
Undefined global functions or variables:
  dnorm new sd write.table
Consider adding
  importFrom("methods", "new")
  importFrom("stats", "dnorm", "sd")
  importFrom("utils", "write.table")
to your NAMESPACE file (and ensure that your DESCRIPTION Imports field
contains 'methods').
* checking Rd files ... NOTE
checkRd: (-1) sampleDriversList.Rd:8: Lost braces
     8 | An object of DriverNetResult class that obtained from running the code{computeDrivers} function.
       |                                                                       ^
* checking Rd metadata ... OK
* checking Rd cross-references ... OK
* checking for missing documentation entries ... OK
* checking for code/documentation mismatches ... OK
* checking Rd \usage sections ... OK
* checking Rd contents ... NOTE
Argument items with no description in Rd file 'actualEvents.Rd':
  ‘x’
Argument items with no description in Rd file 'drivers.Rd':
  ‘x’
Argument items with no description in Rd file 'totalEvents.Rd':
  ‘x’
* checking for unstated dependencies in examples ... OK
* checking contents of ‘data’ directory ... OK
* checking data for non-ASCII characters ... OK
* checking data for ASCII and uncompressed saves ... OK
* checking files in ‘vignettes’ ... OK
* checking examples ... OK
Examples with CPU (user + system) or elapsed time > 5s
                          user system elapsed
DriverNet-package       29.429  0.220  29.789
computeDrivers          19.208  0.004  19.267
computeRandomizedResult 11.686  0.000  11.717
* checking for unstated dependencies in vignettes ... OK
* checking package vignettes ... OK
* checking running R code from vignettes ... SKIPPED
* checking re-building of vignette outputs ... SKIPPED
* checking PDF version of manual ... OK
* DONE

Status: 4 NOTEs
See
  ‘/home/biocbuild/bbs-3.22-bioc/meat/DriverNet.Rcheck/00check.log’
for details.


Installation output

DriverNet.Rcheck/00install.out

##############################################################################
##############################################################################
###
### Running command:
###
###   /home/biocbuild/R/R/bin/R CMD INSTALL DriverNet
###
##############################################################################
##############################################################################


* installing to library ‘/home/biocbuild/R/R-4.5.0/site-library’
* installing *source* package ‘DriverNet’ ...
** this is package ‘DriverNet’ version ‘1.50.0’
** using staged installation
** R
** data
** byte-compile and prepare package for lazy loading
** help
*** installing help indices
** building package indices
** installing vignettes
** testing if installed package can be loaded from temporary location
** testing if installed package can be loaded from final location
** testing if installed package keeps a record of temporary installation path
* DONE (DriverNet)

Tests output


Example timings

DriverNet.Rcheck/DriverNet-Ex.timings

nameusersystemelapsed
DriverNet-package29.429 0.22029.789
DriverNetResult-class0.0110.0000.011
actualEvents0.0310.0040.034
computeDrivers19.208 0.00419.267
computeRandomizedResult11.686 0.00011.717
drivers0.0270.0080.035
getPatientOutlierMatrix0.1790.0000.180
preprocessMatrices0.1430.0040.147
resultSummary0.1750.0000.176
sampleDriversList0.0100.0000.011
sampleGeneNames0.0190.0000.020
sampleInfluenceGraph0.1300.0000.131
samplePatientExpressionMatrix0.0590.0000.059
samplePatientMutationMatrix0.0090.0000.009
samplePatientOutlierMatrix0.0110.0000.011
sampleRandomDriversResult0.0020.0000.002
totalEvents0.0070.0040.011