| Back to Multiple platform build/check report for BioC 3.22: simplified long | 
 | 
This page was generated on 2025-10-25 12:03 -0400 (Sat, 25 Oct 2025).
| Hostname | OS | Arch (*) | R version | Installed pkgs | 
|---|---|---|---|---|
| nebbiolo2 | Linux (Ubuntu 24.04.3 LTS) | x86_64 | 4.5.1 Patched (2025-08-23 r88802) -- "Great Square Root" | 4901 | 
| lconway | macOS 12.7.6 Monterey | x86_64 | 4.5.1 Patched (2025-09-10 r88807) -- "Great Square Root" | 4691 | 
| kjohnson3 | macOS 13.7.7 Ventura | arm64 | 4.5.1 Patched (2025-09-10 r88807) -- "Great Square Root" | 4637 | 
| taishan | Linux (openEuler 24.03 LTS) | aarch64 | 4.5.0 (2025-04-11) -- "How About a Twenty-Six" | 4658 | 
| Click on any hostname to see more info about the system (e.g. compilers) (*) as reported by 'uname -p', except on Windows and Mac OS X | ||||
| Package 628/2361 | Hostname | OS / Arch | INSTALL | BUILD | CHECK | BUILD BIN | ||||||||
| DriverNet 1.49.0  (landing page) Jiarui Ding 
 | nebbiolo2 | Linux (Ubuntu 24.04.3 LTS) / x86_64 | OK | OK | OK |  | ||||||||
| lconway | macOS 12.7.6 Monterey / x86_64 | OK | OK | OK | OK |  | ||||||||
| kjohnson3 | macOS 13.7.7 Ventura / arm64 | OK | OK | OK | OK |  | ||||||||
| taishan | Linux (openEuler 24.03 LTS) / aarch64 | OK | NA | NA | ||||||||||
| To the developers/maintainers of the DriverNet package: - Allow up to 24 hours (and sometimes 48 hours) for your latest push to git@git.bioconductor.org:packages/DriverNet.git to reflect on this report. See Troubleshooting Build Report for more information. - Use the following Renviron settings to reproduce errors and warnings. - If 'R CMD check' started to fail recently on the Linux builder(s) over a missing dependency, add the missing dependency to 'Suggests:' in your DESCRIPTION file. See Renviron.bioc for more information. | 
| Package: DriverNet | 
| Version: 1.49.0 | 
| Command: /home/biocbuild/bbs-3.22-bioc/R/bin/R CMD check --install=check:DriverNet.install-out.txt --library=/home/biocbuild/bbs-3.22-bioc/R/site-library --timings DriverNet_1.49.0.tar.gz | 
| StartedAt: 2025-10-24 23:18:28 -0400 (Fri, 24 Oct 2025) | 
| EndedAt: 2025-10-24 23:20:21 -0400 (Fri, 24 Oct 2025) | 
| EllapsedTime: 113.1 seconds | 
| RetCode: 0 | 
| Status: OK | 
| CheckDir: DriverNet.Rcheck | 
| Warnings: 0 | 
##############################################################################
##############################################################################
###
### Running command:
###
###   /home/biocbuild/bbs-3.22-bioc/R/bin/R CMD check --install=check:DriverNet.install-out.txt --library=/home/biocbuild/bbs-3.22-bioc/R/site-library --timings DriverNet_1.49.0.tar.gz
###
##############################################################################
##############################################################################
* using log directory ‘/home/biocbuild/bbs-3.22-bioc/meat/DriverNet.Rcheck’
* using R version 4.5.1 Patched (2025-08-23 r88802)
* using platform: x86_64-pc-linux-gnu
* R was compiled by
    gcc (Ubuntu 13.3.0-6ubuntu2~24.04) 13.3.0
    GNU Fortran (Ubuntu 13.3.0-6ubuntu2~24.04) 13.3.0
* running under: Ubuntu 24.04.3 LTS
* using session charset: UTF-8
* checking for file ‘DriverNet/DESCRIPTION’ ... OK
* checking extension type ... Package
* this is package ‘DriverNet’ version ‘1.49.0’
* checking package namespace information ... OK
* checking package dependencies ... OK
* checking if this is a source package ... OK
* checking if there is a namespace ... OK
* checking for hidden files and directories ... OK
* checking for portable file names ... OK
* checking for sufficient/correct file permissions ... OK
* checking whether package ‘DriverNet’ can be installed ... OK
* checking installed package size ... OK
* checking package directory ... OK
* checking ‘build’ directory ... OK
* checking DESCRIPTION meta-information ... OK
* checking top-level files ... OK
* checking for left-over files ... OK
* checking index information ... OK
* checking package subdirectories ... OK
* checking code files for non-ASCII characters ... OK
* checking R files for syntax errors ... OK
* checking whether the package can be loaded ... OK
* checking whether the package can be loaded with stated dependencies ... OK
* checking whether the package can be unloaded cleanly ... OK
* checking whether the namespace can be loaded with stated dependencies ... OK
* checking whether the namespace can be unloaded cleanly ... OK
* checking loading without being on the library search path ... OK
* checking dependencies in R code ... NOTE
Package in Depends field not imported from: ‘methods’
  These packages need to be imported from (in the NAMESPACE file)
  for when this namespace is loaded but not attached.
* checking S3 generic/method consistency ... OK
* checking replacement functions ... OK
* checking foreign function calls ... OK
* checking R code for possible problems ... NOTE
.computeDriversHelper: no visible global function definition for ‘new’
getPatientOutlierMatrix: no visible binding for global variable ‘sd’
getPatientOutlierMatrix: no visible global function definition for
  ‘dnorm’
resultSummary: no visible global function definition for ‘write.table’
Undefined global functions or variables:
  dnorm new sd write.table
Consider adding
  importFrom("methods", "new")
  importFrom("stats", "dnorm", "sd")
  importFrom("utils", "write.table")
to your NAMESPACE file (and ensure that your DESCRIPTION Imports field
contains 'methods').
* checking Rd files ... NOTE
checkRd: (-1) sampleDriversList.Rd:8: Lost braces
     8 | An object of DriverNetResult class that obtained from running the code{computeDrivers} function.
       |                                                                       ^
* checking Rd metadata ... OK
* checking Rd cross-references ... OK
* checking for missing documentation entries ... OK
* checking for code/documentation mismatches ... OK
* checking Rd \usage sections ... OK
* checking Rd contents ... NOTE
Argument items with no description in Rd file 'actualEvents.Rd':
  ‘x’
Argument items with no description in Rd file 'drivers.Rd':
  ‘x’
Argument items with no description in Rd file 'totalEvents.Rd':
  ‘x’
* checking for unstated dependencies in examples ... OK
* checking contents of ‘data’ directory ... OK
* checking data for non-ASCII characters ... OK
* checking data for ASCII and uncompressed saves ... OK
* checking files in ‘vignettes’ ... OK
* checking examples ... OK
Examples with CPU (user + system) or elapsed time > 5s
                          user system elapsed
DriverNet-package       27.897  0.072  27.981
computeDrivers          17.925  0.026  17.952
computeRandomizedResult 12.317  0.009  12.326
* checking for unstated dependencies in vignettes ... OK
* checking package vignettes ... OK
* checking re-building of vignette outputs ... OK
* checking PDF version of manual ... OK
* DONE
Status: 4 NOTEs
See
  ‘/home/biocbuild/bbs-3.22-bioc/meat/DriverNet.Rcheck/00check.log’
for details.
DriverNet.Rcheck/00install.out
############################################################################## ############################################################################## ### ### Running command: ### ### /home/biocbuild/bbs-3.22-bioc/R/bin/R CMD INSTALL DriverNet ### ############################################################################## ############################################################################## * installing to library ‘/home/biocbuild/bbs-3.22-bioc/R/site-library’ * installing *source* package ‘DriverNet’ ... ** this is package ‘DriverNet’ version ‘1.49.0’ ** using staged installation ** R ** data ** byte-compile and prepare package for lazy loading ** help *** installing help indices ** building package indices ** installing vignettes ** testing if installed package can be loaded from temporary location ** testing if installed package can be loaded from final location ** testing if installed package keeps a record of temporary installation path * DONE (DriverNet)
DriverNet.Rcheck/DriverNet-Ex.timings
| name | user | system | elapsed | |
| DriverNet-package | 27.897 | 0.072 | 27.981 | |
| DriverNetResult-class | 0.008 | 0.000 | 0.008 | |
| actualEvents | 0.025 | 0.003 | 0.028 | |
| computeDrivers | 17.925 | 0.026 | 17.952 | |
| computeRandomizedResult | 12.317 | 0.009 | 12.326 | |
| drivers | 0.025 | 0.002 | 0.027 | |
| getPatientOutlierMatrix | 0.117 | 0.004 | 0.121 | |
| preprocessMatrices | 0.116 | 0.002 | 0.117 | |
| resultSummary | 0.14 | 0.00 | 0.14 | |
| sampleDriversList | 0.008 | 0.000 | 0.009 | |
| sampleGeneNames | 0.020 | 0.001 | 0.021 | |
| sampleInfluenceGraph | 0.103 | 0.000 | 0.102 | |
| samplePatientExpressionMatrix | 0.068 | 0.002 | 0.070 | |
| samplePatientMutationMatrix | 0.008 | 0.000 | 0.008 | |
| samplePatientOutlierMatrix | 0.009 | 0.000 | 0.009 | |
| sampleRandomDriversResult | 0.002 | 0.000 | 0.001 | |
| totalEvents | 0.007 | 0.001 | 0.008 | |