| Back to Multiple platform build/check report for BioC 3.22: simplified long |
|
This page was generated on 2025-11-20 12:07 -0500 (Thu, 20 Nov 2025).
| Hostname | OS | Arch (*) | R version | Installed pkgs |
|---|---|---|---|---|
| nebbiolo2 | Linux (Ubuntu 24.04.3 LTS) | x86_64 | 4.5.2 (2025-10-31) -- "[Not] Part in a Rumble" | 4615 |
| merida1 | macOS 12.7.6 Monterey | x86_64 | 4.5.2 Patched (2025-11-05 r88990) -- "[Not] Part in a Rumble" | 4610 |
| kjohnson1 | macOS 13.7.5 Ventura | arm64 | 4.5.2 Patched (2025-11-04 r88984) -- "[Not] Part in a Rumble" | 4598 |
| taishan | Linux (openEuler 24.03 LTS) | aarch64 | 4.5.0 (2025-04-11) -- "How About a Twenty-Six" | 4668 |
| Click on any hostname to see more info about the system (e.g. compilers) (*) as reported by 'uname -p', except on Windows and Mac OS X | ||||
| Package 260/2361 | Hostname | OS / Arch | INSTALL | BUILD | CHECK | BUILD BIN | ||||||||
| BulkSignalR 1.2.1 (landing page) Jean-Philippe Villemin
| nebbiolo2 | Linux (Ubuntu 24.04.3 LTS) / x86_64 | OK | OK | OK | |||||||||
| merida1 | macOS 12.7.6 Monterey / x86_64 | OK | OK | OK | OK | |||||||||
| kjohnson1 | macOS 13.7.5 Ventura / arm64 | OK | OK | OK | OK | |||||||||
| taishan | Linux (openEuler 24.03 LTS) / aarch64 | OK | OK | OK | ||||||||||
|
To the developers/maintainers of the BulkSignalR package: - Allow up to 24 hours (and sometimes 48 hours) for your latest push to git@git.bioconductor.org:packages/BulkSignalR.git to reflect on this report. See Troubleshooting Build Report for more information. - Use the following Renviron settings to reproduce errors and warnings. - If 'R CMD check' started to fail recently on the Linux builder(s) over a missing dependency, add the missing dependency to 'Suggests:' in your DESCRIPTION file. See Renviron.bioc for more information. - See Martin Grigorov's blog post for how to debug Linux ARM64 related issues on a x86_64 host. |
| Package: BulkSignalR |
| Version: 1.2.1 |
| Command: /home/biocbuild/R/R/bin/R CMD check --install=check:BulkSignalR.install-out.txt --library=/home/biocbuild/R/R/site-library --no-vignettes --timings BulkSignalR_1.2.1.tar.gz |
| StartedAt: 2025-11-18 07:47:51 -0000 (Tue, 18 Nov 2025) |
| EndedAt: 2025-11-18 07:57:41 -0000 (Tue, 18 Nov 2025) |
| EllapsedTime: 590.4 seconds |
| RetCode: 0 |
| Status: OK |
| CheckDir: BulkSignalR.Rcheck |
| Warnings: 0 |
##############################################################################
##############################################################################
###
### Running command:
###
### /home/biocbuild/R/R/bin/R CMD check --install=check:BulkSignalR.install-out.txt --library=/home/biocbuild/R/R/site-library --no-vignettes --timings BulkSignalR_1.2.1.tar.gz
###
##############################################################################
##############################################################################
* using log directory ‘/home/biocbuild/bbs-3.22-bioc/meat/BulkSignalR.Rcheck’
* using R version 4.5.0 (2025-04-11)
* using platform: aarch64-unknown-linux-gnu
* R was compiled by
aarch64-unknown-linux-gnu-gcc (GCC) 14.2.0
GNU Fortran (GCC) 14.2.0
* running under: openEuler 24.03 (LTS)
* using session charset: UTF-8
* using option ‘--no-vignettes’
* checking for file ‘BulkSignalR/DESCRIPTION’ ... OK
* checking extension type ... Package
* this is package ‘BulkSignalR’ version ‘1.2.1’
* package encoding: UTF-8
* checking package namespace information ... OK
* checking package dependencies ... INFO
Imports includes 26 non-default packages.
Importing from so many packages makes the package vulnerable to any of
them becoming unavailable. Move as many as possible to Suggests and
use conditionally.
* checking if this is a source package ... OK
* checking if there is a namespace ... OK
* checking for hidden files and directories ... OK
* checking for portable file names ... OK
* checking for sufficient/correct file permissions ... OK
* checking whether package ‘BulkSignalR’ can be installed ... OK
* checking installed package size ... OK
* checking package directory ... OK
* checking ‘build’ directory ... OK
* checking DESCRIPTION meta-information ... OK
* checking top-level files ... OK
* checking for left-over files ... OK
* checking index information ... OK
* checking package subdirectories ... OK
* checking code files for non-ASCII characters ... OK
* checking R files for syntax errors ... OK
* checking whether the package can be loaded ... OK
* checking whether the package can be loaded with stated dependencies ... OK
* checking whether the package can be unloaded cleanly ... OK
* checking whether the namespace can be loaded with stated dependencies ... OK
* checking whether the namespace can be unloaded cleanly ... OK
* checking loading without being on the library search path ... OK
* checking whether startup messages can be suppressed ... OK
* checking dependencies in R code ... OK
* checking S3 generic/method consistency ... OK
* checking replacement functions ... OK
* checking foreign function calls ... OK
* checking R code for possible problems ... OK
* checking Rd files ... OK
* checking Rd metadata ... OK
* checking Rd cross-references ... OK
* checking for missing documentation entries ... OK
* checking for code/documentation mismatches ... OK
* checking Rd \usage sections ... OK
* checking Rd contents ... OK
* checking for unstated dependencies in examples ... OK
* checking contents of ‘data’ directory ... OK
* checking data for non-ASCII characters ... OK
* checking data for ASCII and uncompressed saves ... OK
* checking files in ‘vignettes’ ... OK
* checking examples ... OK
Examples with CPU (user + system) or elapsed time > 5s
user system elapsed
simpleHeatmap 6.971 0.355 7.343
spatialAssociationPlot 5.757 0.128 5.904
cacheClear 4.155 0.546 17.211
* checking for unstated dependencies in ‘tests’ ... OK
* checking tests ...
Running ‘testthat.R’
OK
* checking for unstated dependencies in vignettes ... OK
* checking package vignettes ... OK
* checking running R code from vignettes ... SKIPPED
* checking re-building of vignette outputs ... SKIPPED
* checking PDF version of manual ... OK
* DONE
Status: OK
BulkSignalR.Rcheck/00install.out
############################################################################## ############################################################################## ### ### Running command: ### ### /home/biocbuild/R/R/bin/R CMD INSTALL BulkSignalR ### ############################################################################## ############################################################################## * installing to library ‘/home/biocbuild/R/R-4.5.0/site-library’ * installing *source* package ‘BulkSignalR’ ... ** this is package ‘BulkSignalR’ version ‘1.2.1’ ** using staged installation ** R ** data ** inst ** byte-compile and prepare package for lazy loading ** help *** installing help indices *** copying figures ** building package indices ** installing vignettes ** testing if installed package can be loaded from temporary location ** testing if installed package can be loaded from final location ** testing if installed package keeps a record of temporary installation path * DONE (BulkSignalR)
BulkSignalR.Rcheck/tests/testthat.Rout
R version 4.5.0 (2025-04-11) -- "How About a Twenty-Six"
Copyright (C) 2025 The R Foundation for Statistical Computing
Platform: aarch64-unknown-linux-gnu
R is free software and comes with ABSOLUTELY NO WARRANTY.
You are welcome to redistribute it under certain conditions.
Type 'license()' or 'licence()' for distribution details.
R is a collaborative project with many contributors.
Type 'contributors()' for more information and
'citation()' on how to cite R or R packages in publications.
Type 'demo()' for some demos, 'help()' for on-line help, or
'help.start()' for an HTML browser interface to help.
Type 'q()' to quit R.
> library(testthat)
> library(BulkSignalR)
Local "resources" are up to date.
> test_check("BulkSignalR")
[ FAIL 0 | WARN 0 | SKIP 0 | PASS 1 ]
>
> proc.time()
user system elapsed
18.055 1.024 21.897
BulkSignalR.Rcheck/BulkSignalR-Ex.timings
| name | user | system | elapsed | |
| BSRClusterComp-class | 0.003 | 0.000 | 0.003 | |
| BSRClusterComp | 0.317 | 0.032 | 0.351 | |
| BSRDataModel-class | 0.049 | 0.000 | 0.049 | |
| BSRDataModel | 0.183 | 0.000 | 0.183 | |
| BSRDataModelComp-class | 0.007 | 0.000 | 0.007 | |
| BSRDataModelComp | 0.192 | 0.000 | 0.194 | |
| BSRInference-class | 0.006 | 0.000 | 0.006 | |
| BSRInference | 4.233 | 0.235 | 4.479 | |
| BSRInferenceComp-class | 0.01 | 0.00 | 0.01 | |
| BSRInferenceComp | 1.869 | 0.088 | 1.962 | |
| BSRSignature-class | 0.003 | 0.000 | 0.003 | |
| BSRSignature | 0.048 | 0.000 | 0.049 | |
| BSRSignatureComp-class | 0.004 | 0.000 | 0.005 | |
| BSRSignatureComp | 0.019 | 0.000 | 0.020 | |
| LRinter | 0.002 | 0.000 | 0.003 | |
| LRinterScore | 0.004 | 0.000 | 0.005 | |
| LRinterShort | 0.001 | 0.004 | 0.005 | |
| addClusterComp | 0.280 | 0.004 | 0.285 | |
| alluvialPlot | 0.781 | 0.016 | 0.800 | |
| assignCellTypesToInteractions | 0.978 | 0.024 | 1.007 | |
| bubblePlotPathwaysLR | 0.708 | 0.000 | 0.710 | |
| cacheClear | 4.155 | 0.546 | 17.211 | |
| cacheInfo | 0.164 | 0.052 | 0.216 | |
| cacheVersion | 0.427 | 0.091 | 1.576 | |
| cellTypeFrequency | 1.070 | 0.240 | 1.312 | |
| cellularNetwork | 0.996 | 0.119 | 1.120 | |
| cellularNetworkTable | 0.908 | 0.024 | 0.934 | |
| chordDiagramLR | 1.830 | 0.024 | 1.860 | |
| coerce | 0.002 | 0.000 | 0.002 | |
| colClusterA | 0 | 0 | 0 | |
| colClusterB | 0 | 0 | 0 | |
| comparison | 0 | 0 | 0 | |
| comparisonName | 0.000 | 0.000 | 0.001 | |
| convertToHuman | 0.225 | 0.012 | 4.774 | |
| createResources | 0.363 | 0.020 | 3.488 | |
| differentialStats | 0.001 | 0.000 | 0.001 | |
| findOrthoGenes | 0.156 | 0.008 | 1.867 | |
| generateSpatialPlots | 2.672 | 0.180 | 2.860 | |
| getLRIntracellNetwork | 2.368 | 0.055 | 2.431 | |
| getLRNetwork | 0.053 | 0.000 | 0.053 | |
| getPathwayStats | 0.017 | 0.004 | 0.021 | |
| getResource | 0.345 | 0.012 | 0.358 | |
| inferenceParameters | 0 | 0 | 0 | |
| initialOrganism | 0.002 | 0.000 | 0.002 | |
| initialOrthologs | 0.002 | 0.000 | 0.002 | |
| learnParameters | 3.857 | 0.064 | 3.933 | |
| ligands | 0 | 0 | 0 | |
| logTransformed | 0.003 | 0.000 | 0.002 | |
| maxLigandSpatialCounts | 0.067 | 0.036 | 0.103 | |
| mu | 0 | 0 | 0 | |
| ncounts | 0.005 | 0.000 | 0.005 | |
| normalization | 0.003 | 0.000 | 0.004 | |
| parameters | 0.001 | 0.002 | 0.003 | |
| pathways | 0 | 0 | 0 | |
| receptors | 0 | 0 | 0 | |
| reduceToBestPathway | 0.128 | 0.024 | 0.153 | |
| reduceToLigand | 0.056 | 0.016 | 0.072 | |
| reduceToPathway | 0.159 | 0.107 | 0.267 | |
| reduceToReceptor | 0.024 | 0.000 | 0.024 | |
| relateToGeneSet | 0.108 | 0.032 | 0.141 | |
| removeClusterComp | 0.387 | 0.024 | 0.412 | |
| rescoreInference | 0.036 | 0.004 | 0.040 | |
| resetLRdb | 0.039 | 0.004 | 0.042 | |
| resetNetwork | 0.012 | 0.000 | 0.011 | |
| resetPathways | 0.378 | 0.048 | 0.427 | |
| resetToInitialOrganism | 0.244 | 0.008 | 0.253 | |
| scoreLRGeneSignatures | 1.443 | 0.279 | 1.727 | |
| scoreSignatures | 0.400 | 0.000 | 0.402 | |
| separatedLRPlot | 2.488 | 0.076 | 2.570 | |
| signatureHeatmaps | 0.023 | 0.000 | 0.022 | |
| simpleHeatmap | 6.971 | 0.355 | 7.343 | |
| smoothSpatialCounts | 0.055 | 0.012 | 0.067 | |
| sourceComparisonName | 0 | 0 | 0 | |
| spatialAssociation | 0.054 | 0.004 | 0.058 | |
| spatialAssociationPlot | 5.757 | 0.128 | 5.904 | |
| spatialDiversityPlot | 1.565 | 0.023 | 1.595 | |
| spatialIndexPlot | 2.246 | 0.028 | 2.281 | |
| spatialPlot | 1.831 | 0.003 | 1.841 | |
| summarizedCellularNetwork | 0.906 | 0.008 | 0.917 | |
| tgCorr | 0 | 0 | 0 | |
| tgExpr | 0 | 0 | 0 | |
| tgGenes | 0 | 0 | 0 | |
| tgLogFC | 0.000 | 0.001 | 0.000 | |
| tgPval | 0 | 0 | 0 | |
| updateInference | 0.099 | 0.002 | 0.102 | |