| Back to Multiple platform build/check report for BioC 3.22: simplified long |
|
This page was generated on 2025-10-25 12:04 -0400 (Sat, 25 Oct 2025).
| Hostname | OS | Arch (*) | R version | Installed pkgs |
|---|---|---|---|---|
| nebbiolo2 | Linux (Ubuntu 24.04.3 LTS) | x86_64 | 4.5.1 Patched (2025-08-23 r88802) -- "Great Square Root" | 4901 |
| lconway | macOS 12.7.6 Monterey | x86_64 | 4.5.1 Patched (2025-09-10 r88807) -- "Great Square Root" | 4691 |
| kjohnson3 | macOS 13.7.7 Ventura | arm64 | 4.5.1 Patched (2025-09-10 r88807) -- "Great Square Root" | 4637 |
| taishan | Linux (openEuler 24.03 LTS) | aarch64 | 4.5.0 (2025-04-11) -- "How About a Twenty-Six" | 4658 |
| Click on any hostname to see more info about the system (e.g. compilers) (*) as reported by 'uname -p', except on Windows and Mac OS X | ||||
| Package 260/2361 | Hostname | OS / Arch | INSTALL | BUILD | CHECK | BUILD BIN | ||||||||
| BulkSignalR 1.1.5 (landing page) Jean-Philippe Villemin
| nebbiolo2 | Linux (Ubuntu 24.04.3 LTS) / x86_64 | OK | OK | OK | |||||||||
| lconway | macOS 12.7.6 Monterey / x86_64 | OK | OK | OK | OK | |||||||||
| kjohnson3 | macOS 13.7.7 Ventura / arm64 | OK | OK | OK | OK | |||||||||
| taishan | Linux (openEuler 24.03 LTS) / aarch64 | OK | NA | NA | ||||||||||
|
To the developers/maintainers of the BulkSignalR package: - Allow up to 24 hours (and sometimes 48 hours) for your latest push to git@git.bioconductor.org:packages/BulkSignalR.git to reflect on this report. See Troubleshooting Build Report for more information. - Use the following Renviron settings to reproduce errors and warnings. - If 'R CMD check' started to fail recently on the Linux builder(s) over a missing dependency, add the missing dependency to 'Suggests:' in your DESCRIPTION file. See Renviron.bioc for more information. |
| Package: BulkSignalR |
| Version: 1.1.5 |
| Command: /Library/Frameworks/R.framework/Resources/bin/R CMD check --install=check:BulkSignalR.install-out.txt --library=/Library/Frameworks/R.framework/Resources/library --no-vignettes --timings BulkSignalR_1.1.5.tar.gz |
| StartedAt: 2025-10-24 19:57:01 -0400 (Fri, 24 Oct 2025) |
| EndedAt: 2025-10-24 20:04:42 -0400 (Fri, 24 Oct 2025) |
| EllapsedTime: 461.1 seconds |
| RetCode: 0 |
| Status: OK |
| CheckDir: BulkSignalR.Rcheck |
| Warnings: 0 |
##############################################################################
##############################################################################
###
### Running command:
###
### /Library/Frameworks/R.framework/Resources/bin/R CMD check --install=check:BulkSignalR.install-out.txt --library=/Library/Frameworks/R.framework/Resources/library --no-vignettes --timings BulkSignalR_1.1.5.tar.gz
###
##############################################################################
##############################################################################
* using log directory ‘/Users/biocbuild/bbs-3.22-bioc/meat/BulkSignalR.Rcheck’
* using R version 4.5.1 Patched (2025-09-10 r88807)
* using platform: x86_64-apple-darwin20
* R was compiled by
Apple clang version 14.0.0 (clang-1400.0.29.202)
GNU Fortran (GCC) 14.2.0
* running under: macOS Monterey 12.7.6
* using session charset: UTF-8
* using option ‘--no-vignettes’
* checking for file ‘BulkSignalR/DESCRIPTION’ ... OK
* checking extension type ... Package
* this is package ‘BulkSignalR’ version ‘1.1.5’
* package encoding: UTF-8
* checking package namespace information ... OK
* checking package dependencies ... INFO
Imports includes 26 non-default packages.
Importing from so many packages makes the package vulnerable to any of
them becoming unavailable. Move as many as possible to Suggests and
use conditionally.
* checking if this is a source package ... OK
* checking if there is a namespace ... OK
* checking for hidden files and directories ... OK
* checking for portable file names ... OK
* checking for sufficient/correct file permissions ... OK
* checking whether package ‘BulkSignalR’ can be installed ... OK
* checking installed package size ... OK
* checking package directory ... OK
* checking ‘build’ directory ... OK
* checking DESCRIPTION meta-information ... OK
* checking top-level files ... OK
* checking for left-over files ... OK
* checking index information ... OK
* checking package subdirectories ... OK
* checking code files for non-ASCII characters ... OK
* checking R files for syntax errors ... OK
* checking whether the package can be loaded ... OK
* checking whether the package can be loaded with stated dependencies ... OK
* checking whether the package can be unloaded cleanly ... OK
* checking whether the namespace can be loaded with stated dependencies ... OK
* checking whether the namespace can be unloaded cleanly ... OK
* checking whether startup messages can be suppressed ... OK
* checking dependencies in R code ... OK
* checking S3 generic/method consistency ... OK
* checking replacement functions ... OK
* checking foreign function calls ... OK
* checking R code for possible problems ... OK
* checking Rd files ... OK
* checking Rd metadata ... OK
* checking Rd cross-references ... OK
* checking for missing documentation entries ... OK
* checking for code/documentation mismatches ... OK
* checking Rd \usage sections ... OK
* checking Rd contents ... OK
* checking for unstated dependencies in examples ... OK
* checking contents of ‘data’ directory ... OK
* checking data for non-ASCII characters ... OK
* checking data for ASCII and uncompressed saves ... OK
* checking files in ‘vignettes’ ... OK
* checking examples ... OK
Examples with CPU (user + system) or elapsed time > 5s
user system elapsed
simpleHeatmap 7.003 0.395 7.470
cacheClear 3.642 0.233 7.426
* checking for unstated dependencies in ‘tests’ ... OK
* checking tests ...
Running ‘testthat.R’
OK
* checking for unstated dependencies in vignettes ... OK
* checking package vignettes ... OK
* checking running R code from vignettes ... SKIPPED
* checking re-building of vignette outputs ... SKIPPED
* checking PDF version of manual ... OK
* DONE
Status: OK
BulkSignalR.Rcheck/00install.out
############################################################################## ############################################################################## ### ### Running command: ### ### /Library/Frameworks/R.framework/Resources/bin/R CMD INSTALL BulkSignalR ### ############################################################################## ############################################################################## * installing to library ‘/Library/Frameworks/R.framework/Versions/4.5-x86_64/Resources/library’ * installing *source* package ‘BulkSignalR’ ... ** this is package ‘BulkSignalR’ version ‘1.1.5’ ** using staged installation ** R ** data ** inst ** byte-compile and prepare package for lazy loading ** help *** installing help indices *** copying figures ** building package indices ** installing vignettes ** testing if installed package can be loaded from temporary location ** testing if installed package can be loaded from final location ** testing if installed package keeps a record of temporary installation path * DONE (BulkSignalR)
BulkSignalR.Rcheck/tests/testthat.Rout
R version 4.5.1 Patched (2025-09-10 r88807) -- "Great Square Root"
Copyright (C) 2025 The R Foundation for Statistical Computing
Platform: x86_64-apple-darwin20
R is free software and comes with ABSOLUTELY NO WARRANTY.
You are welcome to redistribute it under certain conditions.
Type 'license()' or 'licence()' for distribution details.
R is a collaborative project with many contributors.
Type 'contributors()' for more information and
'citation()' on how to cite R or R packages in publications.
Type 'demo()' for some demos, 'help()' for on-line help, or
'help.start()' for an HTML browser interface to help.
Type 'q()' to quit R.
> library(testthat)
> library(BulkSignalR)
Local "resources" are up to date.
> test_check("BulkSignalR")
[ FAIL 0 | WARN 0 | SKIP 0 | PASS 1 ]
>
> proc.time()
user system elapsed
15.801 0.913 17.786
BulkSignalR.Rcheck/BulkSignalR-Ex.timings
| name | user | system | elapsed | |
| BSRClusterComp-class | 0.002 | 0.001 | 0.003 | |
| BSRClusterComp | 0.400 | 0.021 | 0.425 | |
| BSRDataModel-class | 0.047 | 0.007 | 0.054 | |
| BSRDataModel | 0.250 | 0.006 | 0.258 | |
| BSRDataModelComp-class | 0.005 | 0.001 | 0.006 | |
| BSRDataModelComp | 0.263 | 0.005 | 0.270 | |
| BSRInference-class | 0.005 | 0.000 | 0.006 | |
| BSRInference | 3.457 | 0.093 | 3.577 | |
| BSRInferenceComp-class | 0.008 | 0.000 | 0.008 | |
| BSRInferenceComp | 1.217 | 0.082 | 1.307 | |
| BSRSignature-class | 0.002 | 0.000 | 0.002 | |
| BSRSignature | 0.031 | 0.001 | 0.033 | |
| BSRSignatureComp-class | 0.003 | 0.000 | 0.003 | |
| BSRSignatureComp | 0.018 | 0.001 | 0.020 | |
| LRinter | 0.002 | 0.000 | 0.002 | |
| LRinterScore | 0.003 | 0.001 | 0.004 | |
| LRinterShort | 0.002 | 0.001 | 0.004 | |
| addClusterComp | 0.320 | 0.015 | 0.337 | |
| alluvialPlot | 0.600 | 0.025 | 0.629 | |
| assignCellTypesToInteractions | 0.729 | 0.044 | 0.790 | |
| bubblePlotPathwaysLR | 0.540 | 0.007 | 0.548 | |
| cacheClear | 3.642 | 0.233 | 7.426 | |
| cacheInfo | 0.104 | 0.008 | 0.111 | |
| cacheVersion | 0.313 | 0.035 | 0.694 | |
| cellTypeFrequency | 0.712 | 0.020 | 0.735 | |
| cellularNetwork | 0.654 | 0.027 | 0.686 | |
| cellularNetworkTable | 0.627 | 0.019 | 0.649 | |
| chordDiagramLR | 1.272 | 0.016 | 1.295 | |
| coerce | 0.001 | 0.000 | 0.001 | |
| colClusterA | 0.000 | 0.001 | 0.001 | |
| colClusterB | 0.000 | 0.000 | 0.001 | |
| comparison | 0.000 | 0.000 | 0.001 | |
| comparisonName | 0 | 0 | 0 | |
| convertToHuman | 0.205 | 0.011 | 3.776 | |
| createResources | 0.279 | 0.035 | 0.925 | |
| differentialStats | 0.001 | 0.000 | 0.000 | |
| findOrthoGenes | 0.123 | 0.002 | 0.286 | |
| generateSpatialPlots | 1.820 | 0.042 | 1.868 | |
| getLRIntracellNetwork | 2.006 | 0.173 | 2.191 | |
| getLRNetwork | 0.033 | 0.002 | 0.035 | |
| getPathwayStats | 0.015 | 0.001 | 0.016 | |
| getResource | 0.296 | 0.017 | 0.315 | |
| inferenceParameters | 0.000 | 0.000 | 0.001 | |
| initialOrganism | 0.001 | 0.000 | 0.003 | |
| initialOrthologs | 0.002 | 0.001 | 0.002 | |
| learnParameters | 2.796 | 0.037 | 2.846 | |
| ligands | 0.000 | 0.001 | 0.000 | |
| logTransformed | 0.001 | 0.000 | 0.002 | |
| maxLigandSpatialCounts | 0.054 | 0.002 | 0.058 | |
| mu | 0.001 | 0.000 | 0.000 | |
| ncounts | 0.001 | 0.000 | 0.002 | |
| normalization | 0.001 | 0.000 | 0.002 | |
| parameters | 0.001 | 0.001 | 0.002 | |
| pathways | 0 | 0 | 0 | |
| receptors | 0.000 | 0.000 | 0.001 | |
| reduceToBestPathway | 0.098 | 0.004 | 0.102 | |
| reduceToLigand | 0.040 | 0.002 | 0.043 | |
| reduceToPathway | 0.094 | 0.002 | 0.097 | |
| reduceToReceptor | 0.014 | 0.002 | 0.015 | |
| relateToGeneSet | 0.105 | 0.009 | 0.115 | |
| removeClusterComp | 0.346 | 0.009 | 0.358 | |
| rescoreInference | 0.031 | 0.003 | 0.035 | |
| resetLRdb | 0.026 | 0.000 | 0.027 | |
| resetNetwork | 0.007 | 0.000 | 0.007 | |
| resetPathways | 0.322 | 0.015 | 0.340 | |
| resetToInitialOrganism | 0.172 | 0.006 | 0.178 | |
| scoreLRGeneSignatures | 1.295 | 0.042 | 1.348 | |
| scoreSignatures | 0.404 | 0.010 | 0.420 | |
| separatedLRPlot | 1.950 | 0.043 | 2.008 | |
| signatureHeatmaps | 0.023 | 0.002 | 0.025 | |
| simpleHeatmap | 7.003 | 0.395 | 7.470 | |
| smoothSpatialCounts | 0.050 | 0.011 | 0.060 | |
| sourceComparisonName | 0.001 | 0.000 | 0.000 | |
| spatialAssociation | 0.058 | 0.024 | 0.082 | |
| spatialAssociationPlot | 3.774 | 0.080 | 3.871 | |
| spatialDiversityPlot | 0.961 | 0.024 | 0.993 | |
| spatialIndexPlot | 1.630 | 0.028 | 1.667 | |
| spatialPlot | 1.404 | 0.030 | 1.443 | |
| summarizedCellularNetwork | 0.628 | 0.020 | 0.651 | |
| tgCorr | 0.001 | 0.000 | 0.000 | |
| tgExpr | 0.000 | 0.000 | 0.001 | |
| tgGenes | 0 | 0 | 0 | |
| tgLogFC | 0.001 | 0.000 | 0.000 | |
| tgPval | 0 | 0 | 0 | |
| updateInference | 0.086 | 0.002 | 0.089 | |