Back to Long Tests report for BioC 3.21 |
This page was generated on 2025-04-19 23:55 -0400 (Sat, 19 Apr 2025).
QUICK STATS | OS / Arch | CHECK | |||||||
nebbiolo1 | Linux (Ubuntu 24.04.1 LTS) / x86_64 |
| |||||||
palomino7 | Windows Server 2022 Datacenter / x64 |
| |||||||
lconway | macOS 12.7.1 Monterey / x86_64 |
| |||||||
Package | Maintainer | CHECK | |||||||
1/30 | APAlyzer 1.22.0 (landing page) | Ruijia Wang | ERROR | ||||||
2/30 | autonomics 1.16.0 (landing page) | Aditya Bhagwat | ERROR | ||||||
3/30 | basilisk 1.20.0 (landing page) | Aaron Lun | OK | ||||||
4/30 | beachmat 2.24.0 (landing page) | Aaron Lun | WARNINGS | ||||||
5/30 | biodb 1.16.0 (landing page) | Pierrick Roger | OK | ||||||
6/30 | biodbChebi 1.14.0 (landing page) | Pierrick Roger | OK | ||||||
7/30 | biodbHmdb 1.14.0 (landing page) | Pierrick Roger | WARNINGS | ||||||
8/30 | biodbNcbi 1.12.0 (landing page) | Pierrick Roger | WARNINGS | ||||||
9/30 | biodbNci 1.12.0 (landing page) | Pierrick Roger | OK | ||||||
10/30 | biodbUniprot 1.14.0 (landing page) | Pierrick Roger | OK | ||||||
11/30 | cBioPortalData 2.20.0 (landing page) | Marcel Ramos | ERROR | ||||||
12/30 | ChromSCape 1.18.0 (landing page) | Pacome Prompsy | ERROR | ||||||
13/30 | clusterExperiment 2.28.0 (landing page) | Elizabeth Purdom | ERROR | ||||||
14/30 | CRISPRball 1.4.0 (landing page) | Jared Andrews | OK | ||||||
15/30 | crisprScore 1.12.0 (landing page) | Jean-Philippe Fortin | OK | ||||||
16/30 | DelayedMatrixStats 1.30.0 (landing page) | Peter Hickey | OK | ||||||
17/30 | DropletUtils 1.28.0 (landing page) | Jonathan Griffiths | OK | ||||||
18/30 | EpiMix 1.10.0 (landing page) | Yuanning Zheng | OK | ||||||
19/30 | extraChIPs 1.12.0 (landing page) | Stevie Pederson | OK | ||||||
20/30 | GenomicFeatures 1.60.0 (landing page) | H. Pagès | WARNINGS | ||||||
21/30 | ginmappeR 1.4.0 (landing page) | Fernando Sola | ERROR | ||||||
22/30 | HDF5Array 1.36.0 (landing page) | Hervé Pagès | OK | ||||||
23/30 | midasHLA 1.16.0 (landing page) | Maciej Migdał | ERROR | ||||||
24/30 | mosdef 1.4.0 (landing page) | Federico Marini | OK | ||||||
25/30 | MungeSumstats 1.16.0 (landing page) | Alan Murphy | ERROR | ||||||
26/30 | rhdf5 2.52.0 (landing page) | Mike Smith | OK | ||||||
27/30 | SimBu 1.10.0 (landing page) | Alexander Dietrich | OK | ||||||
28/30 | TENxIO 1.10.0 (landing page) | Marcel Ramos | OK | ||||||
29/30 | xcms 4.6.0 (landing page) | Steffen Neumann | ERROR | ||||||
30/30 | zellkonverter 1.18.0 (landing page) | Luke Zappia | OK |