| Back to Long Tests report for BioC 3.21 | 
This page was generated on 2025-04-19 23:55 -0400 (Sat, 19 Apr 2025).
| Hostname | OS | Arch (*) | R version | Installed pkgs | 
|---|---|---|---|---|
| nebbiolo1 | Linux (Ubuntu 24.04.1 LTS) | x86_64 | 4.5.0 RC (2025-04-04 r88126) -- "How About a Twenty-Six" | 4831 | 
| palomino7 | Windows Server 2022 Datacenter | x64 | 4.5.0 RC (2025-04-04 r88126 ucrt) -- "How About a Twenty-Six" | 4573 | 
| lconway | macOS 12.7.1 Monterey | x86_64 | 4.5.0 RC (2025-04-04 r88126) -- "How About a Twenty-Six" | 4599 | 
| Click on any hostname to see more info about the system (e.g. compilers) (*) as reported by 'uname -p', except on Windows and Mac OS X | ||||
| Package 11/30 | Hostname | OS / Arch | CHECK | |||||||
| cBioPortalData 2.20.0  (landing page) Marcel Ramos 
 | nebbiolo1 | Linux (Ubuntu 24.04.1 LTS) / x86_64 | ERROR | |||||||
| palomino7 | Windows Server 2022 Datacenter / x64 | ERROR | ||||||||
| lconway | macOS 12.7.1 Monterey / x86_64 | ERROR | ||||||||
| To the developers/maintainers of the cBioPortalData package: - Use the following Renviron settings to reproduce errors and warnings. - If 'R CMD check' started to fail recently on the Linux builder(s) over a missing dependency, add the missing dependency to 'Suggests:' in your DESCRIPTION file. See Renviron.bioc for more information. | 
| Package: cBioPortalData | 
| Version: 2.20.0 | 
| Command: /Library/Frameworks/R.framework/Resources/bin/R CMD check --test-dir=longtests --no-stop-on-test-error --no-codoc --no-examples --no-manual --ignore-vignettes --check-subdirs=no cBioPortalData_2.20.0.tar.gz | 
| StartedAt: 2025-04-19 16:03:29 -0400 (Sat, 19 Apr 2025) | 
| EndedAt: 2025-04-19 19:31:03 -0400 (Sat, 19 Apr 2025) | 
| EllapsedTime: 12453.8 seconds | 
| RetCode: 1 | 
| Status: ERROR | 
| CheckDir: cBioPortalData.Rcheck | 
| Warnings: NA | 
cBioPortalData.Rcheck/tests/testthat.Rout.fail
R version 4.5.0 RC (2025-04-04 r88126) -- "How About a Twenty-Six"
Copyright (C) 2025 The R Foundation for Statistical Computing
Platform: x86_64-apple-darwin20
R is free software and comes with ABSOLUTELY NO WARRANTY.
You are welcome to redistribute it under certain conditions.
Type 'license()' or 'licence()' for distribution details.
R is a collaborative project with many contributors.
Type 'contributors()' for more information and
'citation()' on how to cite R or R packages in publications.
Type 'demo()' for some demos, 'help()' for on-line help, or
'help.start()' for an HTML browser interface to help.
Type 'q()' to quit R.
> library(testthat)
> library(cBioPortalData)
Loading required package: AnVIL
Loading required package: dplyr
Attaching package: 'dplyr'
The following object is masked from 'package:testthat':
    matches
The following objects are masked from 'package:stats':
    filter, lag
The following objects are masked from 'package:base':
    intersect, setdiff, setequal, union
Loading required package: AnVILBase
Loading required package: MultiAssayExperiment
Loading required package: SummarizedExperiment
Loading required package: MatrixGenerics
Loading required package: matrixStats
Attaching package: 'matrixStats'
The following object is masked from 'package:dplyr':
    count
Attaching package: 'MatrixGenerics'
The following objects are masked from 'package:matrixStats':
    colAlls, colAnyNAs, colAnys, colAvgsPerRowSet, colCollapse,
    colCounts, colCummaxs, colCummins, colCumprods, colCumsums,
    colDiffs, colIQRDiffs, colIQRs, colLogSumExps, colMadDiffs,
    colMads, colMaxs, colMeans2, colMedians, colMins, colOrderStats,
    colProds, colQuantiles, colRanges, colRanks, colSdDiffs, colSds,
    colSums2, colTabulates, colVarDiffs, colVars, colWeightedMads,
    colWeightedMeans, colWeightedMedians, colWeightedSds,
    colWeightedVars, rowAlls, rowAnyNAs, rowAnys, rowAvgsPerColSet,
    rowCollapse, rowCounts, rowCummaxs, rowCummins, rowCumprods,
    rowCumsums, rowDiffs, rowIQRDiffs, rowIQRs, rowLogSumExps,
    rowMadDiffs, rowMads, rowMaxs, rowMeans2, rowMedians, rowMins,
    rowOrderStats, rowProds, rowQuantiles, rowRanges, rowRanks,
    rowSdDiffs, rowSds, rowSums2, rowTabulates, rowVarDiffs, rowVars,
    rowWeightedMads, rowWeightedMeans, rowWeightedMedians,
    rowWeightedSds, rowWeightedVars
Loading required package: GenomicRanges
Loading required package: stats4
Loading required package: BiocGenerics
Loading required package: generics
Attaching package: 'generics'
The following object is masked from 'package:dplyr':
    explain
The following objects are masked from 'package:base':
    as.difftime, as.factor, as.ordered, intersect, is.element, setdiff,
    setequal, union
Attaching package: 'BiocGenerics'
The following object is masked from 'package:dplyr':
    combine
The following objects are masked from 'package:stats':
    IQR, mad, sd, var, xtabs
The following objects are masked from 'package:base':
    Filter, Find, Map, Position, Reduce, anyDuplicated, aperm, append,
    as.data.frame, basename, cbind, colnames, dirname, do.call,
    duplicated, eval, evalq, get, grep, grepl, is.unsorted, lapply,
    mapply, match, mget, order, paste, pmax, pmax.int, pmin, pmin.int,
    rank, rbind, rownames, sapply, saveRDS, table, tapply, unique,
    unsplit, which.max, which.min
Loading required package: S4Vectors
Attaching package: 'S4Vectors'
The following objects are masked from 'package:dplyr':
    first, rename
The following object is masked from 'package:utils':
    findMatches
The following objects are masked from 'package:base':
    I, expand.grid, unname
Loading required package: IRanges
Attaching package: 'IRanges'
The following objects are masked from 'package:dplyr':
    collapse, desc, slice
Loading required package: GenomeInfoDb
Loading required package: Biobase
Welcome to Bioconductor
    Vignettes contain introductory material; view with
    'browseVignettes()'. To cite Bioconductor, see
    'citation("Biobase")', and for packages 'citation("pkgname")'.
Attaching package: 'Biobase'
The following object is masked from 'package:MatrixGenerics':
    rowMedians
The following objects are masked from 'package:matrixStats':
    anyMissing, rowMedians
> 
> test_check("cBioPortalData")
Error in read.table(file = file, header = header, sep = sep, quote = quote,  : 
  more columns than column names
Error in TCGAutils::uniformBuilds(x[[ncbi]]) : 
  Frequency of NA values higher than the cutoff tolerance
Error in TCGAutils::uniformBuilds(x[[ncbi]]) : 
  Frequency of NA values higher than the cutoff tolerance
Error in read.table(file = file, header = header, sep = sep, quote = quote,  : 
  more columns than column names
Error in read.table(file = file, header = header, sep = sep, quote = quote,  : 
  more columns than column names
Error in TCGAutils::uniformBuilds(x[[ncbi]]) : 
  Frequency of NA values higher than the cutoff tolerance
Error in TCGAutils::uniformBuilds(x[[ncbi]]) : 
  Frequency of NA values higher than the cutoff tolerance
Error in validObject(.Object) : invalid class "ExperimentList" object: 
    ExperimentList elements must be named
Error in utils::download.file(fileURL, destfile = tmpFile, quiet = TRUE,  : 
  'wget' call had nonzero exit status
Error in utils::download.file(fileURL, destfile = tmpFile, quiet = TRUE,  : 
  'wget' call had nonzero exit status
Error in utils::download.file(fileURL, destfile = tmpFile, quiet = TRUE,  : 
  'wget' call had nonzero exit status
Error in utils::download.file(fileURL, destfile = tmpFile, quiet = TRUE,  : 
  'wget' call had nonzero exit status
Error in read.table(file = file, header = header, sep = sep, quote = quote,  : 
  more columns than column names
Error in read.table(file = file, header = header, sep = sep, quote = quote,  : 
  more columns than column names
Error in read.table(file = file, header = header, sep = sep, quote = quote,  : 
  more columns than column names
Error in validObject(.Object) : invalid class "ExperimentList" object: 
    Non-unique names provided
Error in strsplit(hugos, "|", TRUE) : non-character argument
Error in strsplit(hugos, "|", TRUE) : non-character argument
Error in read.table(file = file, header = header, sep = sep, quote = quote,  : 
  more columns than column names
Error in validObject(.Object) : invalid class "ExperimentList" object: 
    Non-unique names provided
Error in read.table(file = file, header = header, sep = sep, quote = quote,  : 
  more columns than column names
Error in read.table(file = file, header = header, sep = sep, quote = quote,  : 
  more columns than column names
Error in read.table(file = file, header = header, sep = sep, quote = quote,  : 
  more columns than column names
Error in utils::download.file(fileURL, destfile = tmpFile, quiet = TRUE,  : 
  'wget' call had nonzero exit status
Error in utils::download.file(fileURL, destfile = tmpFile, quiet = TRUE,  : 
  'wget' call had nonzero exit status
Error in utils::download.file(fileURL, destfile = tmpFile, quiet = TRUE,  : 
  'wget' call had nonzero exit status
Error in utils::download.file(fileURL, destfile = tmpFile, quiet = TRUE,  : 
  'wget' call had nonzero exit status
Error in utils::download.file(fileURL, destfile = tmpFile, quiet = TRUE,  : 
  'wget' call had nonzero exit status
Error in utils::download.file(fileURL, destfile = tmpFile, quiet = TRUE,  : 
  'wget' call had nonzero exit status
Error in utils::download.file(fileURL, destfile = tmpFile, quiet = TRUE,  : 
  'wget' call had nonzero exit status
Error in utils::download.file(fileURL, destfile = tmpFile, quiet = TRUE,  : 
  'wget' call had nonzero exit status
Error in validObject(.Object) : invalid class "ExperimentList" object: 
    ExperimentList elements must be named
Error in utils::download.file(fileURL, destfile = tmpFile, quiet = TRUE,  : 
  'wget' call had nonzero exit status
Error in utils::download.file(fileURL, destfile = tmpFile, quiet = TRUE,  : 
  'wget' call had nonzero exit status
Error in utils::download.file(fileURL, destfile = tmpFile, quiet = TRUE,  : 
  'wget' call had nonzero exit status
Error in .checkFixSampleMap(sampleMap) : 
  'sampleMap' does not have required columns
Error in .checkFixSampleMap(sampleMap) : 
  'sampleMap' does not have required columns
Error in .checkFixSampleMap(sampleMap) : 
  'sampleMap' does not have required columns
Error in .checkFixSampleMap(sampleMap) : 
  'sampleMap' does not have required columns
Error in .checkFixSampleMap(sampleMap) : 
  'sampleMap' does not have required columns
Error in .checkFixSampleMap(sampleMap) : 
  'sampleMap' does not have required columns
Error in .checkFixSampleMap(sampleMap) : 
  'sampleMap' does not have required columns
Error in .checkFixSampleMap(sampleMap) : 
  'sampleMap' does not have required columns
Error in .checkFixSampleMap(sampleMap) : 
  'sampleMap' does not have required columns
Error in .checkFixSampleMap(sampleMap) : 
  'sampleMap' does not have required columns
Error in .checkFixSampleMap(sampleMap) : 
  'sampleMap' does not have required columns
Error in .checkFixSampleMap(sampleMap) : 
  'sampleMap' does not have required columns
Error in .checkFixSampleMap(sampleMap) : 
  'sampleMap' does not have required columns
Error in .checkFixSampleMap(sampleMap) : 
  'sampleMap' does not have required columns
Error in .checkFixSampleMap(sampleMap) : 
  'sampleMap' does not have required columns
Error in .checkFixSampleMap(sampleMap) : 
  'sampleMap' does not have required columns
Error in .checkFixSampleMap(sampleMap) : 
  'sampleMap' does not have required columns
Error in .checkFixSampleMap(sampleMap) : 
  'sampleMap' does not have required columns
Error in .checkFixSampleMap(sampleMap) : 
  'sampleMap' does not have required columns
Error in .checkFixSampleMap(sampleMap) : 
  'sampleMap' does not have required columns
Error in .checkFixSampleMap(sampleMap) : 
  'sampleMap' does not have required columns
Error in .checkFixSampleMap(sampleMap) : 
  'sampleMap' does not have required columns
Error in .checkFixSampleMap(sampleMap) : 
  'sampleMap' does not have required columns
Error in .checkFixSampleMap(sampleMap) : 
  'sampleMap' does not have required columns
Error in .checkFixSampleMap(sampleMap) : 
  'sampleMap' does not have required columns
Error in .checkFixSampleMap(sampleMap) : 
  'sampleMap' does not have required columns
Error in .checkFixSampleMap(sampleMap) : 
  'sampleMap' does not have required columns
Error in .checkFixSampleMap(sampleMap) : 
  'sampleMap' does not have required columns
Error in .checkFixSampleMap(sampleMap) : 
  'sampleMap' does not have required columns
Error in .checkFixSampleMap(sampleMap) : 
  'sampleMap' does not have required columns
Error in .checkFixSampleMap(sampleMap) : 
  'sampleMap' does not have required columns
Error in .checkFixSampleMap(sampleMap) : 
  'sampleMap' does not have required columns
Error in .checkFixSampleMap(sampleMap) : 
  'sampleMap' does not have required columns
Error in .checkFixSampleMap(sampleMap) : 
  'sampleMap' does not have required columns
Error in .checkFixSampleMap(sampleMap) : 
  'sampleMap' does not have required columns
Error in .checkFixSampleMap(sampleMap) : 
  'sampleMap' does not have required columns
Error in .checkFixSampleMap(sampleMap) : 
  'sampleMap' does not have required columns
Error in .checkFixSampleMap(sampleMap) : 
  'sampleMap' does not have required columns
Error in .checkFixSampleMap(sampleMap) : 
  'sampleMap' does not have required columns
Error in .checkFixSampleMap(sampleMap) : 
  'sampleMap' does not have required columns
Error in .checkFixSampleMap(sampleMap) : 
  'sampleMap' does not have required columns
Error in .checkFixSampleMap(sampleMap) : 
  'sampleMap' does not have required columns
Error in .checkFixSampleMap(sampleMap) : 
  'sampleMap' does not have required columns
Error in .checkFixSampleMap(sampleMap) : 
  'sampleMap' does not have required columns
Error in .checkFixSampleMap(sampleMap) : 
  'sampleMap' does not have required columns
Error in .checkFixSampleMap(sampleMap) : 
  'sampleMap' does not have required columns
Error in .checkFixSampleMap(sampleMap) : 
  'sampleMap' does not have required columns
Error in .checkFixSampleMap(sampleMap) : 
  'sampleMap' does not have required columns
Error in .checkFixSampleMap(sampleMap) : 
  'sampleMap' does not have required columns
Error in .checkFixSampleMap(sampleMap) : 
  'sampleMap' does not have required columns
Error in .checkFixSampleMap(sampleMap) : 
  'sampleMap' does not have required columns
Error in .checkFixSampleMap(sampleMap) : 
  'sampleMap' does not have required columns
Error in .checkFixSampleMap(sampleMap) : 
  'sampleMap' does not have required columns
Error in .checkFixSampleMap(sampleMap) : 
  'sampleMap' does not have required columns
Error in .checkFixSampleMap(sampleMap) : 
  'sampleMap' does not have required columns
Error in .checkFixSampleMap(sampleMap) : 
  'sampleMap' does not have required columns
Error in .checkFixSampleMap(sampleMap) : 
  'sampleMap' does not have required columns
Error in .checkFixSampleMap(sampleMap) : 
  'sampleMap' does not have required columns
Error in .checkFixSampleMap(sampleMap) : 
  'sampleMap' does not have required columns
Error in .checkFixSampleMap(sampleMap) : 
  'sampleMap' does not have required columns
Error in .checkFixSampleMap(sampleMap) : 
  'sampleMap' does not have required columns
Error in .checkFixSampleMap(sampleMap) : 
  'sampleMap' does not have required columns
Error in .checkFixSampleMap(sampleMap) : 
  'sampleMap' does not have required columns
Error in .checkFixSampleMap(sampleMap) : 
  'sampleMap' does not have required columns
Error in .checkFixSampleMap(sampleMap) : 
  'sampleMap' does not have required columns
Error in .checkFixSampleMap(sampleMap) : 
  'sampleMap' does not have required columns
Error in .checkFixSampleMap(sampleMap) : 
  'sampleMap' does not have required columns
Error in .checkFixSampleMap(sampleMap) : 
  'sampleMap' does not have required columns
Error in .checkFixSampleMap(sampleMap) : 
  'sampleMap' does not have required columns
Error in .checkFixSampleMap(sampleMap) : 
  'sampleMap' does not have required columns
Error in .checkFixSampleMap(sampleMap) : 
  'sampleMap' does not have required columns
Error in .checkFixSampleMap(sampleMap) : 
  'sampleMap' does not have required columns
Error in .checkFixSampleMap(sampleMap) : 
  'sampleMap' does not have required columns
Error in .checkFixSampleMap(sampleMap) : 
  'sampleMap' does not have required columns
Error in .checkFixSampleMap(sampleMap) : 
  'sampleMap' does not have required columns
Error in .checkFixSampleMap(sampleMap) : 
  'sampleMap' does not have required columns
Error in .checkFixSampleMap(sampleMap) : 
  'sampleMap' does not have required columns
Error in .checkFixSampleMap(sampleMap) : 
  'sampleMap' does not have required columns
Error in .checkFixSampleMap(sampleMap) : 
  'sampleMap' does not have required columns
Error in .checkFixSampleMap(sampleMap) : 
  'sampleMap' does not have required columns
Error in .checkFixSampleMap(sampleMap) : 
  'sampleMap' does not have required columns
Error in .checkFixSampleMap(sampleMap) : 
  'sampleMap' does not have required columns
Error in .checkFixSampleMap(sampleMap) : 
  'sampleMap' does not have required columns
Error in .checkFixSampleMap(sampleMap) : 
  'sampleMap' does not have required columns
Error in .checkFixSampleMap(sampleMap) : 
  'sampleMap' does not have required columns
Error in .checkFixSampleMap(sampleMap) : 
  'sampleMap' does not have required columns
Error in .checkFixSampleMap(sampleMap) : 
  'sampleMap' does not have required columns
Error in .checkFixSampleMap(sampleMap) : 
  'sampleMap' does not have required columns
Error in .checkFixSampleMap(sampleMap) : 
  'sampleMap' does not have required columns
Error in .checkFixSampleMap(sampleMap) : 
  'sampleMap' does not have required columns
Error in .checkFixSampleMap(sampleMap) : 
  'sampleMap' does not have required columns
Error in .checkFixSampleMap(sampleMap) : 
  'sampleMap' does not have required columns
Error in .checkFixSampleMap(sampleMap) : 
  'sampleMap' does not have required columns
Error in .checkFixSampleMap(sampleMap) : 
  'sampleMap' does not have required columns
Error in .checkFixSampleMap(sampleMap) : 
  'sampleMap' does not have required columns
Error in .checkFixSampleMap(sampleMap) : 
  'sampleMap' does not have required columns
Error in .checkFixSampleMap(sampleMap) : 
  'sampleMap' does not have required columns
Error in .checkFixSampleMap(sampleMap) : 
  'sampleMap' does not have required columns
Error in .checkFixSampleMap(sampleMap) : 
  'sampleMap' does not have required columns
Error in .checkFixSampleMap(sampleMap) : 
  'sampleMap' does not have required columns
Error in .checkFixSampleMap(sampleMap) : 
  'sampleMap' does not have required columns
Error in .checkFixSampleMap(sampleMap) : 
  'sampleMap' does not have required columns
Error in .checkFixSampleMap(sampleMap) : 
  'sampleMap' does not have required columns
Error in .checkFixSampleMap(sampleMap) : 
  'sampleMap' does not have required columns
Error in .checkFixSampleMap(sampleMap) : 
  'sampleMap' does not have required columns
Error in .checkFixSampleMap(sampleMap) : 
  'sampleMap' does not have required columns
Error in .checkFixSampleMap(sampleMap) : 
  'sampleMap' does not have required columns
Error in .checkFixSampleMap(sampleMap) : 
  'sampleMap' does not have required columns
Error in .checkFixSampleMap(sampleMap) : 
  'sampleMap' does not have required columns
Error in .checkFixSampleMap(sampleMap) : 
  'sampleMap' does not have required columns
Error in .checkFixSampleMap(sampleMap) : 
  'sampleMap' does not have required columns
Error in .checkFixSampleMap(sampleMap) : 
  'sampleMap' does not have required columns
Error in .checkFixSampleMap(sampleMap) : 
  'sampleMap' does not have required columns
Error in .checkFixSampleMap(sampleMap) : 
  'sampleMap' does not have required columns
Error in .checkFixSampleMap(sampleMap) : 
  'sampleMap' does not have required columns
Error in .checkFixSampleMap(sampleMap) : 
  'sampleMap' does not have required columns
Error in .checkFixSampleMap(sampleMap) : 
  'sampleMap' does not have required columns
Error in .checkFixSampleMap(sampleMap) : 
  'sampleMap' does not have required columns
Error in .checkFixSampleMap(sampleMap) : 
  'sampleMap' does not have required columns
Error in .checkFixSampleMap(sampleMap) : 
  'sampleMap' does not have required columns
Error in .checkFixSampleMap(sampleMap) : 
  'sampleMap' does not have required columns
Error in .checkFixSampleMap(sampleMap) : 
  'sampleMap' does not have required columns
Error in .checkFixSampleMap(sampleMap) : 
  'sampleMap' does not have required columns
Error in .checkFixSampleMap(sampleMap) : 
  'sampleMap' does not have required columns
Error in .checkFixSampleMap(sampleMap) : 
  'sampleMap' does not have required columns
Error in .checkFixSampleMap(sampleMap) : 
  'sampleMap' does not have required columns
Error in .checkFixSampleMap(sampleMap) : 
  'sampleMap' does not have required columns
Error in .checkFixSampleMap(sampleMap) : 
  'sampleMap' does not have required columns
Error in .checkFixSampleMap(sampleMap) : 
  'sampleMap' does not have required columns
Error in .checkFixSampleMap(sampleMap) : 
  'sampleMap' does not have required columns
Error in .checkFixSampleMap(sampleMap) : 
  'sampleMap' does not have required columns
Error in .checkFixSampleMap(sampleMap) : 
  'sampleMap' does not have required columns
Error in .checkFixSampleMap(sampleMap) : 
  'sampleMap' does not have required columns
Error in .checkFixSampleMap(sampleMap) : 
  'sampleMap' does not have required columns
Error in .checkFixSampleMap(sampleMap) : 
  'sampleMap' does not have required columns
Error in .checkFixSampleMap(sampleMap) : 
  'sampleMap' does not have required columns
Error in .checkFixSampleMap(sampleMap) : 
  'sampleMap' does not have required columns
Error in .checkFixSampleMap(sampleMap) : 
  'sampleMap' does not have required columns
Error in .checkFixSampleMap(sampleMap) : 
  'sampleMap' does not have required columns
Error in .checkFixSampleMap(sampleMap) : 
  'sampleMap' does not have required columns
Error in .checkFixSampleMap(sampleMap) : 
  'sampleMap' does not have required columns
Error in .checkFixSampleMap(sampleMap) : 
  'sampleMap' does not have required columns
Error in .checkFixSampleMap(sampleMap) : 
  'sampleMap' does not have required columns
Error in .checkFixSampleMap(sampleMap) : 
  'sampleMap' does not have required columns
Error in .checkFixSampleMap(sampleMap) : 
  'sampleMap' does not have required columns
Error in .checkFixSampleMap(sampleMap) : 
  'sampleMap' does not have required columns
Error in .checkFixSampleMap(sampleMap) : 
  'sampleMap' does not have required columns
Error in .checkFixSampleMap(sampleMap) : 
  'sampleMap' does not have required columns
Error in .checkFixSampleMap(sampleMap) : 
  'sampleMap' does not have required columns
Error in .checkFixSampleMap(sampleMap) : 
  'sampleMap' does not have required columns
Error in .checkFixSampleMap(sampleMap) : 
  'sampleMap' does not have required columns
Error in .checkFixSampleMap(sampleMap) : 
  'sampleMap' does not have required columns
Error in .checkFixSampleMap(sampleMap) : 
  'sampleMap' does not have required columns
Error in .checkFixSampleMap(sampleMap) : 
  'sampleMap' does not have required columns
Error in .checkFixSampleMap(sampleMap) : 
  'sampleMap' does not have required columns
Error in .checkFixSampleMap(sampleMap) : 
  'sampleMap' does not have required columns
Error in .checkFixSampleMap(sampleMap) : 
  'sampleMap' does not have required columns
Error in .checkFixSampleMap(sampleMap) : 
  'sampleMap' does not have required columns
Error in .checkFixSampleMap(sampleMap) : 
  'sampleMap' does not have required columns
Error in .checkFixSampleMap(sampleMap) : 
  'sampleMap' does not have required columns
Error in .checkFixSampleMap(sampleMap) : 
  'sampleMap' does not have required columns
Error in .checkFixSampleMap(sampleMap) : 
  'sampleMap' does not have required columns
Error in .checkFixSampleMap(sampleMap) : 
  'sampleMap' does not have required columns
Error in .checkFixSampleMap(sampleMap) : 
  'sampleMap' does not have required columns
Error in .checkFixSampleMap(sampleMap) : 
  'sampleMap' does not have required columns
Error in .checkFixSampleMap(sampleMap) : 
  'sampleMap' does not have required columns
Error in .checkFixSampleMap(sampleMap) : 
  'sampleMap' does not have required columns
Error in .checkFixSampleMap(sampleMap) : 
  'sampleMap' does not have required columns
Error in .checkFixSampleMap(sampleMap) : 
  'sampleMap' does not have required columns
Error in .checkFixSampleMap(sampleMap) : 
  'sampleMap' does not have required columns
Error in .checkFixSampleMap(sampleMap) : 
  'sampleMap' does not have required columns
Error in .checkFixSampleMap(sampleMap) : 
  'sampleMap' does not have required columns
Error in .checkFixSampleMap(sampleMap) : 
  'sampleMap' does not have required columns
Error in .checkFixSampleMap(sampleMap) : 
  'sampleMap' does not have required columns
Error in .checkFixSampleMap(sampleMap) : 
  'sampleMap' does not have required columns
Error in .checkFixSampleMap(sampleMap) : 
  'sampleMap' does not have required columns
Error in .checkFixSampleMap(sampleMap) : 
  'sampleMap' does not have required columns
Error in .checkFixSampleMap(sampleMap) : 
  'sampleMap' does not have required columns
Error in .checkFixSampleMap(sampleMap) : 
  'sampleMap' does not have required columns
Error in .checkFixSampleMap(sampleMap) : 
  'sampleMap' does not have required columns
Error in .checkFixSampleMap(sampleMap) : 
  'sampleMap' does not have required columns
Error in .checkFixSampleMap(sampleMap) : 
  'sampleMap' does not have required columns
Error in .checkFixSampleMap(sampleMap) : 
  'sampleMap' does not have required columns
Error in .checkFixSampleMap(sampleMap) : 
  'sampleMap' does not have required columns
Error in .checkFixSampleMap(sampleMap) : 
  'sampleMap' does not have required columns
Error in .checkFixSampleMap(sampleMap) : 
  'sampleMap' does not have required columns
Error in .checkFixSampleMap(sampleMap) : 
  'sampleMap' does not have required columns
Error in .checkFixSampleMap(sampleMap) : 
  'sampleMap' does not have required columns
Error in .checkFixSampleMap(sampleMap) : 
  'sampleMap' does not have required columns
Error in .checkFixSampleMap(sampleMap) : 
  'sampleMap' does not have required columns
Error in .checkFixSampleMap(sampleMap) : 
  'sampleMap' does not have required columns
Error in .checkFixSampleMap(sampleMap) : 
  'sampleMap' does not have required columns
Error in .checkFixSampleMap(sampleMap) : 
  'sampleMap' does not have required columns
Error in .checkFixSampleMap(sampleMap) : 
  'sampleMap' does not have required columns
Error in .checkFixSampleMap(sampleMap) : 
  'sampleMap' does not have required columns
Error in .checkFixSampleMap(sampleMap) : 
  'sampleMap' does not have required columns
Error in .checkFixSampleMap(sampleMap) : 
  'sampleMap' does not have required columns
Error in .checkFixSampleMap(sampleMap) : 
  'sampleMap' does not have required columns
Error in .checkFixSampleMap(sampleMap) : 
  'sampleMap' does not have required columns
Error in .checkFixSampleMap(sampleMap) : 
  'sampleMap' does not have required columns
Error in .checkFixSampleMap(sampleMap) : 
  'sampleMap' does not have required columns
Error in .checkFixSampleMap(sampleMap) : 
  'sampleMap' does not have required columns
Error in .checkFixSampleMap(sampleMap) : 
  'sampleMap' does not have required columns
Error in .checkFixSampleMap(sampleMap) : 
  'sampleMap' does not have required columns
Error in .checkFixSampleMap(sampleMap) : 
  'sampleMap' does not have required columns
Error in .checkFixSampleMap(sampleMap) : 
  'sampleMap' does not have required columns
Error in .checkFixSampleMap(sampleMap) : 
  'sampleMap' does not have required columns
Error in .checkFixSampleMap(sampleMap) : 
  'sampleMap' does not have required columns
Error in .checkFixSampleMap(sampleMap) : 
  'sampleMap' does not have required columns
Error in .checkFixSampleMap(sampleMap) : 
  'sampleMap' does not have required columns
Error in .checkFixSampleMap(sampleMap) : 
  'sampleMap' does not have required columns
Error in .checkFixSampleMap(sampleMap) : 
  'sampleMap' does not have required columns
Error in .checkFixSampleMap(sampleMap) : 
  'sampleMap' does not have required columns
Error in .checkFixSampleMap(sampleMap) : 
  'sampleMap' does not have required columns
Error in .checkFixSampleMap(sampleMap) : 
  'sampleMap' does not have required columns
Error in .checkFixSampleMap(sampleMap) : 
  'sampleMap' does not have required columns
Error in .checkFixSampleMap(sampleMap) : 
  'sampleMap' does not have required columns
Error in .checkFixSampleMap(sampleMap) : 
  'sampleMap' does not have required columns
Error in .checkFixSampleMap(sampleMap) : 
  'sampleMap' does not have required columns
Error in .checkFixSampleMap(sampleMap) : 
  'sampleMap' does not have required columns
Error in .checkFixSampleMap(sampleMap) : 
  'sampleMap' does not have required columns
Error in .checkFixSampleMap(sampleMap) : 
  'sampleMap' does not have required columns
Error in .checkFixSampleMap(sampleMap) : 
  'sampleMap' does not have required columns
Error in .checkFixSampleMap(sampleMap) : 
  'sampleMap' does not have required columns
Error in .checkFixSampleMap(sampleMap) : 
  'sampleMap' does not have required columns
Error in .checkFixSampleMap(sampleMap) : 
  'sampleMap' does not have required columns
Error in .checkFixSampleMap(sampleMap) : 
  'sampleMap' does not have required columns
Error in .checkFixSampleMap(sampleMap) : 
  'sampleMap' does not have required columns
Error in .checkFixSampleMap(sampleMap) : 
  'sampleMap' does not have required columns
Error in .checkFixSampleMap(sampleMap) : 
  'sampleMap' does not have required columns
Error in .checkFixSampleMap(sampleMap) : 
  'sampleMap' does not have required columns
Error in .checkFixSampleMap(sampleMap) : 
  'sampleMap' does not have required columns
Error in .checkFixSampleMap(sampleMap) : 
  'sampleMap' does not have required columns
Error in .checkFixSampleMap(sampleMap) : 
  'sampleMap' does not have required columns
Error in .checkFixSampleMap(sampleMap) : 
  'sampleMap' does not have required columns
Error in .checkFixSampleMap(sampleMap) : 
  'sampleMap' does not have required columns
Error in .checkFixSampleMap(sampleMap) : 
  'sampleMap' does not have required columns
Error in .checkFixSampleMap(sampleMap) : 
  'sampleMap' does not have required columns
Error in .checkFixSampleMap(sampleMap) : 
  'sampleMap' does not have required columns
Error in .checkFixSampleMap(sampleMap) : 
  'sampleMap' does not have required columns
Error in .checkFixSampleMap(sampleMap) : 
  'sampleMap' does not have required columns
Error in .checkFixSampleMap(sampleMap) : 
  'sampleMap' does not have required columns
Error in .checkFixSampleMap(sampleMap) : 
  'sampleMap' does not have required columns
Error in .checkFixSampleMap(sampleMap) : 
  'sampleMap' does not have required columns
Error in .checkFixSampleMap(sampleMap) : 
  'sampleMap' does not have required columns
Error in .checkFixSampleMap(sampleMap) : 
  'sampleMap' does not have required columns
Error in .checkFixSampleMap(sampleMap) : 
  'sampleMap' does not have required columns
Error in .checkFixSampleMap(sampleMap) : 
  'sampleMap' does not have required columns
Error in .checkFixSampleMap(sampleMap) : 
  'sampleMap' does not have required columns
Error in .checkFixSampleMap(sampleMap) : 
  'sampleMap' does not have required columns
Error in .checkFixSampleMap(sampleMap) : 
  'sampleMap' does not have required columns
Error in .checkFixSampleMap(sampleMap) : 
  'sampleMap' does not have required columns
Error in .checkFixSampleMap(sampleMap) : 
  'sampleMap' does not have required columns
Error in .checkFixSampleMap(sampleMap) : 
  'sampleMap' does not have required columns
Error in .checkFixSampleMap(sampleMap) : 
  'sampleMap' does not have required columns
Error in .checkFixSampleMap(sampleMap) : 
  'sampleMap' does not have required columns
Error in .checkFixSampleMap(sampleMap) : 
  'sampleMap' does not have required columns
Error in .checkFixSampleMap(sampleMap) : 
  'sampleMap' does not have required columns
Error in .checkFixSampleMap(sampleMap) : 
  'sampleMap' does not have required columns
Error in .checkFixSampleMap(sampleMap) : 
  'sampleMap' does not have required columns
Error in .checkFixSampleMap(sampleMap) : 
  'sampleMap' does not have required columns
Error in .checkFixSampleMap(sampleMap) : 
  'sampleMap' does not have required columns
Error in .checkFixSampleMap(sampleMap) : 
  'sampleMap' does not have required columns
Error in .checkFixSampleMap(sampleMap) : 
  'sampleMap' does not have required columns
Error in .checkFixSampleMap(sampleMap) : 
  'sampleMap' does not have required columns
Error in .checkFixSampleMap(sampleMap) : 
  'sampleMap' does not have required columns
Error in .checkFixSampleMap(sampleMap) : 
  'sampleMap' does not have required columns
Error in .checkFixSampleMap(sampleMap) : 
  'sampleMap' does not have required columns
Error in .checkFixSampleMap(sampleMap) : 
  'sampleMap' does not have required columns
Error in .checkFixSampleMap(sampleMap) : 
  'sampleMap' does not have required columns
Error in .checkFixSampleMap(sampleMap) : 
  'sampleMap' does not have required columns
Error in .checkFixSampleMap(sampleMap) : 
  'sampleMap' does not have required columns
Error in .checkFixSampleMap(sampleMap) : 
  'sampleMap' does not have required columns
Error in .checkFixSampleMap(sampleMap) : 
  'sampleMap' does not have required columns
Error in .checkFixSampleMap(sampleMap) : 
  'sampleMap' does not have required columns
Error in .checkFixSampleMap(sampleMap) : 
  'sampleMap' does not have required columns
Error in .checkFixSampleMap(sampleMap) : 
  'sampleMap' does not have required columns
Error in .checkFixSampleMap(sampleMap) : 
  'sampleMap' does not have required columns
Error in .checkFixSampleMap(sampleMap) : 
  'sampleMap' does not have required columns
Error in .checkFixSampleMap(sampleMap) : 
  'sampleMap' does not have required columns
Error in .checkFixSampleMap(sampleMap) : 
  'sampleMap' does not have required columns
Error in .checkFixSampleMap(sampleMap) : 
  'sampleMap' does not have required columns
Error in .checkFixSampleMap(sampleMap) : 
  'sampleMap' does not have required columns
Error in .checkFixSampleMap(sampleMap) : 
  'sampleMap' does not have required columns
Error in .checkFixSampleMap(sampleMap) : 
  'sampleMap' does not have required columns
Error in .checkFixSampleMap(sampleMap) : 
  'sampleMap' does not have required columns
Error in .checkFixSampleMap(sampleMap) : 
  'sampleMap' does not have required columns
Error in .checkFixSampleMap(sampleMap) : 
  'sampleMap' does not have required columns
Error in .checkFixSampleMap(sampleMap) : 
  'sampleMap' does not have required columns
Error in .checkFixSampleMap(sampleMap) : 
  'sampleMap' does not have required columns
Error in .checkFixSampleMap(sampleMap) : 
  'sampleMap' does not have required columns
Error in .checkFixSampleMap(sampleMap) : 
  'sampleMap' does not have required columns
Error in .checkFixSampleMap(sampleMap) : 
  'sampleMap' does not have required columns
Error in .checkFixSampleMap(sampleMap) : 
  'sampleMap' does not have required columns
Error in .checkFixSampleMap(sampleMap) : 
  'sampleMap' does not have required columns
Error in .checkFixSampleMap(sampleMap) : 
  'sampleMap' does not have required columns
Error in .checkFixSampleMap(sampleMap) : 
  'sampleMap' does not have required columns
Error in .checkFixSampleMap(sampleMap) : 
  'sampleMap' does not have required columns
Error in .checkFixSampleMap(sampleMap) : 
  'sampleMap' does not have required columns
Error in .checkFixSampleMap(sampleMap) : 
  'sampleMap' does not have required columns
Error in .checkFixSampleMap(sampleMap) : 
  'sampleMap' does not have required columns
Error in .checkFixSampleMap(sampleMap) : 
  'sampleMap' does not have required columns
Error in .checkFixSampleMap(sampleMap) : 
  'sampleMap' does not have required columns
Error in .checkFixSampleMap(sampleMap) : 
  'sampleMap' does not have required columns
Error in .checkFixSampleMap(sampleMap) : 
  'sampleMap' does not have required columns
Error in .checkFixSampleMap(sampleMap) : 
  'sampleMap' does not have required columns
Error in .checkFixSampleMap(sampleMap) : 
  'sampleMap' does not have required columns
Error in .checkFixSampleMap(sampleMap) : 
  'sampleMap' does not have required columns
Error in .checkFixSampleMap(sampleMap) : 
  'sampleMap' does not have required columns
Error in .checkFixSampleMap(sampleMap) : 
  'sampleMap' does not have required columns
Error in .checkFixSampleMap(sampleMap) : 
  'sampleMap' does not have required columns
Error in .checkFixSampleMap(sampleMap) : 
  'sampleMap' does not have required columns
Error in .checkFixSampleMap(sampleMap) : 
  'sampleMap' does not have required columns
Error in .checkFixSampleMap(sampleMap) : 
  'sampleMap' does not have required columns
Error in .checkFixSampleMap(sampleMap) : 
  'sampleMap' does not have required columns
Error in .checkFixSampleMap(sampleMap) : 
  'sampleMap' does not have required columns
Error in .checkFixSampleMap(sampleMap) : 
  'sampleMap' does not have required columns
Error in .checkFixSampleMap(sampleMap) : 
  'sampleMap' does not have required columns
Error in .checkFixSampleMap(sampleMap) : 
  'sampleMap' does not have required columns
Error in .checkFixSampleMap(sampleMap) : 
  'sampleMap' does not have required columns
Error in .checkFixSampleMap(sampleMap) : 
  'sampleMap' does not have required columns
Error in .checkFixSampleMap(sampleMap) : 
  'sampleMap' does not have required columns
Error in .checkFixSampleMap(sampleMap) : 
  'sampleMap' does not have required columns
Error in .checkFixSampleMap(sampleMap) : 
  'sampleMap' does not have required columns
Error in .checkFixSampleMap(sampleMap) : 
  'sampleMap' does not have required columns
Error in .checkFixSampleMap(sampleMap) : 
  'sampleMap' does not have required columns
Error in .checkFixSampleMap(sampleMap) : 
  'sampleMap' does not have required columns
Error in .checkFixSampleMap(sampleMap) : 
  'sampleMap' does not have required columns
Error in .checkFixSampleMap(sampleMap) : 
  'sampleMap' does not have required columns
Error in .checkFixSampleMap(sampleMap) : 
  'sampleMap' does not have required columns
Error in .checkFixSampleMap(sampleMap) : 
  'sampleMap' does not have required columns
Error in .checkFixSampleMap(sampleMap) : 
  'sampleMap' does not have required columns
Error in .checkFixSampleMap(sampleMap) : 
  'sampleMap' does not have required columns
Error in .checkFixSampleMap(sampleMap) : 
  'sampleMap' does not have required columns
Error in .checkFixSampleMap(sampleMap) : 
  'sampleMap' does not have required columns
Error in .checkFixSampleMap(sampleMap) : 
  'sampleMap' does not have required columns
Error in .checkFixSampleMap(sampleMap) : 
  'sampleMap' does not have required columns
Error in .checkFixSampleMap(sampleMap) : 
  'sampleMap' does not have required columns
Error in .checkFixSampleMap(sampleMap) : 
  'sampleMap' does not have required columns
Error in .checkFixSampleMap(sampleMap) : 
  'sampleMap' does not have required columns
Error in .checkFixSampleMap(sampleMap) : 
  'sampleMap' does not have required columns
Error in .checkFixSampleMap(sampleMap) : 
  'sampleMap' does not have required columns
Error in .checkFixSampleMap(sampleMap) : 
  'sampleMap' does not have required columns
Error in .checkFixSampleMap(sampleMap) : 
  'sampleMap' does not have required columns
Error in .checkFixSampleMap(sampleMap) : 
  'sampleMap' does not have required columns
Error in .checkFixSampleMap(sampleMap) : 
  'sampleMap' does not have required columns
Error in .checkFixSampleMap(sampleMap) : 
  'sampleMap' does not have required columns
Error in .checkFixSampleMap(sampleMap) : 
  'sampleMap' does not have required columns
Error in .checkFixSampleMap(sampleMap) : 
  'sampleMap' does not have required columns
Error in .checkFixSampleMap(sampleMap) : 
  'sampleMap' does not have required columns
Error in .checkFixSampleMap(sampleMap) : 
  'sampleMap' does not have required columns
Error in .checkFixSampleMap(sampleMap) : 
  'sampleMap' does not have required columns
Error in .checkFixSampleMap(sampleMap) : 
  'sampleMap' does not have required columns
Error in .checkFixSampleMap(sampleMap) : 
  'sampleMap' does not have required columns
Error in .checkFixSampleMap(sampleMap) : 
  'sampleMap' does not have required columns
Error in .checkFixSampleMap(sampleMap) : 
  'sampleMap' does not have required columns
Error in .checkFixSampleMap(sampleMap) : 
  'sampleMap' does not have required columns
Error in .checkFixSampleMap(sampleMap) : 
  'sampleMap' does not have required columns
Error in .checkFixSampleMap(sampleMap) : 
  'sampleMap' does not have required columns
Error in .checkFixSampleMap(sampleMap) : 
  'sampleMap' does not have required columns
Error in .checkFixSampleMap(sampleMap) : 
  'sampleMap' does not have required columns
Error in .checkFixSampleMap(sampleMap) : 
  'sampleMap' does not have required columns
Error in .checkFixSampleMap(sampleMap) : 
  'sampleMap' does not have required columns
Error in .checkFixSampleMap(sampleMap) : 
  'sampleMap' does not have required columns
Error in .checkFixSampleMap(sampleMap) : 
  'sampleMap' does not have required columns
Error in .checkFixSampleMap(sampleMap) : 
  'sampleMap' does not have required columns
Error in .checkFixSampleMap(sampleMap) : 
  'sampleMap' does not have required columns
Error in .checkFixSampleMap(sampleMap) : 
  'sampleMap' does not have required columns
Error in .checkFixSampleMap(sampleMap) : 
  'sampleMap' does not have required columns
Error in .checkFixSampleMap(sampleMap) : 
  'sampleMap' does not have required columns
Error in .checkFixSampleMap(sampleMap) : 
  'sampleMap' does not have required columns
Error in .checkFixSampleMap(sampleMap) : 
  'sampleMap' does not have required columns
Error in .checkFixSampleMap(sampleMap) : 
  'sampleMap' does not have required columns
Error in .checkFixSampleMap(sampleMap) : 
  'sampleMap' does not have required columns
Error in .checkFixSampleMap(sampleMap) : 
  'sampleMap' does not have required columns
Error in .checkFixSampleMap(sampleMap) : 
  'sampleMap' does not have required columns
Error in .checkFixSampleMap(sampleMap) : 
  'sampleMap' does not have required columns
Error in .checkFixSampleMap(sampleMap) : 
  'sampleMap' does not have required columns
Error in .checkFixSampleMap(sampleMap) : 
  'sampleMap' does not have required columns
Error in .checkFixSampleMap(sampleMap) : 
  'sampleMap' does not have required columns
Error in .checkFixSampleMap(sampleMap) : 
  'sampleMap' does not have required columns
Error in .checkFixSampleMap(sampleMap) : 
  'sampleMap' does not have required columns
Error in .checkFixSampleMap(sampleMap) : 
  'sampleMap' does not have required columns
Error in .checkFixSampleMap(sampleMap) : 
  'sampleMap' does not have required columns
Error in .checkFixSampleMap(sampleMap) : 
  'sampleMap' does not have required columns
Error in .checkFixSampleMap(sampleMap) : 
  'sampleMap' does not have required columns
Error in .checkFixSampleMap(sampleMap) : 
  'sampleMap' does not have required columns
Error in .checkFixSampleMap(sampleMap) : 
  'sampleMap' does not have required columns
Error in .checkFixSampleMap(sampleMap) : 
  'sampleMap' does not have required columns
Error in .checkFixSampleMap(sampleMap) : 
  'sampleMap' does not have required columns
Error in .checkFixSampleMap(sampleMap) : 
  'sampleMap' does not have required columns
Error in .checkFixSampleMap(sampleMap) : 
  'sampleMap' does not have required columns
Error in .checkFixSampleMap(sampleMap) : 
  'sampleMap' does not have required columns
Error in .checkFixSampleMap(sampleMap) : 
  'sampleMap' does not have required columns
Error in .checkFixSampleMap(sampleMap) : 
  'sampleMap' does not have required columns
Error in .checkFixSampleMap(sampleMap) : 
  'sampleMap' does not have required columns
Error in .checkFixSampleMap(sampleMap) : 
  'sampleMap' does not have required columns
Error in .checkFixSampleMap(sampleMap) : 
  'sampleMap' does not have required columns
Error in .checkFixSampleMap(sampleMap) : 
  'sampleMap' does not have required columns
Error in .checkFixSampleMap(sampleMap) : 
  'sampleMap' does not have required columns
Error in .checkFixSampleMap(sampleMap) : 
  'sampleMap' does not have required columns
Error in .checkFixSampleMap(sampleMap) : 
  'sampleMap' does not have required columns
Error in .checkFixSampleMap(sampleMap) : 
  'sampleMap' does not have required columns
Error in .checkFixSampleMap(sampleMap) : 
  'sampleMap' does not have required columns
Error in .checkFixSampleMap(sampleMap) : 
  'sampleMap' does not have required columns
Error in .checkFixSampleMap(sampleMap) : 
  'sampleMap' does not have required columns
Error in .checkFixSampleMap(sampleMap) : 
  'sampleMap' does not have required columns
Error in .checkFixSampleMap(sampleMap) : 
  'sampleMap' does not have required columns
Error in .checkFixSampleMap(sampleMap) : 
  'sampleMap' does not have required columns
Error in .checkFixSampleMap(sampleMap) : 
  'sampleMap' does not have required columns
Error in .checkFixSampleMap(sampleMap) : 
  'sampleMap' does not have required columns
Error in .checkFixSampleMap(sampleMap) : 
  'sampleMap' does not have required columns
Error in .checkFixSampleMap(sampleMap) : 
  'sampleMap' does not have required columns
Error in .checkFixSampleMap(sampleMap) : 
  'sampleMap' does not have required columns
Error in .checkFixSampleMap(sampleMap) : 
  'sampleMap' does not have required columns
Error in .checkFixSampleMap(sampleMap) : 
  'sampleMap' does not have required columns
Error in .checkFixSampleMap(sampleMap) : 
  'sampleMap' does not have required columns
Error in .checkFixSampleMap(sampleMap) : 
  'sampleMap' does not have required columns
Error in .checkFixSampleMap(sampleMap) : 
  'sampleMap' does not have required columns
Error in .checkFixSampleMap(sampleMap) : 
  'sampleMap' does not have required columns
Error in .checkFixSampleMap(sampleMap) : 
  'sampleMap' does not have required columns
Error in .checkFixSampleMap(sampleMap) : 
  'sampleMap' does not have required columns
Error in .checkFixSampleMap(sampleMap) : 
  'sampleMap' does not have required columns
Error in .checkFixSampleMap(sampleMap) : 
  'sampleMap' does not have required columns
Error in .checkFixSampleMap(sampleMap) : 
  'sampleMap' does not have required columns
Error in .checkFixSampleMap(sampleMap) : 
  'sampleMap' does not have required columns
Error in .checkFixSampleMap(sampleMap) : 
  'sampleMap' does not have required columns
Error in .checkFixSampleMap(sampleMap) : 
  'sampleMap' does not have required columns
Error in .checkFixSampleMap(sampleMap) : 
  'sampleMap' does not have required columns
Error in .checkFixSampleMap(sampleMap) : 
  'sampleMap' does not have required columns
Error in .checkFixSampleMap(sampleMap) : 
  'sampleMap' does not have required columns
Error in .checkFixSampleMap(sampleMap) : 
  'sampleMap' does not have required columns
Error in .checkFixSampleMap(sampleMap) : 
  'sampleMap' does not have required columns
Error in .checkFixSampleMap(sampleMap) : 
  'sampleMap' does not have required columns
Error in .checkFixSampleMap(sampleMap) : 
  'sampleMap' does not have required columns
Error in .checkFixSampleMap(sampleMap) : 
  'sampleMap' does not have required columns
Error in .checkFixSampleMap(sampleMap) : 
  'sampleMap' does not have required columns
Error in .checkFixSampleMap(sampleMap) : 
  'sampleMap' does not have required columns
Error in .checkFixSampleMap(sampleMap) : 
  'sampleMap' does not have required columns
Error in .checkFixSampleMap(sampleMap) : 
  'sampleMap' does not have required columns
Error in .checkFixSampleMap(sampleMap) : 
  'sampleMap' does not have required columns
Error in .checkFixSampleMap(sampleMap) : 
  'sampleMap' does not have required columns
Error in .checkFixSampleMap(sampleMap) : 
  'sampleMap' does not have required columns
Error in .checkFixSampleMap(sampleMap) : 
  'sampleMap' does not have required columns
Error in .checkFixSampleMap(sampleMap) : 
  'sampleMap' does not have required columns
Error in .checkFixSampleMap(sampleMap) : 
  'sampleMap' does not have required columns
Error in .checkFixSampleMap(sampleMap) : 
  'sampleMap' does not have required columns
Error in .checkFixSampleMap(sampleMap) : 
  'sampleMap' does not have required columns
Error in .checkFixSampleMap(sampleMap) : 
  'sampleMap' does not have required columns
Error in .checkFixSampleMap(sampleMap) : 
  'sampleMap' does not have required columns
Error in .checkFixSampleMap(sampleMap) : 
  'sampleMap' does not have required columns
Error in .checkFixSampleMap(sampleMap) : 
  'sampleMap' does not have required columns
Error in .checkFixSampleMap(sampleMap) : 
  'sampleMap' does not have required columns
Error in .checkFixSampleMap(sampleMap) : 
  'sampleMap' does not have required columns
Error in .checkFixSampleMap(sampleMap) : 
  'sampleMap' does not have required columns
Error in .checkFixSampleMap(sampleMap) : 
  'sampleMap' does not have required columns
Error in .checkFixSampleMap(sampleMap) : 
  'sampleMap' does not have required columns
Error in .checkFixSampleMap(sampleMap) : 
  'sampleMap' does not have required columns
Error in .checkFixSampleMap(sampleMap) : 
  'sampleMap' does not have required columns
Error in .checkFixSampleMap(sampleMap) : 
  'sampleMap' does not have required columns
Error in .checkFixSampleMap(sampleMap) : 
  'sampleMap' does not have required columns
Error in .checkFixSampleMap(sampleMap) : 
  'sampleMap' does not have required columns
Error in .checkFixSampleMap(sampleMap) : 
  'sampleMap' does not have required columns
Error in .checkFixSampleMap(sampleMap) : 
  'sampleMap' does not have required columns
Error in .checkFixSampleMap(sampleMap) : 
  'sampleMap' does not have required columns
Error in .checkFixSampleMap(sampleMap) : 
  'sampleMap' does not have required columns
Error in .checkFixSampleMap(sampleMap) : 
  'sampleMap' does not have required columns
Error in .checkFixSampleMap(sampleMap) : 
  'sampleMap' does not have required columns
Error in .checkFixSampleMap(sampleMap) : 
  'sampleMap' does not have required columns
Error in .checkFixSampleMap(sampleMap) : 
  'sampleMap' does not have required columns
Error in .checkFixSampleMap(sampleMap) : 
  'sampleMap' does not have required columns
Error in .checkFixSampleMap(sampleMap) : 
  'sampleMap' does not have required columns
Error in .checkFixSampleMap(sampleMap) : 
  'sampleMap' does not have required columns
Error in .checkFixSampleMap(sampleMap) : 
  'sampleMap' does not have required columns
Error in .checkFixSampleMap(sampleMap) : 
  'sampleMap' does not have required columns
Error in .checkFixSampleMap(sampleMap) : 
  'sampleMap' does not have required columns
Error in .checkFixSampleMap(sampleMap) : 
  'sampleMap' does not have required columns
Error in .checkFixSampleMap(sampleMap) : 
  'sampleMap' does not have required columns
Error in .checkFixSampleMap(sampleMap) : 
  'sampleMap' does not have required columns
Error in .checkFixSampleMap(sampleMap) : 
  'sampleMap' does not have required columns
Error in .checkFixSampleMap(sampleMap) : 
  'sampleMap' does not have required columns
Error in .checkFixSampleMap(sampleMap) : 
  'sampleMap' does not have required columns
Error in .checkFixSampleMap(sampleMap) : 
  'sampleMap' does not have required columns
Error in .checkFixSampleMap(sampleMap) : 
  'sampleMap' does not have required columns
Error in .checkFixSampleMap(sampleMap) : 
  'sampleMap' does not have required columns
[ FAIL 1 | WARN 301 | SKIP 0 | PASS 7 ]
══ Failed tests ════════════════════════════════════════════════════════════════
── Failure ('test_cBioPortalData.R:23:5'): cBioPortal API is working with most studies ──
successrate > 80 is not TRUE
`actual`:   FALSE
`expected`: TRUE 
[ FAIL 1 | WARN 301 | SKIP 0 | PASS 7 ]
Error: Test failures
Execution halted
##############################################################################
##############################################################################
###
### Running command:
###
###   /Library/Frameworks/R.framework/Resources/bin/R CMD check --test-dir=longtests --no-stop-on-test-error --no-codoc --no-examples --no-manual --ignore-vignettes --check-subdirs=no cBioPortalData_2.20.0.tar.gz
###
##############################################################################
##############################################################################
* using log directory ‘/Users/biocbuild/bbs-3.21-bioc-longtests/meat/cBioPortalData.Rcheck’
* using R version 4.5.0 RC (2025-04-04 r88126)
* using platform: x86_64-apple-darwin20
* R was compiled by
    Apple clang version 14.0.0 (clang-1400.0.29.202)
    GNU Fortran (GCC) 14.2.0
* running under: macOS Monterey 12.7.6
* using session charset: UTF-8
* using options ‘--no-codoc --no-examples --no-manual --ignore-vignettes --no-stop-on-test-error’
* checking for file ‘cBioPortalData/DESCRIPTION’ ... OK
* this is package ‘cBioPortalData’ version ‘2.20.0’
* package encoding: UTF-8
* checking package namespace information ... OK
* checking package dependencies ... OK
* checking if this is a source package ... OK
* checking if there is a namespace ... OK
* checking for hidden files and directories ... OK
* checking for portable file names ... OK
* checking for sufficient/correct file permissions ... OK
* checking whether package ‘cBioPortalData’ can be installed ... OK
* checking installed package size ... OK
* checking package directory ... OK
* checking DESCRIPTION meta-information ... OK
* checking top-level files ... OK
* checking for left-over files ... OK
* checking index information ... OK
* checking package subdirectories ... OK
* checking code files for non-ASCII characters ... OK
* checking R files for syntax errors ... OK
* checking whether the package can be loaded ... OK
* checking whether the package can be loaded with stated dependencies ... OK
* checking whether the package can be unloaded cleanly ... OK
* checking whether the namespace can be loaded with stated dependencies ... OK
* checking whether the namespace can be unloaded cleanly ... OK
* checking dependencies in R code ... OK
* checking S3 generic/method consistency ... OK
* checking replacement functions ... OK
* checking foreign function calls ... OK
* checking R code for possible problems ... NOTE
.portalExperiments: no visible binding for global variable
  ‘molecularAlterationType’
.portalExperiments: no visible binding for global variable ‘datatype’
fetchData: no visible binding for global variable
  ‘molecularAlterationType’
fetchData: no visible binding for global variable ‘datatype’
Undefined global functions or variables:
  datatype molecularAlterationType
* checking Rd files ... OK
* checking Rd metadata ... OK
* checking Rd cross-references ... OK
* checking for missing documentation entries ... OK
* checking for code/documentation mismatches ... SKIPPED
* checking Rd \usage sections ... OK
* checking Rd contents ... OK
* checking for unstated dependencies in examples ... OK
* checking files in ‘vignettes’ ... SKIPPED
* checking examples ... SKIPPED
* checking for unstated dependencies in ‘longtests’ ... OK
* checking tests in ‘longtests’ ...
  Running ‘testthat.R’
 ERROR
Running the tests in ‘longtests/testthat.R’ failed.
Last 13 lines of output:
    'sampleMap' does not have required columns
  Error in .checkFixSampleMap(sampleMap) : 
    'sampleMap' does not have required columns
  [ FAIL 1 | WARN 301 | SKIP 0 | PASS 7 ]
  
  ══ Failed tests ════════════════════════════════════════════════════════════════
  ── Failure ('test_cBioPortalData.R:23:5'): cBioPortal API is working with most studies ──
  successrate > 80 is not TRUE
  
  `actual`:   FALSE
  `expected`: TRUE 
  
  [ FAIL 1 | WARN 301 | SKIP 0 | PASS 7 ]
  Error: Test failures
  Execution halted
* DONE
Status: 1 ERROR, 1 NOTE
See
  ‘/Users/biocbuild/bbs-3.21-bioc-longtests/meat/cBioPortalData.Rcheck/00check.log’
for details.
cBioPortalData.Rcheck/00install.out
* installing *source* package ‘cBioPortalData’ ... ** this is package ‘cBioPortalData’ version ‘2.20.0’ ** using staged installation ** R ** inst ** byte-compile and prepare package for lazy loading ** help *** installing help indices ** building package indices ** installing vignettes ** testing if installed package can be loaded from temporary location ** testing if installed package can be loaded from final location ** testing if installed package keeps a record of temporary installation path * DONE (cBioPortalData)