| Back to Multiple platform build/check report for BioC 3.21: simplified long |
|
This page was generated on 2025-05-29 11:49 -0400 (Thu, 29 May 2025).
| Hostname | OS | Arch (*) | R version | Installed pkgs |
|---|---|---|---|---|
| nebbiolo1 | Linux (Ubuntu 24.04.1 LTS) | x86_64 | 4.5.0 RC (2025-04-04 r88126) -- "How About a Twenty-Six" | 4837 |
| palomino7 | Windows Server 2022 Datacenter | x64 | 4.5.0 RC (2025-04-04 r88126 ucrt) -- "How About a Twenty-Six" | 4577 |
| merida1 | macOS 12.7.5 Monterey | x86_64 | 4.5.0 RC (2025-04-04 r88126) -- "How About a Twenty-Six" | 4601 |
| kjohnson1 | macOS 13.6.6 Ventura | arm64 | 4.5.0 RC (2025-04-04 r88129) -- "How About a Twenty-Six" | 4555 |
| kunpeng2 | Linux (openEuler 24.03 LTS) | aarch64 | R Under development (unstable) (2025-02-19 r87757) -- "Unsuffered Consequences" | 4575 |
| Click on any hostname to see more info about the system (e.g. compilers) (*) as reported by 'uname -p', except on Windows and Mac OS X | ||||
| Package 2282/2341 | Hostname | OS / Arch | INSTALL | BUILD | CHECK | BUILD BIN | ||||||||
| variancePartition 1.38.0 (landing page) Gabriel E. Hoffman
| nebbiolo1 | Linux (Ubuntu 24.04.1 LTS) / x86_64 | OK | OK | OK | |||||||||
| palomino7 | Windows Server 2022 Datacenter / x64 | OK | OK | OK | OK | |||||||||
| merida1 | macOS 12.7.5 Monterey / x86_64 | OK | OK | OK | OK | |||||||||
| kjohnson1 | macOS 13.6.6 Ventura / arm64 | OK | OK | OK | OK | |||||||||
| kunpeng2 | Linux (openEuler 24.03 LTS) / aarch64 | OK | OK | OK | ||||||||||
|
To the developers/maintainers of the variancePartition package: - Allow up to 24 hours (and sometimes 48 hours) for your latest push to git@git.bioconductor.org:packages/variancePartition.git to reflect on this report. See Troubleshooting Build Report for more information. - Use the following Renviron settings to reproduce errors and warnings. - If 'R CMD check' started to fail recently on the Linux builder(s) over a missing dependency, add the missing dependency to 'Suggests:' in your DESCRIPTION file. See Renviron.bioc for more information. - See Martin Grigorov's blog post for how to debug Linux ARM64 related issues on a x86_64 host. |
| Package: variancePartition |
| Version: 1.38.0 |
| Command: /home/biocbuild/R/R/bin/R CMD check --install=check:variancePartition.install-out.txt --library=/home/biocbuild/R/R/site-library --no-vignettes --timings variancePartition_1.38.0.tar.gz |
| StartedAt: 2025-05-27 14:38:12 -0000 (Tue, 27 May 2025) |
| EndedAt: 2025-05-27 14:49:08 -0000 (Tue, 27 May 2025) |
| EllapsedTime: 655.7 seconds |
| RetCode: 0 |
| Status: OK |
| CheckDir: variancePartition.Rcheck |
| Warnings: 0 |
##############################################################################
##############################################################################
###
### Running command:
###
### /home/biocbuild/R/R/bin/R CMD check --install=check:variancePartition.install-out.txt --library=/home/biocbuild/R/R/site-library --no-vignettes --timings variancePartition_1.38.0.tar.gz
###
##############################################################################
##############################################################################
* using log directory ‘/home/biocbuild/bbs-3.21-bioc/meat/variancePartition.Rcheck’
* using R Under development (unstable) (2025-02-19 r87757)
* using platform: aarch64-unknown-linux-gnu
* R was compiled by
aarch64-unknown-linux-gnu-gcc (GCC) 14.2.0
GNU Fortran (GCC) 14.2.0
* running under: openEuler 24.03 (LTS-SP1)
* using session charset: UTF-8
* using option ‘--no-vignettes’
* checking for file ‘variancePartition/DESCRIPTION’ ... OK
* checking extension type ... Package
* this is package ‘variancePartition’ version ‘1.38.0’
* package encoding: UTF-8
* checking package namespace information ... OK
* checking package dependencies ... OK
* checking if this is a source package ... OK
* checking if there is a namespace ... OK
* checking for hidden files and directories ... OK
* checking for portable file names ... OK
* checking for sufficient/correct file permissions ... OK
* checking whether package ‘variancePartition’ can be installed ... OK
* checking installed package size ... OK
* checking package directory ... OK
* checking ‘build’ directory ... OK
* checking DESCRIPTION meta-information ... OK
* checking top-level files ... OK
* checking for left-over files ... OK
* checking index information ... OK
* checking package subdirectories ... OK
* checking code files for non-ASCII characters ... OK
* checking R files for syntax errors ... OK
* checking whether the package can be loaded ... OK
* checking whether the package can be loaded with stated dependencies ... OK
* checking whether the package can be unloaded cleanly ... OK
* checking whether the namespace can be loaded with stated dependencies ... OK
* checking whether the namespace can be unloaded cleanly ... OK
* checking loading without being on the library search path ... OK
* checking dependencies in R code ... NOTE
Unexported object imported by a ':::' call: ‘lmerTest:::as_lmerModLT’
See the note in ?`:::` about the use of this operator.
* checking S3 generic/method consistency ... OK
* checking replacement functions ... OK
* checking foreign function calls ... OK
* checking R code for possible problems ... OK
* checking Rd files ... OK
* checking Rd metadata ... OK
* checking Rd cross-references ... OK
* checking for missing documentation entries ... OK
* checking for code/documentation mismatches ... OK
* checking Rd \usage sections ... NOTE
S3 methods shown with full name in Rd file 'residuals.MArrayLM2.Rd':
‘residuals.MArrayLM2’
The \usage entries for S3 methods should use the \method markup and not
their full name.
See chapter ‘Writing R documentation files’ in the ‘Writing R
Extensions’ manual.
* checking Rd contents ... OK
* checking for unstated dependencies in examples ... OK
* checking contents of ‘data’ directory ... OK
* checking data for non-ASCII characters ... OK
* checking data for ASCII and uncompressed saves ... OK
* checking files in ‘vignettes’ ... NOTE
The following directory looks like a leftover from 'knitr':
‘figure’
Please remove from your package.
* checking examples ... OK
Examples with CPU (user + system) or elapsed time > 5s
user system elapsed
fitVarPartModel-method 43.417 0.100 43.637
fitExtractVarPartModel-method 33.850 0.203 34.150
getTreat-method 28.800 0.091 28.976
plotCompareP-method 21.815 0.032 21.975
extractVarPart 21.224 0.403 21.694
varPartConfInf 13.807 0.036 13.956
plotPercentBars-method 10.759 0.027 10.822
plotVarPart-method 10.584 0.035 10.656
sortCols-method 10.198 0.052 10.279
residuals-VarParFitList-method 10.080 0.072 10.183
mvTest-method 8.213 0.052 16.480
dream-method 4.726 0.055 11.484
* checking for unstated dependencies in ‘tests’ ... OK
* checking tests ...
Running ‘runTests.R’
OK
* checking for unstated dependencies in vignettes ... OK
* checking package vignettes ... OK
* checking running R code from vignettes ... SKIPPED
* checking re-building of vignette outputs ... SKIPPED
* checking PDF version of manual ... OK
* DONE
Status: 3 NOTEs
See
‘/home/biocbuild/bbs-3.21-bioc/meat/variancePartition.Rcheck/00check.log’
for details.
variancePartition.Rcheck/00install.out
############################################################################## ############################################################################## ### ### Running command: ### ### /home/biocbuild/R/R/bin/R CMD INSTALL variancePartition ### ############################################################################## ############################################################################## * installing to library ‘/home/biocbuild/R/R-devel_2025-02-19/site-library’ * installing *source* package ‘variancePartition’ ... ** this is package ‘variancePartition’ version ‘1.38.0’ ** using staged installation ** R ** data ** inst ** byte-compile and prepare package for lazy loading in method for ‘calcVarPart’ with signature ‘"negbin"’: no definition for class “negbin” in method for ‘checkModelStatus’ with signature ‘"negbin"’: no definition for class “negbin” Creating a new generic function for ‘classifyTestsF’ in package ‘variancePartition’ Creating a new generic function for ‘topTable’ in package ‘variancePartition’ ** help Loading required namespace: variancePartition *** installing help indices *** copying figures ** building package indices ** installing vignettes ** testing if installed package can be loaded from temporary location ** testing if installed package can be loaded from final location ** testing if installed package keeps a record of temporary installation path * DONE (variancePartition)
variancePartition.Rcheck/tests/runTests.Rout
R Under development (unstable) (2025-02-19 r87757) -- "Unsuffered Consequences"
Copyright (C) 2025 The R Foundation for Statistical Computing
Platform: aarch64-unknown-linux-gnu
R is free software and comes with ABSOLUTELY NO WARRANTY.
You are welcome to redistribute it under certain conditions.
Type 'license()' or 'licence()' for distribution details.
R is a collaborative project with many contributors.
Type 'contributors()' for more information and
'citation()' on how to cite R or R packages in publications.
Type 'demo()' for some demos, 'help()' for on-line help, or
'help.start()' for an HTML browser interface to help.
Type 'q()' to quit R.
> BiocGenerics:::testPackage("variancePartition")
Attaching package: 'variancePartition'
The following object is masked from 'package:limma':
topTable
Loading required package: lme4
Loading required package: Matrix
Attaching package: 'lmerTest'
The following object is masked from 'package:lme4':
lmer
The following object is masked from 'package:stats':
step
boundary (singular) fit: see help('isSingular')
boundary (singular) fit: see help('isSingular')
Removing intercept from test coefficients
Removing intercept from test coefficients
boundary (singular) fit: see help('isSingular')
boundary (singular) fit: see help('isSingular')
boundary (singular) fit: see help('isSingular')
boundary (singular) fit: see help('isSingular')
boundary (singular) fit: see help('isSingular')
boundary (singular) fit: see help('isSingular')
boundary (singular) fit: see help('isSingular')
boundary (singular) fit: see help('isSingular')
boundary (singular) fit: see help('isSingular')
boundary (singular) fit: see help('isSingular')
boundary (singular) fit: see help('isSingular')
boundary (singular) fit: see help('isSingular')
boundary (singular) fit: see help('isSingular')
boundary (singular) fit: see help('isSingular')
boundary (singular) fit: see help('isSingular')
boundary (singular) fit: see help('isSingular')
boundary (singular) fit: see help('isSingular')
boundary (singular) fit: see help('isSingular')
Removing intercept from test coefficients
Removing intercept from test coefficients
Loading required package: Rcpp
Loading required package: zigg
Loading required package: RcppParallel
Attaching package: 'RcppParallel'
The following object is masked from 'package:Rcpp':
LdFlags
Rfast: 2.1.5.1
___ __ __ __ __ __ __ __ __ __ _ _ __ __ __ __ __ __ __ __ __ __ __
| __ __ __ __ | | __ __ __ __ _/ / \ | __ __ __ __ / /__ __ _ _ __ __\
| | | | | | / _ \ | | / /
| | | | | | / / \ \ | | / /
| | | | | | / / \ \ | | / /
| |__ __ __ __| | | |__ __ __ __ / / \ \ | |__ __ __ __ _ / /__/\
| __ __ __ __| | __ __ __ __| / /__ _ __\ \ |_ __ __ __ _ | / ___ /
| \ | | / _ _ _ _ _ _ \ | | \/ / /
| |\ \ | | / / \ \ | | / /
| | \ \ | | / / \ \ | | / /
| | \ \ | | / / \ \ | | / /
| | \ \__ __ _ | | / / \ \ _ __ __ __ _| | / /
|_| \__ __ __\ |_| /_/ \_\ /_ __ __ __ ___| \/ team
Attaching package: 'Rfast'
The following object is masked from 'package:edgeR':
gini
Warning:
Variables contain NA's: Disease
Samples with missing data will be dropped.
RUNIT TEST PROTOCOL -- Tue May 27 14:49:02 2025
***********************************************
Number of test functions: 30
Number of errors: 0
Number of failures: 0
1 Test Suite :
variancePartition RUnit Tests - 30 test functions, 0 errors, 0 failures
Number of test functions: 30
Number of errors: 0
Number of failures: 0
There were 29 warnings (use warnings() to see them)
>
> proc.time()
user system elapsed
234.172 1.952 285.755
variancePartition.Rcheck/variancePartition-Ex.timings
| name | user | system | elapsed | |
| ESS-method | 0.193 | 0.020 | 0.217 | |
| as.data.frame.varPartResults | 0.453 | 0.003 | 0.458 | |
| as.matrix-varPartResults-method | 0.445 | 0.000 | 0.446 | |
| augmentPriorCount | 0.959 | 0.119 | 1.082 | |
| calcVarPart-method | 0.062 | 0.044 | 0.107 | |
| canCorPairs | 0.086 | 0.028 | 0.114 | |
| colinearityScore | 0.614 | 0.044 | 0.659 | |
| deviation-method | 1.706 | 0.156 | 1.864 | |
| diffVar-method | 1.771 | 0.028 | 1.806 | |
| dream-method | 4.726 | 0.055 | 11.484 | |
| extractVarPart | 21.224 | 0.403 | 21.694 | |
| fitExtractVarPartModel-method | 33.850 | 0.203 | 34.150 | |
| fitVarPartModel-method | 43.417 | 0.100 | 43.637 | |
| getContrast-method | 0.009 | 0.000 | 0.010 | |
| getTreat-method | 28.800 | 0.091 | 28.976 | |
| get_prediction-method | 0.087 | 0.004 | 0.093 | |
| ggColorHue | 0 | 0 | 0 | |
| makeContrastsDream | 2.068 | 0.007 | 2.080 | |
| mvTest-method | 8.213 | 0.052 | 16.480 | |
| plotCompareP-method | 21.815 | 0.032 | 21.975 | |
| plotContrasts | 0.245 | 0.012 | 0.258 | |
| plotCorrMatrix | 0.084 | 0.000 | 0.084 | |
| plotCorrStructure | 1.085 | 0.016 | 1.105 | |
| plotPercentBars-method | 10.759 | 0.027 | 10.822 | |
| plotStratify | 0.946 | 0.056 | 1.005 | |
| plotStratifyBy | 1.025 | 0.008 | 1.035 | |
| plotVarPart-method | 10.584 | 0.035 | 10.656 | |
| rdf | 0.044 | 0.000 | 0.044 | |
| rdf.merMod | 0.073 | 0.000 | 0.073 | |
| residuals-VarParFitList-method | 10.080 | 0.072 | 10.183 | |
| sortCols-method | 10.198 | 0.052 | 10.279 | |
| varPartConfInf | 13.807 | 0.036 | 13.956 | |
| vcovSqrt-method | 0.019 | 0.000 | 0.020 | |
| voomWithDreamWeights | 3.989 | 0.020 | 4.021 | |