| Back to Multiple platform build/check report for BioC 3.21: simplified long |
|
This page was generated on 2025-08-18 11:42 -0400 (Mon, 18 Aug 2025).
| Hostname | OS | Arch (*) | R version | Installed pkgs |
|---|---|---|---|---|
| nebbiolo1 | Linux (Ubuntu 24.04.3 LTS) | x86_64 | 4.5.1 (2025-06-13) -- "Great Square Root" | 4824 |
| palomino7 | Windows Server 2022 Datacenter | x64 | 4.5.1 (2025-06-13 ucrt) -- "Great Square Root" | 4566 |
| merida1 | macOS 12.7.5 Monterey | x86_64 | 4.5.1 RC (2025-06-05 r88288) -- "Great Square Root" | 4604 |
| kjohnson1 | macOS 13.6.6 Ventura | arm64 | 4.5.1 Patched (2025-06-14 r88325) -- "Great Square Root" | 4545 |
| kunpeng2 | Linux (openEuler 24.03 LTS) | aarch64 | R Under development (unstable) (2025-02-19 r87757) -- "Unsuffered Consequences" | 4579 |
| Click on any hostname to see more info about the system (e.g. compilers) (*) as reported by 'uname -p', except on Windows and Mac OS X | ||||
| Package 2282/2341 | Hostname | OS / Arch | INSTALL | BUILD | CHECK | BUILD BIN | ||||||||
| variancePartition 1.38.1 (landing page) Gabriel E. Hoffman
| nebbiolo1 | Linux (Ubuntu 24.04.3 LTS) / x86_64 | OK | OK | OK | |||||||||
| palomino7 | Windows Server 2022 Datacenter / x64 | OK | OK | OK | OK | |||||||||
| merida1 | macOS 12.7.5 Monterey / x86_64 | OK | OK | OK | OK | |||||||||
| kjohnson1 | macOS 13.6.6 Ventura / arm64 | OK | OK | OK | OK | |||||||||
| kunpeng2 | Linux (openEuler 24.03 LTS) / aarch64 | OK | OK | NA | ||||||||||
|
To the developers/maintainers of the variancePartition package: - Allow up to 24 hours (and sometimes 48 hours) for your latest push to git@git.bioconductor.org:packages/variancePartition.git to reflect on this report. See Troubleshooting Build Report for more information. - Use the following Renviron settings to reproduce errors and warnings. - If 'R CMD check' started to fail recently on the Linux builder(s) over a missing dependency, add the missing dependency to 'Suggests:' in your DESCRIPTION file. See Renviron.bioc for more information. |
| Package: variancePartition |
| Version: 1.38.1 |
| Command: E:\biocbuild\bbs-3.21-bioc\R\bin\R.exe CMD check --no-multiarch --install=check:variancePartition.install-out.txt --library=E:\biocbuild\bbs-3.21-bioc\R\library --no-vignettes --timings variancePartition_1.38.1.tar.gz |
| StartedAt: 2025-08-15 08:09:10 -0400 (Fri, 15 Aug 2025) |
| EndedAt: 2025-08-15 08:20:20 -0400 (Fri, 15 Aug 2025) |
| EllapsedTime: 669.7 seconds |
| RetCode: 0 |
| Status: OK |
| CheckDir: variancePartition.Rcheck |
| Warnings: 0 |
##############################################################################
##############################################################################
###
### Running command:
###
### E:\biocbuild\bbs-3.21-bioc\R\bin\R.exe CMD check --no-multiarch --install=check:variancePartition.install-out.txt --library=E:\biocbuild\bbs-3.21-bioc\R\library --no-vignettes --timings variancePartition_1.38.1.tar.gz
###
##############################################################################
##############################################################################
* using log directory 'E:/biocbuild/bbs-3.21-bioc/meat/variancePartition.Rcheck'
* using R version 4.5.1 (2025-06-13 ucrt)
* using platform: x86_64-w64-mingw32
* R was compiled by
gcc.exe (GCC) 14.2.0
GNU Fortran (GCC) 14.2.0
* running under: Windows Server 2022 x64 (build 20348)
* using session charset: UTF-8
* using option '--no-vignettes'
* checking for file 'variancePartition/DESCRIPTION' ... OK
* checking extension type ... Package
* this is package 'variancePartition' version '1.38.1'
* package encoding: UTF-8
* checking package namespace information ... OK
* checking package dependencies ... OK
* checking if this is a source package ... OK
* checking if there is a namespace ... OK
* checking for hidden files and directories ... OK
* checking for portable file names ... OK
* checking whether package 'variancePartition' can be installed ... OK
* checking installed package size ... OK
* checking package directory ... OK
* checking 'build' directory ... OK
* checking DESCRIPTION meta-information ... OK
* checking top-level files ... OK
* checking for left-over files ... OK
* checking index information ... OK
* checking package subdirectories ... OK
* checking code files for non-ASCII characters ... OK
* checking R files for syntax errors ... OK
* checking whether the package can be loaded ... OK
* checking whether the package can be loaded with stated dependencies ... OK
* checking whether the package can be unloaded cleanly ... OK
* checking whether the namespace can be loaded with stated dependencies ... OK
* checking whether the namespace can be unloaded cleanly ... OK
* checking dependencies in R code ... NOTE
Unexported object imported by a ':::' call: 'lmerTest:::as_lmerModLT'
See the note in ?`:::` about the use of this operator.
* checking S3 generic/method consistency ... OK
* checking replacement functions ... OK
* checking foreign function calls ... OK
* checking R code for possible problems ... OK
* checking Rd files ... OK
* checking Rd metadata ... OK
* checking Rd cross-references ... OK
* checking for missing documentation entries ... OK
* checking for code/documentation mismatches ... OK
* checking Rd \usage sections ... NOTE
S3 methods shown with full name in Rd file 'residuals.MArrayLM2.Rd':
'residuals.MArrayLM2'
The \usage entries for S3 methods should use the \method markup and not
their full name.
See chapter 'Writing R documentation files' in the 'Writing R
Extensions' manual.
* checking Rd contents ... OK
* checking for unstated dependencies in examples ... OK
* checking contents of 'data' directory ... OK
* checking data for non-ASCII characters ... OK
* checking data for ASCII and uncompressed saves ... OK
* checking files in 'vignettes' ... NOTE
The following directory looks like a leftover from 'knitr':
'figure'
Please remove from your package.
* checking examples ... OK
Examples with CPU (user + system) or elapsed time > 5s
user system elapsed
fitVarPartModel-method 41.07 0.35 41.45
fitExtractVarPartModel-method 30.50 0.26 30.80
getTreat-method 28.00 0.22 28.23
plotCompareP-method 21.42 0.11 21.53
extractVarPart 19.21 0.22 19.45
varPartConfInf 13.54 0.12 13.68
sortCols-method 10.23 0.13 10.36
plotPercentBars-method 10.25 0.08 10.33
plotVarPart-method 9.62 0.13 9.75
mvTest-method 7.88 0.17 17.86
residuals-VarParFitList-method 7.42 0.02 7.43
dream-method 4.67 0.11 21.39
* checking for unstated dependencies in 'tests' ... OK
* checking tests ...
Running 'runTests.R'
OK
* checking for unstated dependencies in vignettes ... OK
* checking package vignettes ... OK
* checking running R code from vignettes ... SKIPPED
* checking re-building of vignette outputs ... SKIPPED
* checking PDF version of manual ... OK
* DONE
Status: 3 NOTEs
See
'E:/biocbuild/bbs-3.21-bioc/meat/variancePartition.Rcheck/00check.log'
for details.
variancePartition.Rcheck/00install.out
############################################################################## ############################################################################## ### ### Running command: ### ### E:\biocbuild\bbs-3.21-bioc\R\bin\R.exe CMD INSTALL variancePartition ### ############################################################################## ############################################################################## * installing to library 'E:/biocbuild/bbs-3.21-bioc/R/library' * installing *source* package 'variancePartition' ... ** this is package 'variancePartition' version '1.38.1' ** using staged installation ** R ** data ** inst ** byte-compile and prepare package for lazy loading in method for 'calcVarPart' with signature '"negbin"': no definition for class "negbin" in method for 'checkModelStatus' with signature '"negbin"': no definition for class "negbin" Creating a new generic function for 'eBayes' in package 'variancePartition' Creating a new generic function for 'classifyTestsF' in package 'variancePartition' Creating a new generic function for 'topTable' in package 'variancePartition' ** help Loading required namespace: variancePartition *** installing help indices *** copying figures ** building package indices ** installing vignettes ** testing if installed package can be loaded from temporary location ** testing if installed package can be loaded from final location ** testing if installed package keeps a record of temporary installation path * DONE (variancePartition)
variancePartition.Rcheck/tests/runTests.Rout
R version 4.5.1 (2025-06-13 ucrt) -- "Great Square Root"
Copyright (C) 2025 The R Foundation for Statistical Computing
Platform: x86_64-w64-mingw32/x64
R is free software and comes with ABSOLUTELY NO WARRANTY.
You are welcome to redistribute it under certain conditions.
Type 'license()' or 'licence()' for distribution details.
R is a collaborative project with many contributors.
Type 'contributors()' for more information and
'citation()' on how to cite R or R packages in publications.
Type 'demo()' for some demos, 'help()' for on-line help, or
'help.start()' for an HTML browser interface to help.
Type 'q()' to quit R.
> BiocGenerics:::testPackage("variancePartition")
Attaching package: 'variancePartition'
The following objects are masked from 'package:limma':
eBayes, topTable
Loading required package: lme4
Loading required package: Matrix
Attaching package: 'lmerTest'
The following object is masked from 'package:lme4':
lmer
The following object is masked from 'package:stats':
step
boundary (singular) fit: see help('isSingular')
boundary (singular) fit: see help('isSingular')
Removing intercept from test coefficients
Removing intercept from test coefficients
boundary (singular) fit: see help('isSingular')
boundary (singular) fit: see help('isSingular')
boundary (singular) fit: see help('isSingular')
boundary (singular) fit: see help('isSingular')
boundary (singular) fit: see help('isSingular')
boundary (singular) fit: see help('isSingular')
boundary (singular) fit: see help('isSingular')
boundary (singular) fit: see help('isSingular')
boundary (singular) fit: see help('isSingular')
boundary (singular) fit: see help('isSingular')
boundary (singular) fit: see help('isSingular')
boundary (singular) fit: see help('isSingular')
boundary (singular) fit: see help('isSingular')
boundary (singular) fit: see help('isSingular')
boundary (singular) fit: see help('isSingular')
boundary (singular) fit: see help('isSingular')
boundary (singular) fit: see help('isSingular')
boundary (singular) fit: see help('isSingular')
Removing intercept from test coefficients
Removing intercept from test coefficients
Loading required package: Rcpp
Loading required package: zigg
Loading required package: RcppParallel
Attaching package: 'RcppParallel'
The following object is masked from 'package:Rcpp':
LdFlags
Rfast: 2.1.5.1
___ __ __ __ __ __ __ __ __ __ _ _ __ __ __ __ __ __ __ __ __ __ __
| __ __ __ __ | | __ __ __ __ _/ / \ | __ __ __ __ / /__ __ _ _ __ __\
| | | | | | / _ \ | | / /
| | | | | | / / \ \ | | / /
| | | | | | / / \ \ | | / /
| |__ __ __ __| | | |__ __ __ __ / / \ \ | |__ __ __ __ _ / /__/\
| __ __ __ __| | __ __ __ __| / /__ _ __\ \ |_ __ __ __ _ | / ___ /
| \ | | / _ _ _ _ _ _ \ | | \/ / /
| |\ \ | | / / \ \ | | / /
| | \ \ | | / / \ \ | | / /
| | \ \ | | / / \ \ | | / /
| | \ \__ __ _ | | / / \ \ _ __ __ __ _| | / /
|_| \__ __ __\ |_| /_/ \_\ /_ __ __ __ ___| \/ team
Attaching package: 'Rfast'
The following object is masked from 'package:edgeR':
gini
Warning:
Variables contain NA's: Disease
Samples with missing data will be dropped.
RUNIT TEST PROTOCOL -- Fri Aug 15 08:20:06 2025
***********************************************
Number of test functions: 30
Number of errors: 0
Number of failures: 0
1 Test Suite :
variancePartition RUnit Tests - 30 test functions, 0 errors, 0 failures
Number of test functions: 30
Number of errors: 0
Number of failures: 0
There were 29 warnings (use warnings() to see them)
>
> proc.time()
user system elapsed
221.70 6.43 289.42
variancePartition.Rcheck/variancePartition-Ex.timings
| name | user | system | elapsed | |
| ESS-method | 0.21 | 0.00 | 0.22 | |
| as.data.frame.varPartResults | 0.46 | 0.00 | 0.45 | |
| as.matrix-varPartResults-method | 0.44 | 0.00 | 0.44 | |
| augmentPriorCount | 1.17 | 0.01 | 1.18 | |
| calcVarPart-method | 0.08 | 0.02 | 0.10 | |
| canCorPairs | 0.08 | 0.00 | 0.08 | |
| colinearityScore | 0.56 | 0.00 | 0.56 | |
| deviation-method | 1.19 | 0.06 | 1.25 | |
| diffVar-method | 1.48 | 0.08 | 1.56 | |
| dream-method | 4.67 | 0.11 | 21.39 | |
| extractVarPart | 19.21 | 0.22 | 19.45 | |
| fitExtractVarPartModel-method | 30.50 | 0.26 | 30.80 | |
| fitVarPartModel-method | 41.07 | 0.35 | 41.45 | |
| getContrast-method | 0.02 | 0.00 | 0.02 | |
| getTreat-method | 28.00 | 0.22 | 28.23 | |
| get_prediction-method | 0.06 | 0.03 | 0.13 | |
| ggColorHue | 0 | 0 | 0 | |
| makeContrastsDream | 2.11 | 0.01 | 2.12 | |
| mvTest-method | 7.88 | 0.17 | 17.86 | |
| plotCompareP-method | 21.42 | 0.11 | 21.53 | |
| plotContrasts | 0.22 | 0.00 | 0.22 | |
| plotCorrMatrix | 0.08 | 0.02 | 0.09 | |
| plotCorrStructure | 1.10 | 0.01 | 1.11 | |
| plotPercentBars-method | 10.25 | 0.08 | 10.33 | |
| plotStratify | 0.87 | 0.02 | 0.89 | |
| plotStratifyBy | 0.81 | 0.01 | 0.83 | |
| plotVarPart-method | 9.62 | 0.13 | 9.75 | |
| rdf | 0.05 | 0.00 | 0.04 | |
| rdf.merMod | 0.08 | 0.01 | 0.10 | |
| residuals-VarParFitList-method | 7.42 | 0.02 | 7.43 | |
| sortCols-method | 10.23 | 0.13 | 10.36 | |
| varPartConfInf | 13.54 | 0.12 | 13.68 | |
| vcovSqrt-method | 0.03 | 0.00 | 0.03 | |
| voomWithDreamWeights | 4.06 | 0.13 | 4.18 | |