| Back to Multiple platform build/check report for BioC 3.21: simplified long |
|
This page was generated on 2025-10-16 11:38 -0400 (Thu, 16 Oct 2025).
| Hostname | OS | Arch (*) | R version | Installed pkgs |
|---|---|---|---|---|
| nebbiolo1 | Linux (Ubuntu 24.04.3 LTS) | x86_64 | 4.5.1 (2025-06-13) -- "Great Square Root" | 4833 |
| merida1 | macOS 12.7.6 Monterey | x86_64 | 4.5.1 RC (2025-06-05 r88288) -- "Great Square Root" | 4614 |
| kjohnson1 | macOS 13.7.5 Ventura | arm64 | 4.5.1 Patched (2025-06-14 r88325) -- "Great Square Root" | 4555 |
| kunpeng2 | Linux (openEuler 24.03 LTS) | aarch64 | R Under development (unstable) (2025-02-19 r87757) -- "Unsuffered Consequences" | 4586 |
| Click on any hostname to see more info about the system (e.g. compilers) (*) as reported by 'uname -p', except on Windows and Mac OS X | ||||
| Package 2224/2341 | Hostname | OS / Arch | INSTALL | BUILD | CHECK | BUILD BIN | ||||||||
| transcriptogramer 1.30.0 (landing page) Diego Morais
| nebbiolo1 | Linux (Ubuntu 24.04.3 LTS) / x86_64 | OK | OK | OK | |||||||||
| merida1 | macOS 12.7.6 Monterey / x86_64 | OK | OK | OK | OK | |||||||||
| kjohnson1 | macOS 13.7.5 Ventura / arm64 | OK | OK | OK | OK | |||||||||
| kunpeng2 | Linux (openEuler 24.03 LTS) / aarch64 | OK | OK | NA | ||||||||||
|
To the developers/maintainers of the transcriptogramer package: - Allow up to 24 hours (and sometimes 48 hours) for your latest push to git@git.bioconductor.org:packages/transcriptogramer.git to reflect on this report. See Troubleshooting Build Report for more information. - Use the following Renviron settings to reproduce errors and warnings. - If 'R CMD check' started to fail recently on the Linux builder(s) over a missing dependency, add the missing dependency to 'Suggests:' in your DESCRIPTION file. See Renviron.bioc for more information. |
| Package: transcriptogramer |
| Version: 1.30.0 |
| Command: /home/biocbuild/bbs-3.21-bioc/R/bin/R CMD check --install=check:transcriptogramer.install-out.txt --library=/home/biocbuild/bbs-3.21-bioc/R/site-library --timings transcriptogramer_1.30.0.tar.gz |
| StartedAt: 2025-10-16 04:30:25 -0400 (Thu, 16 Oct 2025) |
| EndedAt: 2025-10-16 04:45:37 -0400 (Thu, 16 Oct 2025) |
| EllapsedTime: 912.1 seconds |
| RetCode: 0 |
| Status: OK |
| CheckDir: transcriptogramer.Rcheck |
| Warnings: 0 |
##############################################################################
##############################################################################
###
### Running command:
###
### /home/biocbuild/bbs-3.21-bioc/R/bin/R CMD check --install=check:transcriptogramer.install-out.txt --library=/home/biocbuild/bbs-3.21-bioc/R/site-library --timings transcriptogramer_1.30.0.tar.gz
###
##############################################################################
##############################################################################
* using log directory ‘/home/biocbuild/bbs-3.21-bioc/meat/transcriptogramer.Rcheck’
* using R version 4.5.1 (2025-06-13)
* using platform: x86_64-pc-linux-gnu
* R was compiled by
gcc (Ubuntu 13.3.0-6ubuntu2~24.04) 13.3.0
GNU Fortran (Ubuntu 13.3.0-6ubuntu2~24.04) 13.3.0
* running under: Ubuntu 24.04.3 LTS
* using session charset: UTF-8
* checking for file ‘transcriptogramer/DESCRIPTION’ ... OK
* checking extension type ... Package
* this is package ‘transcriptogramer’ version ‘1.30.0’
* package encoding: UTF-8
* checking package namespace information ... OK
* checking package dependencies ... OK
* checking if this is a source package ... OK
* checking if there is a namespace ... OK
* checking for hidden files and directories ... OK
* checking for portable file names ... OK
* checking for sufficient/correct file permissions ... OK
* checking whether package ‘transcriptogramer’ can be installed ... OK
* checking installed package size ... INFO
installed size is 5.1Mb
sub-directories of 1Mb or more:
data 4.6Mb
* checking package directory ... OK
* checking ‘build’ directory ... OK
* checking DESCRIPTION meta-information ... OK
* checking top-level files ... OK
* checking for left-over files ... OK
* checking index information ... OK
* checking package subdirectories ... OK
* checking code files for non-ASCII characters ... OK
* checking R files for syntax errors ... OK
* checking whether the package can be loaded ... OK
* checking whether the package can be loaded with stated dependencies ... OK
* checking whether the package can be unloaded cleanly ... OK
* checking whether the namespace can be loaded with stated dependencies ... OK
* checking whether the namespace can be unloaded cleanly ... OK
* checking loading without being on the library search path ... OK
* checking dependencies in R code ... OK
* checking S3 generic/method consistency ... OK
* checking replacement functions ... OK
* checking foreign function calls ... OK
* checking R code for possible problems ... OK
* checking Rd files ... OK
* checking Rd metadata ... OK
* checking Rd cross-references ... OK
* checking for missing documentation entries ... OK
* checking for code/documentation mismatches ... OK
* checking Rd \usage sections ... OK
* checking Rd contents ... OK
* checking for unstated dependencies in examples ... OK
* checking contents of ‘data’ directory ... OK
* checking data for non-ASCII characters ... OK
* checking LazyData ... OK
* checking data for ASCII and uncompressed saves ... OK
* checking files in ‘vignettes’ ... OK
* checking examples ... OK
* checking for unstated dependencies in ‘tests’ ... OK
* checking tests ...
Running ‘runTests.R’
OK
* checking for unstated dependencies in vignettes ... OK
* checking package vignettes ... OK
* checking re-building of vignette outputs ... OK
* checking PDF version of manual ... OK
* DONE
Status: OK
transcriptogramer.Rcheck/00install.out
############################################################################## ############################################################################## ### ### Running command: ### ### /home/biocbuild/bbs-3.21-bioc/R/bin/R CMD INSTALL transcriptogramer ### ############################################################################## ############################################################################## * installing to library ‘/home/biocbuild/bbs-3.21-bioc/R/site-library’ * installing *source* package ‘transcriptogramer’ ... ** this is package ‘transcriptogramer’ version ‘1.30.0’ ** using staged installation ** R ** data *** moving datasets to lazyload DB ** inst ** byte-compile and prepare package for lazy loading ** help *** installing help indices ** building package indices ** installing vignettes ** testing if installed package can be loaded from temporary location ** testing if installed package can be loaded from final location ** testing if installed package keeps a record of temporary installation path * DONE (transcriptogramer)
transcriptogramer.Rcheck/tests/runTests.Rout
R version 4.5.1 (2025-06-13) -- "Great Square Root"
Copyright (C) 2025 The R Foundation for Statistical Computing
Platform: x86_64-pc-linux-gnu
R is free software and comes with ABSOLUTELY NO WARRANTY.
You are welcome to redistribute it under certain conditions.
Type 'license()' or 'licence()' for distribution details.
R is a collaborative project with many contributors.
Type 'contributors()' for more information and
'citation()' on how to cite R or R packages in publications.
Type 'demo()' for some demos, 'help()' for on-line help, or
'help.start()' for an HTML browser interface to help.
Type 'q()' to quit R.
> BiocGenerics:::testPackage("transcriptogramer")
preprocessing input data... step 1 of 1
calculating node properties... step 1 of 2
** this may take some time...
applying sliding window and mounting resulting data... step 2 of 2
** this may take some time...
done!
mapping identifiers to ENSEMBL Peptide ID... step 1 of 2
averaging over all identifiers related to the same protein... step 2 of 2
done!
applying sliding window and mounting resulting data... step 1 of 1
done!
RUNIT TEST PROTOCOL -- Thu Oct 16 04:34:38 2025
***********************************************
Number of test functions: 3
Number of errors: 0
Number of failures: 0
1 Test Suite :
transcriptogramer RUnit Tests - 3 test functions, 0 errors, 0 failures
Number of test functions: 3
Number of errors: 0
Number of failures: 0
>
> proc.time()
user system elapsed
10.308 1.659 112.828
transcriptogramer.Rcheck/transcriptogramer-Ex.timings
| name | user | system | elapsed | |
| DE-method | 1.189 | 0.114 | 1.303 | |
| DEsymbols | 0.098 | 0.176 | 0.275 | |
| GPL570 | 0.392 | 0.568 | 0.961 | |
| GSE9988 | 0.348 | 0.660 | 1.009 | |
| Hs700 | 0.061 | 0.145 | 0.207 | |
| Hs800 | 0.046 | 0.131 | 0.177 | |
| Hs900 | 0.047 | 0.097 | 0.144 | |
| HsBPTerms | 0.478 | 0.771 | 1.249 | |
| Mm700 | 0.072 | 0.163 | 0.235 | |
| Mm800 | 0.043 | 0.144 | 0.186 | |
| Mm900 | 0.046 | 0.108 | 0.154 | |
| Rn700 | 0.074 | 0.164 | 0.240 | |
| Rn800 | 0.046 | 0.146 | 0.193 | |
| Rn900 | 0.048 | 0.102 | 0.149 | |
| Sc700 | 0.014 | 0.047 | 0.062 | |
| Sc800 | 0.013 | 0.046 | 0.058 | |
| Sc900 | 0.011 | 0.041 | 0.052 | |
| Terms-method | 0.061 | 0.019 | 0.080 | |
| association | 0.488 | 0.766 | 1.254 | |
| clusterEnrichment-method | 0.031 | 0.006 | 0.038 | |
| clusterVisualization-method | 0.045 | 0.017 | 0.063 | |
| connectivityProperties-method | 0.028 | 0.007 | 0.036 | |
| differentiallyExpressed-method | 0.042 | 0.011 | 0.053 | |
| enrichmentPlot-method | 0.028 | 0.000 | 0.029 | |
| orderingProperties-method | 0.043 | 0.000 | 0.044 | |
| radius-method | 0.029 | 0.000 | 0.029 | |
| transcriptogramPreprocess | 0.475 | 0.067 | 0.542 | |
| transcriptogramStep1-method | 0.031 | 0.007 | 0.038 | |
| transcriptogramStep2-method | 0.030 | 0.007 | 0.037 | |