| Back to Multiple platform build/check report for BioC 3.21: simplified long |
|
This page was generated on 2025-10-16 11:39 -0400 (Thu, 16 Oct 2025).
| Hostname | OS | Arch (*) | R version | Installed pkgs |
|---|---|---|---|---|
| nebbiolo1 | Linux (Ubuntu 24.04.3 LTS) | x86_64 | 4.5.1 (2025-06-13) -- "Great Square Root" | 4833 |
| merida1 | macOS 12.7.6 Monterey | x86_64 | 4.5.1 RC (2025-06-05 r88288) -- "Great Square Root" | 4614 |
| kjohnson1 | macOS 13.7.5 Ventura | arm64 | 4.5.1 Patched (2025-06-14 r88325) -- "Great Square Root" | 4555 |
| kunpeng2 | Linux (openEuler 24.03 LTS) | aarch64 | R Under development (unstable) (2025-02-19 r87757) -- "Unsuffered Consequences" | 4586 |
| Click on any hostname to see more info about the system (e.g. compilers) (*) as reported by 'uname -p', except on Windows and Mac OS X | ||||
| Package 2224/2341 | Hostname | OS / Arch | INSTALL | BUILD | CHECK | BUILD BIN | ||||||||
| transcriptogramer 1.30.0 (landing page) Diego Morais
| nebbiolo1 | Linux (Ubuntu 24.04.3 LTS) / x86_64 | OK | OK | OK | |||||||||
| merida1 | macOS 12.7.6 Monterey / x86_64 | OK | OK | OK | OK | |||||||||
| kjohnson1 | macOS 13.7.5 Ventura / arm64 | OK | OK | OK | OK | |||||||||
| kunpeng2 | Linux (openEuler 24.03 LTS) / aarch64 | OK | OK | NA | ||||||||||
|
To the developers/maintainers of the transcriptogramer package: - Allow up to 24 hours (and sometimes 48 hours) for your latest push to git@git.bioconductor.org:packages/transcriptogramer.git to reflect on this report. See Troubleshooting Build Report for more information. - Use the following Renviron settings to reproduce errors and warnings. - If 'R CMD check' started to fail recently on the Linux builder(s) over a missing dependency, add the missing dependency to 'Suggests:' in your DESCRIPTION file. See Renviron.bioc for more information. |
| Package: transcriptogramer |
| Version: 1.30.0 |
| Command: /Library/Frameworks/R.framework/Resources/bin/R CMD check --install=check:transcriptogramer.install-out.txt --library=/Library/Frameworks/R.framework/Resources/library --no-vignettes --timings transcriptogramer_1.30.0.tar.gz |
| StartedAt: 2025-10-14 11:47:45 -0400 (Tue, 14 Oct 2025) |
| EndedAt: 2025-10-14 11:55:16 -0400 (Tue, 14 Oct 2025) |
| EllapsedTime: 450.6 seconds |
| RetCode: 0 |
| Status: OK |
| CheckDir: transcriptogramer.Rcheck |
| Warnings: 0 |
##############################################################################
##############################################################################
###
### Running command:
###
### /Library/Frameworks/R.framework/Resources/bin/R CMD check --install=check:transcriptogramer.install-out.txt --library=/Library/Frameworks/R.framework/Resources/library --no-vignettes --timings transcriptogramer_1.30.0.tar.gz
###
##############################################################################
##############################################################################
* using log directory ‘/Users/biocbuild/bbs-3.21-bioc/meat/transcriptogramer.Rcheck’
* using R version 4.5.1 RC (2025-06-05 r88288)
* using platform: x86_64-apple-darwin20
* R was compiled by
Apple clang version 14.0.0 (clang-1400.0.29.202)
GNU Fortran (GCC) 14.2.0
* running under: macOS Monterey 12.7.6
* using session charset: UTF-8
* using option ‘--no-vignettes’
* checking for file ‘transcriptogramer/DESCRIPTION’ ... OK
* checking extension type ... Package
* this is package ‘transcriptogramer’ version ‘1.30.0’
* package encoding: UTF-8
* checking package namespace information ... OK
* checking package dependencies ... OK
* checking if this is a source package ... OK
* checking if there is a namespace ... OK
* checking for hidden files and directories ... OK
* checking for portable file names ... OK
* checking for sufficient/correct file permissions ... OK
* checking whether package ‘transcriptogramer’ can be installed ... OK
* checking installed package size ... INFO
installed size is 5.2Mb
sub-directories of 1Mb or more:
data 4.6Mb
* checking package directory ... OK
* checking ‘build’ directory ... OK
* checking DESCRIPTION meta-information ... OK
* checking top-level files ... OK
* checking for left-over files ... OK
* checking index information ... OK
* checking package subdirectories ... OK
* checking code files for non-ASCII characters ... OK
* checking R files for syntax errors ... OK
* checking whether the package can be loaded ... OK
* checking whether the package can be loaded with stated dependencies ... OK
* checking whether the package can be unloaded cleanly ... OK
* checking whether the namespace can be loaded with stated dependencies ... OK
* checking whether the namespace can be unloaded cleanly ... OK
* checking dependencies in R code ... OK
* checking S3 generic/method consistency ... OK
* checking replacement functions ... OK
* checking foreign function calls ... OK
* checking R code for possible problems ... OK
* checking Rd files ... OK
* checking Rd metadata ... OK
* checking Rd cross-references ... OK
* checking for missing documentation entries ... OK
* checking for code/documentation mismatches ... OK
* checking Rd \usage sections ... OK
* checking Rd contents ... OK
* checking for unstated dependencies in examples ... OK
* checking contents of ‘data’ directory ... OK
* checking data for non-ASCII characters ... OK
* checking LazyData ... OK
* checking data for ASCII and uncompressed saves ... OK
* checking files in ‘vignettes’ ... OK
* checking examples ... OK
* checking for unstated dependencies in ‘tests’ ... OK
* checking tests ...
Running ‘runTests.R’
OK
* checking for unstated dependencies in vignettes ... OK
* checking package vignettes ... OK
* checking running R code from vignettes ... SKIPPED
* checking re-building of vignette outputs ... SKIPPED
* checking PDF version of manual ... OK
* DONE
Status: OK
transcriptogramer.Rcheck/00install.out
############################################################################## ############################################################################## ### ### Running command: ### ### /Library/Frameworks/R.framework/Resources/bin/R CMD INSTALL transcriptogramer ### ############################################################################## ############################################################################## * installing to library ‘/Library/Frameworks/R.framework/Versions/4.5-x86_64/Resources/library’ * installing *source* package ‘transcriptogramer’ ... ** this is package ‘transcriptogramer’ version ‘1.30.0’ ** using staged installation ** R ** data *** moving datasets to lazyload DB ** inst ** byte-compile and prepare package for lazy loading ** help *** installing help indices ** building package indices ** installing vignettes ** testing if installed package can be loaded from temporary location ** testing if installed package can be loaded from final location ** testing if installed package keeps a record of temporary installation path * DONE (transcriptogramer)
transcriptogramer.Rcheck/tests/runTests.Rout
R version 4.5.1 RC (2025-06-05 r88288) -- "Great Square Root"
Copyright (C) 2025 The R Foundation for Statistical Computing
Platform: x86_64-apple-darwin20
R is free software and comes with ABSOLUTELY NO WARRANTY.
You are welcome to redistribute it under certain conditions.
Type 'license()' or 'licence()' for distribution details.
R is a collaborative project with many contributors.
Type 'contributors()' for more information and
'citation()' on how to cite R or R packages in publications.
Type 'demo()' for some demos, 'help()' for on-line help, or
'help.start()' for an HTML browser interface to help.
Type 'q()' to quit R.
> BiocGenerics:::testPackage("transcriptogramer")
preprocessing input data... step 1 of 1
calculating node properties... step 1 of 2
** this may take some time...
applying sliding window and mounting resulting data... step 2 of 2
** this may take some time...
done!
mapping identifiers to ENSEMBL Peptide ID... step 1 of 2
averaging over all identifiers related to the same protein... step 2 of 2
done!
applying sliding window and mounting resulting data... step 1 of 1
done!
RUNIT TEST PROTOCOL -- Tue Oct 14 11:54:59 2025
***********************************************
Number of test functions: 3
Number of errors: 0
Number of failures: 0
1 Test Suite :
transcriptogramer RUnit Tests - 3 test functions, 0 errors, 0 failures
Number of test functions: 3
Number of errors: 0
Number of failures: 0
>
> proc.time()
user system elapsed
18.964 1.849 136.910
transcriptogramer.Rcheck/transcriptogramer-Ex.timings
| name | user | system | elapsed | |
| DE-method | 1.597 | 0.071 | 1.680 | |
| DEsymbols | 0.323 | 0.491 | 0.817 | |
| GPL570 | 1.179 | 1.450 | 2.656 | |
| GSE9988 | 1.11 | 1.81 | 3.07 | |
| Hs700 | 0.211 | 0.366 | 0.587 | |
| Hs800 | 0.170 | 0.292 | 0.464 | |
| Hs900 | 0.143 | 0.262 | 0.406 | |
| HsBPTerms | 1.440 | 1.973 | 3.483 | |
| Mm700 | 0.225 | 0.423 | 0.649 | |
| Mm800 | 0.185 | 0.354 | 0.541 | |
| Mm900 | 0.151 | 0.283 | 0.436 | |
| Rn700 | 0.234 | 0.444 | 0.680 | |
| Rn800 | 0.182 | 0.331 | 0.514 | |
| Rn900 | 0.143 | 0.264 | 0.408 | |
| Sc700 | 0.055 | 0.114 | 0.169 | |
| Sc800 | 0.049 | 0.104 | 0.158 | |
| Sc900 | 0.048 | 0.106 | 0.154 | |
| Terms-method | 0.096 | 0.009 | 0.105 | |
| association | 1.694 | 1.976 | 3.676 | |
| clusterEnrichment-method | 0.055 | 0.005 | 0.061 | |
| clusterVisualization-method | 0.086 | 0.007 | 0.093 | |
| connectivityProperties-method | 0.053 | 0.005 | 0.058 | |
| differentiallyExpressed-method | 0.08 | 0.01 | 0.09 | |
| enrichmentPlot-method | 0.054 | 0.003 | 0.057 | |
| orderingProperties-method | 0.079 | 0.004 | 0.083 | |
| radius-method | 0.053 | 0.003 | 0.056 | |
| transcriptogramPreprocess | 0.127 | 0.008 | 0.136 | |
| transcriptogramStep1-method | 0.054 | 0.002 | 0.057 | |
| transcriptogramStep2-method | 0.052 | 0.004 | 0.058 | |