Back to Multiple platform build/check report for BioC 3.21: simplified long |
|
This page was generated on 2025-02-15 11:43 -0500 (Sat, 15 Feb 2025).
Hostname | OS | Arch (*) | R version | Installed pkgs |
---|---|---|---|---|
nebbiolo1 | Linux (Ubuntu 24.04.1 LTS) | x86_64 | R Under development (unstable) (2025-01-20 r87609) -- "Unsuffered Consequences" | 4720 |
palomino7 | Windows Server 2022 Datacenter | x64 | R Under development (unstable) (2025-01-21 r87610 ucrt) -- "Unsuffered Consequences" | 4482 |
lconway | macOS 12.7.1 Monterey | x86_64 | R Under development (unstable) (2025-01-22 r87618) -- "Unsuffered Consequences" | 4493 |
kjohnson3 | macOS 13.7.1 Ventura | arm64 | R Under development (unstable) (2025-01-20 r87609) -- "Unsuffered Consequences" | 4446 |
Click on any hostname to see more info about the system (e.g. compilers) (*) as reported by 'uname -p', except on Windows and Mac OS X |
Package 2150/2295 | Hostname | OS / Arch | INSTALL | BUILD | CHECK | BUILD BIN | ||||||||
tidytof 1.1.0 (landing page) Timothy Keyes
| nebbiolo1 | Linux (Ubuntu 24.04.1 LTS) / x86_64 | OK | OK | OK | ![]() | ||||||||
palomino7 | Windows Server 2022 Datacenter / x64 | OK | OK | OK | OK | ![]() | ||||||||
lconway | macOS 12.7.1 Monterey / x86_64 | OK | OK | OK | OK | ![]() | ||||||||
kjohnson3 | macOS 13.7.1 Ventura / arm64 | OK | OK | OK | OK | ![]() | ||||||||
To the developers/maintainers of the tidytof package: - Allow up to 24 hours (and sometimes 48 hours) for your latest push to git@git.bioconductor.org:packages/tidytof.git to reflect on this report. See Troubleshooting Build Report for more information. - Use the following Renviron settings to reproduce errors and warnings. - If 'R CMD check' started to fail recently on the Linux builder(s) over a missing dependency, add the missing dependency to 'Suggests:' in your DESCRIPTION file. See Renviron.bioc for more information. |
Package: tidytof |
Version: 1.1.0 |
Command: /Library/Frameworks/R.framework/Resources/bin/R CMD check --install=check:tidytof.install-out.txt --library=/Library/Frameworks/R.framework/Resources/library --no-vignettes --timings tidytof_1.1.0.tar.gz |
StartedAt: 2025-02-14 23:38:54 -0500 (Fri, 14 Feb 2025) |
EndedAt: 2025-02-14 23:45:59 -0500 (Fri, 14 Feb 2025) |
EllapsedTime: 424.9 seconds |
RetCode: 0 |
Status: OK |
CheckDir: tidytof.Rcheck |
Warnings: 0 |
############################################################################## ############################################################################## ### ### Running command: ### ### /Library/Frameworks/R.framework/Resources/bin/R CMD check --install=check:tidytof.install-out.txt --library=/Library/Frameworks/R.framework/Resources/library --no-vignettes --timings tidytof_1.1.0.tar.gz ### ############################################################################## ############################################################################## * using log directory ‘/Users/biocbuild/bbs-3.21-bioc/meat/tidytof.Rcheck’ * using R Under development (unstable) (2025-01-22 r87618) * using platform: x86_64-apple-darwin20 * R was compiled by Apple clang version 14.0.0 (clang-1400.0.29.202) GNU Fortran (GCC) 14.2.0 * running under: macOS Monterey 12.7.6 * using session charset: UTF-8 * using option ‘--no-vignettes’ * checking for file ‘tidytof/DESCRIPTION’ ... OK * checking extension type ... Package * this is package ‘tidytof’ version ‘1.1.0’ * package encoding: UTF-8 * checking package namespace information ... OK * checking package dependencies ... OK * checking if this is a source package ... OK * checking if there is a namespace ... OK * checking for hidden files and directories ... OK * checking for portable file names ... OK * checking for sufficient/correct file permissions ... OK * checking whether package ‘tidytof’ can be installed ... OK * used C++ compiler: ‘Apple clang version 14.0.0 (clang-1400.0.29.202)’ * used SDK: ‘MacOSX11.3.sdk’ * checking installed package size ... OK * checking package directory ... OK * checking ‘build’ directory ... OK * checking DESCRIPTION meta-information ... OK * checking top-level files ... OK * checking for left-over files ... OK * checking index information ... OK * checking package subdirectories ... OK * checking code files for non-ASCII characters ... OK * checking R files for syntax errors ... OK * checking whether the package can be loaded ... OK * checking whether the package can be loaded with stated dependencies ... OK * checking whether the package can be unloaded cleanly ... OK * checking whether the namespace can be loaded with stated dependencies ... OK * checking whether the namespace can be unloaded cleanly ... OK * checking dependencies in R code ... OK * checking S3 generic/method consistency ... OK * checking replacement functions ... OK * checking foreign function calls ... OK * checking R code for possible problems ... OK * checking Rd files ... OK * checking Rd metadata ... OK * checking Rd cross-references ... OK * checking for missing documentation entries ... OK * checking for code/documentation mismatches ... OK * checking Rd \usage sections ... OK * checking Rd contents ... OK * checking for unstated dependencies in examples ... OK * checking contents of ‘data’ directory ... OK * checking data for non-ASCII characters ... OK * checking data for ASCII and uncompressed saves ... OK * checking R/sysdata.rda ... OK * checking line endings in C/C++/Fortran sources/headers ... OK * checking compiled code ... NOTE Note: information on .o files is not available * checking files in ‘vignettes’ ... OK * checking examples ... OK Examples with CPU (user + system) or elapsed time > 5s user system elapsed tof_assess_clusters_knn 8.975 0.063 9.082 tof_cluster_flowsom 5.025 0.842 5.920 * checking for unstated dependencies in ‘tests’ ... OK * checking tests ... Running ‘spelling.R’ Running ‘testthat.R’ OK * checking for unstated dependencies in vignettes ... OK * checking package vignettes ... OK * checking running R code from vignettes ... SKIPPED * checking re-building of vignette outputs ... SKIPPED * checking PDF version of manual ... OK * DONE Status: 1 NOTE See ‘/Users/biocbuild/bbs-3.21-bioc/meat/tidytof.Rcheck/00check.log’ for details.
tidytof.Rcheck/00install.out
############################################################################## ############################################################################## ### ### Running command: ### ### /Library/Frameworks/R.framework/Resources/bin/R CMD INSTALL tidytof ### ############################################################################## ############################################################################## * installing to library ‘/Library/Frameworks/R.framework/Versions/4.5-x86_64/Resources/library’ * installing *source* package ‘tidytof’ ... ** this is package ‘tidytof’ version ‘1.1.0’ ** using staged installation ** libs using C++ compiler: ‘Apple clang version 14.0.0 (clang-1400.0.29.202)’ using SDK: ‘MacOSX11.3.sdk’ clang++ -arch x86_64 -std=gnu++17 -I"/Library/Frameworks/R.framework/Resources/include" -DNDEBUG -I'/Library/Frameworks/R.framework/Versions/4.5-x86_64/Resources/library/Rcpp/include' -I/opt/R/x86_64/include -fPIC -falign-functions=64 -Wall -g -O2 -DR_NO_REMAP -c RcppExports.cpp -o RcppExports.o clang++ -arch x86_64 -std=gnu++17 -I"/Library/Frameworks/R.framework/Resources/include" -DNDEBUG -I'/Library/Frameworks/R.framework/Versions/4.5-x86_64/Resources/library/Rcpp/include' -I/opt/R/x86_64/include -fPIC -falign-functions=64 -Wall -g -O2 -DR_NO_REMAP -c code.cpp -o code.o clang++ -arch x86_64 -std=gnu++17 -dynamiclib -Wl,-headerpad_max_install_names -undefined dynamic_lookup -L/Library/Frameworks/R.framework/Resources/lib -L/opt/R/x86_64/lib -o tidytof.so RcppExports.o code.o -F/Library/Frameworks/R.framework/.. -framework R -Wl,-framework -Wl,CoreFoundation installing to /Library/Frameworks/R.framework/Versions/4.5-x86_64/Resources/library/00LOCK-tidytof/00new/tidytof/libs ** R ** data ** inst ** byte-compile and prepare package for lazy loading ** help *** installing help indices *** copying figures ** building package indices ** installing vignettes ** testing if installed package can be loaded from temporary location ** checking absolute paths in shared objects and dynamic libraries ** testing if installed package can be loaded from final location ** testing if installed package keeps a record of temporary installation path * DONE (tidytof)
tidytof.Rcheck/tests/spelling.Rout
R Under development (unstable) (2025-01-22 r87618) -- "Unsuffered Consequences" Copyright (C) 2025 The R Foundation for Statistical Computing Platform: x86_64-apple-darwin20 R is free software and comes with ABSOLUTELY NO WARRANTY. You are welcome to redistribute it under certain conditions. Type 'license()' or 'licence()' for distribution details. R is a collaborative project with many contributors. Type 'contributors()' for more information and 'citation()' on how to cite R or R packages in publications. Type 'demo()' for some demos, 'help()' for on-line help, or 'help.start()' for an HTML browser interface to help. Type 'q()' to quit R. > if (requireNamespace("spelling", quietly = TRUE)) { + spelling::spell_check_test( + vignettes = TRUE, error = FALSE, + skip_on_cran = TRUE + ) + } NULL > > proc.time() user system elapsed 0.194 0.076 0.266
tidytof.Rcheck/tests/testthat.Rout
R Under development (unstable) (2025-01-22 r87618) -- "Unsuffered Consequences" Copyright (C) 2025 The R Foundation for Statistical Computing Platform: x86_64-apple-darwin20 R is free software and comes with ABSOLUTELY NO WARRANTY. You are welcome to redistribute it under certain conditions. Type 'license()' or 'licence()' for distribution details. R is a collaborative project with many contributors. Type 'contributors()' for more information and 'citation()' on how to cite R or R packages in publications. Type 'demo()' for some demos, 'help()' for on-line help, or 'help.start()' for an HTML browser interface to help. Type 'q()' to quit R. > Sys.setenv(R_TESTS="") > library(testthat) > library(tidytof) Attaching package: 'tidytof' The following object is masked from 'package:testthat': matches > test_check("tidytof") Attaching package: 'dplyr' The following object is masked from 'package:testthat': matches The following objects are masked from 'package:stats': filter, lag The following objects are masked from 'package:base': intersect, setdiff, setequal, union Attaching package: 'purrr' The following object is masked from 'package:testthat': is_null Attaching package: 'tidyr' The following object is masked from 'package:testthat': matches Loading required namespace: diffcyt Attaching package: 'readr' The following objects are masked from 'package:testthat': edition_get, local_edition [ FAIL 0 | WARN 0 | SKIP 0 | PASS 709 ] > > proc.time() user system elapsed 206.506 7.463 213.567
tidytof.Rcheck/tidytof-Ex.timings
name | user | system | elapsed | |
as_SingleCellExperiment | 0 | 0 | 0 | |
as_flowFrame | 0 | 0 | 0 | |
as_flowSet | 0.001 | 0.000 | 0.001 | |
as_seurat | 0 | 0 | 0 | |
as_tof_tbl | 0.054 | 0.006 | 0.062 | |
make_flowcore_annotated_data_frame | 0 | 0 | 0 | |
reexports | 0.000 | 0.000 | 0.001 | |
rev_asinh | 0 | 0 | 0 | |
tidytof_example_data | 0.003 | 0.002 | 0.004 | |
tof_analyze_abundance | 0 | 0 | 0 | |
tof_analyze_abundance_diffcyt | 0.000 | 0.000 | 0.001 | |
tof_analyze_abundance_glmm | 0.000 | 0.001 | 0.000 | |
tof_analyze_abundance_ttest | 0 | 0 | 0 | |
tof_analyze_expression | 0 | 0 | 0 | |
tof_analyze_expression_diffcyt | 0.000 | 0.001 | 0.001 | |
tof_analyze_expression_lmm | 0.001 | 0.000 | 0.000 | |
tof_analyze_expression_ttest | 0.000 | 0.000 | 0.001 | |
tof_annotate_clusters | 0.107 | 0.012 | 0.120 | |
tof_apply_classifier | 0 | 0 | 0 | |
tof_assess_channels | 0.096 | 0.008 | 0.104 | |
tof_assess_clusters_distance | 0.506 | 0.038 | 0.547 | |
tof_assess_clusters_entropy | 0.704 | 0.008 | 0.715 | |
tof_assess_clusters_knn | 8.975 | 0.063 | 9.082 | |
tof_assess_flow_rate | 0.796 | 0.011 | 0.812 | |
tof_assess_flow_rate_tibble | 0.206 | 0.003 | 0.210 | |
tof_assess_model | 0.376 | 0.007 | 0.386 | |
tof_batch_correct | 0 | 0 | 0 | |
tof_batch_correct_quantile | 0 | 0 | 0 | |
tof_batch_correct_quantile_tibble | 0.001 | 0.001 | 0.000 | |
tof_batch_correct_rescale | 0 | 0 | 0 | |
tof_calculate_flow_rate | 0.016 | 0.000 | 0.017 | |
tof_cluster | 0.552 | 0.015 | 0.571 | |
tof_cluster_ddpr | 0.205 | 0.003 | 0.208 | |
tof_cluster_flowsom | 5.025 | 0.842 | 5.920 | |
tof_cluster_kmeans | 0.039 | 0.000 | 0.039 | |
tof_cluster_phenograph | 1.747 | 0.040 | 1.797 | |
tof_cosine_dist | 0.000 | 0.001 | 0.000 | |
tof_create_grid | 0.054 | 0.001 | 0.055 | |
tof_downsample | 0.170 | 0.003 | 0.176 | |
tof_downsample_constant | 0.070 | 0.001 | 0.071 | |
tof_downsample_density | 0.568 | 0.012 | 0.581 | |
tof_downsample_prop | 0.094 | 0.009 | 0.103 | |
tof_estimate_density | 0.379 | 0.004 | 0.384 | |
tof_extract_central_tendency | 0.194 | 0.001 | 0.196 | |
tof_extract_emd | 0.923 | 0.068 | 0.998 | |
tof_extract_features | 0.623 | 0.012 | 0.638 | |
tof_extract_jsd | 1.099 | 0.124 | 1.255 | |
tof_extract_proportion | 0.153 | 0.001 | 0.156 | |
tof_extract_threshold | 0.166 | 0.002 | 0.170 | |
tof_find_knn | 0.203 | 0.258 | 0.464 | |
tof_generate_palette | 0.000 | 0.000 | 0.001 | |
tof_get_model_mixture | 0.272 | 0.005 | 0.279 | |
tof_get_model_outcomes | 0.231 | 0.003 | 0.235 | |
tof_get_model_penalty | 0.255 | 0.003 | 0.258 | |
tof_get_model_training_data | 0.295 | 0.003 | 0.301 | |
tof_get_model_type | 0.242 | 0.002 | 0.246 | |
tof_get_model_x | 0.258 | 0.004 | 0.264 | |
tof_get_model_y | 0.239 | 0.002 | 0.242 | |
tof_get_panel | 0.045 | 0.001 | 0.046 | |
tof_log_rank_test | 0.000 | 0.000 | 0.001 | |
tof_make_knn_graph | 0 | 0 | 0 | |
tof_make_roc_curve | 0.334 | 0.004 | 0.338 | |
tof_metacluster | 0.699 | 0.039 | 0.746 | |
tof_metacluster_consensus | 0.271 | 0.018 | 0.295 | |
tof_metacluster_flowsom | 0.754 | 0.033 | 0.797 | |
tof_metacluster_hierarchical | 0.054 | 0.001 | 0.055 | |
tof_metacluster_kmeans | 0.056 | 0.001 | 0.057 | |
tof_metacluster_phenograph | 0.079 | 0.001 | 0.080 | |
tof_plot_cells_density | 0.049 | 0.001 | 0.050 | |
tof_plot_cells_embedding | 2.896 | 0.111 | 3.032 | |
tof_plot_cells_layout | 3.044 | 0.015 | 3.075 | |
tof_plot_cells_scatter | 0.003 | 0.000 | 0.003 | |
tof_plot_clusters_heatmap | 0.075 | 0.001 | 0.078 | |
tof_plot_clusters_mst | 0.246 | 0.002 | 0.251 | |
tof_plot_clusters_volcano | 0.044 | 0.001 | 0.045 | |
tof_plot_model | 0.739 | 0.010 | 0.751 | |
tof_plot_sample_features | 0.093 | 0.001 | 0.095 | |
tof_plot_sample_heatmap | 0.046 | 0.001 | 0.046 | |
tof_postprocess | 0.104 | 0.003 | 0.106 | |
tof_predict | 0.249 | 0.002 | 0.253 | |
tof_preprocess | 0.157 | 0.003 | 0.161 | |
tof_read_data | 0.072 | 0.003 | 0.075 | |
tof_reduce_dimensions | 2.295 | 0.055 | 2.354 | |
tof_reduce_pca | 0.167 | 0.002 | 0.169 | |
tof_reduce_tsne | 0.846 | 0.028 | 0.881 | |
tof_reduce_umap | 3.320 | 0.056 | 3.347 | |
tof_set_panel | 0.085 | 0.002 | 0.087 | |
tof_spade_density | 0.491 | 0.005 | 0.498 | |
tof_split_data | 0.042 | 0.001 | 0.044 | |
tof_split_tidytof_reduced_dimensions | 0 | 0 | 0 | |
tof_train_model | 2.062 | 0.018 | 2.093 | |
tof_transform | 0.176 | 0.003 | 0.180 | |
tof_upsample | 0.284 | 0.003 | 0.290 | |
tof_upsample_distance | 0.375 | 0.003 | 0.380 | |
tof_upsample_neighbor | 0.062 | 0.002 | 0.064 | |
tof_write_data | 0 | 0 | 0 | |
tof_write_fcs | 0 | 0 | 0 | |
where | 0 | 0 | 0 | |