Back to Multiple platform build/check report for BioC 3.21: simplified long |
|
This page was generated on 2025-02-15 11:40 -0500 (Sat, 15 Feb 2025).
Hostname | OS | Arch (*) | R version | Installed pkgs |
---|---|---|---|---|
nebbiolo1 | Linux (Ubuntu 24.04.1 LTS) | x86_64 | R Under development (unstable) (2025-01-20 r87609) -- "Unsuffered Consequences" | 4720 |
palomino7 | Windows Server 2022 Datacenter | x64 | R Under development (unstable) (2025-01-21 r87610 ucrt) -- "Unsuffered Consequences" | 4482 |
lconway | macOS 12.7.1 Monterey | x86_64 | R Under development (unstable) (2025-01-22 r87618) -- "Unsuffered Consequences" | 4493 |
kjohnson3 | macOS 13.7.1 Ventura | arm64 | R Under development (unstable) (2025-01-20 r87609) -- "Unsuffered Consequences" | 4446 |
Click on any hostname to see more info about the system (e.g. compilers) (*) as reported by 'uname -p', except on Windows and Mac OS X |
Package 2150/2295 | Hostname | OS / Arch | INSTALL | BUILD | CHECK | BUILD BIN | ||||||||
tidytof 1.1.0 (landing page) Timothy Keyes
| nebbiolo1 | Linux (Ubuntu 24.04.1 LTS) / x86_64 | OK | OK | OK | ![]() | ||||||||
palomino7 | Windows Server 2022 Datacenter / x64 | OK | OK | OK | OK | ![]() | ||||||||
lconway | macOS 12.7.1 Monterey / x86_64 | OK | OK | OK | OK | ![]() | ||||||||
kjohnson3 | macOS 13.7.1 Ventura / arm64 | OK | OK | OK | OK | ![]() | ||||||||
To the developers/maintainers of the tidytof package: - Allow up to 24 hours (and sometimes 48 hours) for your latest push to git@git.bioconductor.org:packages/tidytof.git to reflect on this report. See Troubleshooting Build Report for more information. - Use the following Renviron settings to reproduce errors and warnings. - If 'R CMD check' started to fail recently on the Linux builder(s) over a missing dependency, add the missing dependency to 'Suggests:' in your DESCRIPTION file. See Renviron.bioc for more information. |
Package: tidytof |
Version: 1.1.0 |
Command: /home/biocbuild/bbs-3.21-bioc/R/bin/R CMD check --install=check:tidytof.install-out.txt --library=/home/biocbuild/bbs-3.21-bioc/R/site-library --timings tidytof_1.1.0.tar.gz |
StartedAt: 2025-02-15 02:58:44 -0500 (Sat, 15 Feb 2025) |
EndedAt: 2025-02-15 03:10:09 -0500 (Sat, 15 Feb 2025) |
EllapsedTime: 684.9 seconds |
RetCode: 0 |
Status: OK |
CheckDir: tidytof.Rcheck |
Warnings: 0 |
############################################################################## ############################################################################## ### ### Running command: ### ### /home/biocbuild/bbs-3.21-bioc/R/bin/R CMD check --install=check:tidytof.install-out.txt --library=/home/biocbuild/bbs-3.21-bioc/R/site-library --timings tidytof_1.1.0.tar.gz ### ############################################################################## ############################################################################## * using log directory ‘/home/biocbuild/bbs-3.21-bioc/meat/tidytof.Rcheck’ * using R Under development (unstable) (2025-01-20 r87609) * using platform: x86_64-pc-linux-gnu * R was compiled by gcc (Ubuntu 13.3.0-6ubuntu2~24.04) 13.3.0 GNU Fortran (Ubuntu 13.3.0-6ubuntu2~24.04) 13.3.0 * running under: Ubuntu 24.04.2 LTS * using session charset: UTF-8 * checking for file ‘tidytof/DESCRIPTION’ ... OK * checking extension type ... Package * this is package ‘tidytof’ version ‘1.1.0’ * package encoding: UTF-8 * checking package namespace information ... OK * checking package dependencies ... OK * checking if this is a source package ... OK * checking if there is a namespace ... OK * checking for hidden files and directories ... OK * checking for portable file names ... OK * checking for sufficient/correct file permissions ... OK * checking whether package ‘tidytof’ can be installed ... OK * used C++ compiler: ‘g++ (Ubuntu 13.3.0-6ubuntu2~24.04) 13.3.0’ * checking installed package size ... OK * checking package directory ... OK * checking ‘build’ directory ... OK * checking DESCRIPTION meta-information ... OK * checking top-level files ... OK * checking for left-over files ... OK * checking index information ... OK * checking package subdirectories ... OK * checking code files for non-ASCII characters ... OK * checking R files for syntax errors ... OK * checking whether the package can be loaded ... OK * checking whether the package can be loaded with stated dependencies ... OK * checking whether the package can be unloaded cleanly ... OK * checking whether the namespace can be loaded with stated dependencies ... OK * checking whether the namespace can be unloaded cleanly ... OK * checking loading without being on the library search path ... OK * checking dependencies in R code ... OK * checking S3 generic/method consistency ... OK * checking replacement functions ... OK * checking foreign function calls ... OK * checking R code for possible problems ... OK * checking Rd files ... OK * checking Rd metadata ... OK * checking Rd cross-references ... OK * checking for missing documentation entries ... OK * checking for code/documentation mismatches ... OK * checking Rd \usage sections ... OK * checking Rd contents ... OK * checking for unstated dependencies in examples ... OK * checking contents of ‘data’ directory ... OK * checking data for non-ASCII characters ... OK * checking data for ASCII and uncompressed saves ... OK * checking R/sysdata.rda ... OK * checking line endings in C/C++/Fortran sources/headers ... OK * checking compiled code ... NOTE Note: information on .o files is not available * checking files in ‘vignettes’ ... OK * checking examples ... OK Examples with CPU (user + system) or elapsed time > 5s user system elapsed tof_assess_clusters_knn 7.202 0.11 7.314 * checking for unstated dependencies in ‘tests’ ... OK * checking tests ... Running ‘spelling.R’ Running ‘testthat.R’ OK * checking for unstated dependencies in vignettes ... OK * checking package vignettes ... OK * checking re-building of vignette outputs ... OK * checking PDF version of manual ... OK * DONE Status: 1 NOTE See ‘/home/biocbuild/bbs-3.21-bioc/meat/tidytof.Rcheck/00check.log’ for details.
tidytof.Rcheck/00install.out
############################################################################## ############################################################################## ### ### Running command: ### ### /home/biocbuild/bbs-3.21-bioc/R/bin/R CMD INSTALL tidytof ### ############################################################################## ############################################################################## * installing to library ‘/home/biocbuild/bbs-3.21-bioc/R/site-library’ * installing *source* package ‘tidytof’ ... ** this is package ‘tidytof’ version ‘1.1.0’ ** using staged installation ** libs using C++ compiler: ‘g++ (Ubuntu 13.3.0-6ubuntu2~24.04) 13.3.0’ g++ -std=gnu++17 -I"/home/biocbuild/bbs-3.21-bioc/R/include" -DNDEBUG -I'/home/biocbuild/bbs-3.21-bioc/R/site-library/Rcpp/include' -I/usr/local/include -fpic -g -O2 -DR_NO_REMAP -c RcppExports.cpp -o RcppExports.o g++ -std=gnu++17 -I"/home/biocbuild/bbs-3.21-bioc/R/include" -DNDEBUG -I'/home/biocbuild/bbs-3.21-bioc/R/site-library/Rcpp/include' -I/usr/local/include -fpic -g -O2 -DR_NO_REMAP -c code.cpp -o code.o g++ -std=gnu++17 -shared -L/home/biocbuild/bbs-3.21-bioc/R/lib -L/usr/local/lib -o tidytof.so RcppExports.o code.o -L/home/biocbuild/bbs-3.21-bioc/R/lib -lR installing to /home/biocbuild/bbs-3.21-bioc/R/site-library/00LOCK-tidytof/00new/tidytof/libs ** R ** data ** inst ** byte-compile and prepare package for lazy loading ** help *** installing help indices *** copying figures ** building package indices ** installing vignettes ** testing if installed package can be loaded from temporary location ** checking absolute paths in shared objects and dynamic libraries ** testing if installed package can be loaded from final location ** testing if installed package keeps a record of temporary installation path * DONE (tidytof)
tidytof.Rcheck/tests/spelling.Rout
R Under development (unstable) (2025-01-20 r87609) -- "Unsuffered Consequences" Copyright (C) 2025 The R Foundation for Statistical Computing Platform: x86_64-pc-linux-gnu R is free software and comes with ABSOLUTELY NO WARRANTY. You are welcome to redistribute it under certain conditions. Type 'license()' or 'licence()' for distribution details. R is a collaborative project with many contributors. Type 'contributors()' for more information and 'citation()' on how to cite R or R packages in publications. Type 'demo()' for some demos, 'help()' for on-line help, or 'help.start()' for an HTML browser interface to help. Type 'q()' to quit R. > if (requireNamespace("spelling", quietly = TRUE)) { + spelling::spell_check_test( + vignettes = TRUE, error = FALSE, + skip_on_cran = TRUE + ) + } NULL > > proc.time() user system elapsed 0.143 0.036 0.167
tidytof.Rcheck/tests/testthat.Rout
R Under development (unstable) (2025-01-20 r87609) -- "Unsuffered Consequences" Copyright (C) 2025 The R Foundation for Statistical Computing Platform: x86_64-pc-linux-gnu R is free software and comes with ABSOLUTELY NO WARRANTY. You are welcome to redistribute it under certain conditions. Type 'license()' or 'licence()' for distribution details. R is a collaborative project with many contributors. Type 'contributors()' for more information and 'citation()' on how to cite R or R packages in publications. Type 'demo()' for some demos, 'help()' for on-line help, or 'help.start()' for an HTML browser interface to help. Type 'q()' to quit R. > Sys.setenv(R_TESTS="") > library(testthat) > library(tidytof) Attaching package: 'tidytof' The following object is masked from 'package:testthat': matches > test_check("tidytof") Attaching package: 'dplyr' The following object is masked from 'package:testthat': matches The following objects are masked from 'package:stats': filter, lag The following objects are masked from 'package:base': intersect, setdiff, setequal, union Attaching package: 'purrr' The following object is masked from 'package:testthat': is_null Attaching package: 'tidyr' The following object is masked from 'package:testthat': matches Loading required namespace: diffcyt Attaching package: 'readr' The following objects are masked from 'package:testthat': edition_get, local_edition [ FAIL 0 | WARN 0 | SKIP 0 | PASS 709 ] > > proc.time() user system elapsed 192.125 3.819 193.521
tidytof.Rcheck/tidytof-Ex.timings
name | user | system | elapsed | |
as_SingleCellExperiment | 0 | 0 | 0 | |
as_flowFrame | 0 | 0 | 0 | |
as_flowSet | 0 | 0 | 0 | |
as_seurat | 0 | 0 | 0 | |
as_tof_tbl | 0.045 | 0.005 | 0.051 | |
make_flowcore_annotated_data_frame | 0.001 | 0.001 | 0.000 | |
reexports | 0 | 0 | 0 | |
rev_asinh | 0.000 | 0.000 | 0.001 | |
tidytof_example_data | 0.000 | 0.001 | 0.002 | |
tof_analyze_abundance | 0.001 | 0.001 | 0.000 | |
tof_analyze_abundance_diffcyt | 0 | 0 | 0 | |
tof_analyze_abundance_glmm | 0 | 0 | 0 | |
tof_analyze_abundance_ttest | 0 | 0 | 0 | |
tof_analyze_expression | 0 | 0 | 0 | |
tof_analyze_expression_diffcyt | 0 | 0 | 0 | |
tof_analyze_expression_lmm | 0 | 0 | 0 | |
tof_analyze_expression_ttest | 0.000 | 0.000 | 0.001 | |
tof_annotate_clusters | 0.094 | 0.008 | 0.104 | |
tof_apply_classifier | 0.000 | 0.000 | 0.001 | |
tof_assess_channels | 0.078 | 0.006 | 0.085 | |
tof_assess_clusters_distance | 0.381 | 0.047 | 0.427 | |
tof_assess_clusters_entropy | 0.605 | 0.017 | 0.623 | |
tof_assess_clusters_knn | 7.202 | 0.110 | 7.314 | |
tof_assess_flow_rate | 0.647 | 0.042 | 0.689 | |
tof_assess_flow_rate_tibble | 0.167 | 0.010 | 0.178 | |
tof_assess_model | 0.304 | 0.005 | 0.309 | |
tof_batch_correct | 0 | 0 | 0 | |
tof_batch_correct_quantile | 0 | 0 | 0 | |
tof_batch_correct_quantile_tibble | 0 | 0 | 0 | |
tof_batch_correct_rescale | 0 | 0 | 0 | |
tof_calculate_flow_rate | 0.012 | 0.000 | 0.013 | |
tof_cluster | 0.398 | 0.017 | 0.416 | |
tof_cluster_ddpr | 0.154 | 0.002 | 0.156 | |
tof_cluster_flowsom | 4.378 | 0.055 | 4.435 | |
tof_cluster_kmeans | 0.029 | 0.000 | 0.029 | |
tof_cluster_phenograph | 1.441 | 0.001 | 1.442 | |
tof_cosine_dist | 0.000 | 0.000 | 0.001 | |
tof_create_grid | 0.045 | 0.001 | 0.046 | |
tof_downsample | 0.157 | 0.002 | 0.159 | |
tof_downsample_constant | 0.061 | 0.001 | 0.062 | |
tof_downsample_density | 0.564 | 0.008 | 0.572 | |
tof_downsample_prop | 0.077 | 0.001 | 0.078 | |
tof_estimate_density | 0.388 | 0.001 | 0.389 | |
tof_extract_central_tendency | 0.165 | 0.002 | 0.167 | |
tof_extract_emd | 0.855 | 0.023 | 0.878 | |
tof_extract_features | 0.556 | 0.001 | 0.557 | |
tof_extract_jsd | 0.892 | 0.033 | 0.926 | |
tof_extract_proportion | 0.115 | 0.001 | 0.116 | |
tof_extract_threshold | 0.142 | 0.000 | 0.141 | |
tof_find_knn | 0.195 | 0.225 | 0.419 | |
tof_generate_palette | 0 | 0 | 0 | |
tof_get_model_mixture | 0.207 | 0.001 | 0.209 | |
tof_get_model_outcomes | 0.198 | 0.000 | 0.198 | |
tof_get_model_penalty | 0.199 | 0.001 | 0.201 | |
tof_get_model_training_data | 0.221 | 0.000 | 0.220 | |
tof_get_model_type | 0.193 | 0.001 | 0.194 | |
tof_get_model_x | 0.208 | 0.002 | 0.209 | |
tof_get_model_y | 0.207 | 0.001 | 0.207 | |
tof_get_panel | 0.035 | 0.000 | 0.035 | |
tof_log_rank_test | 0 | 0 | 0 | |
tof_make_knn_graph | 0 | 0 | 0 | |
tof_make_roc_curve | 0.285 | 0.001 | 0.285 | |
tof_metacluster | 0.651 | 0.004 | 0.654 | |
tof_metacluster_consensus | 0.242 | 0.002 | 0.244 | |
tof_metacluster_flowsom | 0.636 | 0.005 | 0.641 | |
tof_metacluster_hierarchical | 0.049 | 0.000 | 0.048 | |
tof_metacluster_kmeans | 0.048 | 0.000 | 0.048 | |
tof_metacluster_phenograph | 0.062 | 0.000 | 0.064 | |
tof_plot_cells_density | 0.029 | 0.001 | 0.030 | |
tof_plot_cells_embedding | 3.254 | 0.001 | 3.255 | |
tof_plot_cells_layout | 2.681 | 0.000 | 2.681 | |
tof_plot_cells_scatter | 0.002 | 0.000 | 0.003 | |
tof_plot_clusters_heatmap | 0.052 | 0.001 | 0.053 | |
tof_plot_clusters_mst | 0.188 | 0.001 | 0.189 | |
tof_plot_clusters_volcano | 0.032 | 0.001 | 0.033 | |
tof_plot_model | 0.536 | 0.000 | 0.536 | |
tof_plot_sample_features | 0.098 | 0.001 | 0.100 | |
tof_plot_sample_heatmap | 0.047 | 0.000 | 0.047 | |
tof_postprocess | 0.084 | 0.001 | 0.085 | |
tof_predict | 0.207 | 0.001 | 0.208 | |
tof_preprocess | 0.141 | 0.002 | 0.143 | |
tof_read_data | 0.068 | 0.000 | 0.067 | |
tof_reduce_dimensions | 2.059 | 0.070 | 2.128 | |
tof_reduce_pca | 0.131 | 0.003 | 0.134 | |
tof_reduce_tsne | 0.935 | 0.001 | 0.935 | |
tof_reduce_umap | 3.149 | 0.065 | 3.174 | |
tof_set_panel | 0.067 | 0.003 | 0.070 | |
tof_spade_density | 0.522 | 0.004 | 0.525 | |
tof_split_data | 0.049 | 0.000 | 0.049 | |
tof_split_tidytof_reduced_dimensions | 0 | 0 | 0 | |
tof_train_model | 1.243 | 0.013 | 1.256 | |
tof_transform | 0.131 | 0.001 | 0.131 | |
tof_upsample | 0.216 | 0.002 | 0.218 | |
tof_upsample_distance | 0.305 | 0.001 | 0.306 | |
tof_upsample_neighbor | 0.056 | 0.000 | 0.055 | |
tof_write_data | 0.001 | 0.000 | 0.000 | |
tof_write_fcs | 0.000 | 0.000 | 0.001 | |
where | 0 | 0 | 0 | |