Back to Multiple platform build/check report for BioC 3.21:   simplified   long
ABCDEFGHIJKLMNOPQRS[T]UVWXYZ

This page was generated on 2025-01-28 11:48 -0500 (Tue, 28 Jan 2025).

HostnameOSArch (*)R versionInstalled pkgs
nebbiolo1Linux (Ubuntu 24.04.1 LTS)x86_64R Under development (unstable) (2025-01-20 r87609) -- "Unsuffered Consequences" 4659
palomino7Windows Server 2022 Datacenterx64R Under development (unstable) (2025-01-21 r87610 ucrt) -- "Unsuffered Consequences" 4454
lconwaymacOS 12.7.1 Montereyx86_64R Under development (unstable) (2025-01-22 r87618) -- "Unsuffered Consequences" 4465
kjohnson3macOS 13.7.1 Venturaarm64R Under development (unstable) (2025-01-20 r87609) -- "Unsuffered Consequences" 4419
kunpeng2Linux (openEuler 22.03 LTS-SP1)aarch64R Under development (unstable) (2024-11-24 r87369) -- "Unsuffered Consequences" 4409
Click on any hostname to see more info about the system (e.g. compilers)      (*) as reported by 'uname -p', except on Windows and Mac OS X

Package 2135/2286HostnameOS / ArchINSTALLBUILDCHECKBUILD BIN
tidyFlowCore 1.1.0  (landing page)
Timothy Keyes
Snapshot Date: 2025-01-27 13:40 -0500 (Mon, 27 Jan 2025)
git_url: https://git.bioconductor.org/packages/tidyFlowCore
git_branch: devel
git_last_commit: a9a0990
git_last_commit_date: 2024-10-29 11:31:23 -0500 (Tue, 29 Oct 2024)
nebbiolo1Linux (Ubuntu 24.04.1 LTS) / x86_64  OK    OK    OK  UNNEEDED, same version is already published
palomino7Windows Server 2022 Datacenter / x64  OK    OK    OK    OK  UNNEEDED, same version is already published
lconwaymacOS 12.7.1 Monterey / x86_64  OK    OK    OK    OK  UNNEEDED, same version is already published
kjohnson3macOS 13.7.1 Ventura / arm64  OK    OK    OK    OK  UNNEEDED, same version is already published
kunpeng2Linux (openEuler 22.03 LTS-SP1) / aarch64  OK    OK    OK  


CHECK results for tidyFlowCore on kunpeng2

To the developers/maintainers of the tidyFlowCore package:
- Allow up to 24 hours (and sometimes 48 hours) for your latest push to git@git.bioconductor.org:packages/tidyFlowCore.git to reflect on this report. See Troubleshooting Build Report for more information.
- Use the following Renviron settings to reproduce errors and warnings.
- If 'R CMD check' started to fail recently on the Linux builder(s) over a missing dependency, add the missing dependency to 'Suggests:' in your DESCRIPTION file. See Renviron.bioc for more information.
- See Martin Grigorov's blog post for how to debug Linux ARM64 related issues on a x86_64 host.

raw results


Summary

Package: tidyFlowCore
Version: 1.1.0
Command: /home/biocbuild/R/R/bin/R CMD check --install=check:tidyFlowCore.install-out.txt --library=/home/biocbuild/R/R/site-library --no-vignettes --timings tidyFlowCore_1.1.0.tar.gz
StartedAt: 2025-01-28 16:05:52 -0000 (Tue, 28 Jan 2025)
EndedAt: 2025-01-28 16:07:45 -0000 (Tue, 28 Jan 2025)
EllapsedTime: 113.1 seconds
RetCode: 0
Status:   OK  
CheckDir: tidyFlowCore.Rcheck
Warnings: 0

Command output

##############################################################################
##############################################################################
###
### Running command:
###
###   /home/biocbuild/R/R/bin/R CMD check --install=check:tidyFlowCore.install-out.txt --library=/home/biocbuild/R/R/site-library --no-vignettes --timings tidyFlowCore_1.1.0.tar.gz
###
##############################################################################
##############################################################################


* using log directory ‘/home/biocbuild/bbs-3.21-bioc/meat/tidyFlowCore.Rcheck’
* using R Under development (unstable) (2024-11-24 r87369)
* using platform: aarch64-unknown-linux-gnu
* R was compiled by
    aarch64-unknown-linux-gnu-gcc (GCC) 14.2.0
    GNU Fortran (GCC) 14.2.0
* running under: openEuler 24.03 (LTS)
* using session charset: UTF-8
* using option ‘--no-vignettes’
* checking for file ‘tidyFlowCore/DESCRIPTION’ ... OK
* checking extension type ... Package
* this is package ‘tidyFlowCore’ version ‘1.1.0’
* package encoding: UTF-8
* checking package namespace information ... OK
* checking package dependencies ... OK
* checking if this is a source package ... OK
* checking if there is a namespace ... OK
* checking for hidden files and directories ... OK
* checking for portable file names ... OK
* checking for sufficient/correct file permissions ... OK
* checking whether package ‘tidyFlowCore’ can be installed ... OK
* checking installed package size ... OK
* checking package directory ... OK
* checking ‘build’ directory ... OK
* checking DESCRIPTION meta-information ... OK
* checking top-level files ... OK
* checking for left-over files ... OK
* checking index information ... OK
* checking package subdirectories ...Warning: program compiled against libxml 212 using older 211
 OK
* checking code files for non-ASCII characters ... OK
* checking R files for syntax errors ... OK
* checking whether the package can be loaded ... OK
* checking whether the package can be loaded with stated dependencies ... OK
* checking whether the package can be unloaded cleanly ... OK
* checking whether the namespace can be loaded with stated dependencies ... OK
* checking whether the namespace can be unloaded cleanly ... OK
* checking loading without being on the library search path ... OK
* checking dependencies in R code ... OK
* checking S3 generic/method consistency ... OK
* checking replacement functions ... OK
* checking foreign function calls ... OK
* checking R code for possible problems ... OK
* checking Rd files ... OK
* checking Rd metadata ... OK
* checking Rd cross-references ... OK
* checking for missing documentation entries ... OK
* checking for code/documentation mismatches ... OK
* checking Rd \usage sections ... OK
* checking Rd contents ... OK
* checking for unstated dependencies in examples ... OK
* checking contents of ‘data’ directory ... OK
* checking data for non-ASCII characters ... OK
* checking data for ASCII and uncompressed saves ... OK
* checking files in ‘vignettes’ ... OK
* checking examples ... OK
* checking for unstated dependencies in ‘tests’ ... OK
* checking tests ...
  Running ‘testthat.R’
 OK
* checking for unstated dependencies in vignettes ... OK
* checking package vignettes ... OK
* checking running R code from vignettes ... SKIPPED
* checking re-building of vignette outputs ... SKIPPED
* checking PDF version of manual ... OK
* DONE

Status: OK


Installation output

tidyFlowCore.Rcheck/00install.out

##############################################################################
##############################################################################
###
### Running command:
###
###   /home/biocbuild/R/R/bin/R CMD INSTALL tidyFlowCore
###
##############################################################################
##############################################################################


* installing to library ‘/home/biocbuild/R/R-4.5.0-devel_2024-11-24/site-library’
* installing *source* package ‘tidyFlowCore’ ...
** using staged installation
** R
** data
** inst
** byte-compile and prepare package for lazy loading
** help
*** installing help indices
*** copying figures
** building package indices
** installing vignettes
** testing if installed package can be loaded from temporary location
** testing if installed package can be loaded from final location
** testing if installed package keeps a record of temporary installation path
* DONE (tidyFlowCore)

Tests output

tidyFlowCore.Rcheck/tests/testthat.Rout


R Under development (unstable) (2024-11-24 r87369) -- "Unsuffered Consequences"
Copyright (C) 2024 The R Foundation for Statistical Computing
Platform: aarch64-unknown-linux-gnu

R is free software and comes with ABSOLUTELY NO WARRANTY.
You are welcome to redistribute it under certain conditions.
Type 'license()' or 'licence()' for distribution details.

R is a collaborative project with many contributors.
Type 'contributors()' for more information and
'citation()' on how to cite R or R packages in publications.

Type 'demo()' for some demos, 'help()' for on-line help, or
'help.start()' for an HTML browser interface to help.
Type 'q()' to quit R.

> # This file is part of the standard setup for testthat.
> # It is recommended that you do not modify it.
> #
> # Where should you do additional test configuration?
> # Learn more about the roles of various files in:
> # * https://r-pkgs.org/testing-design.html#sec-tests-files-overview
> # * https://testthat.r-lib.org/articles/special-files.html
> 
> library(testthat)
> library(tidyFlowCore)
> 
> test_check("tidyFlowCore")

Attaching package: 'dplyr'

The following object is masked from 'package:testthat':

    matches

The following objects are masked from 'package:stats':

    filter, lag

The following objects are masked from 'package:base':

    intersect, setdiff, setequal, union


Attaching package: 'tidyr'

The following object is masked from 'package:testthat':

    matches

[ FAIL 0 | WARN 0 | SKIP 0 | PASS 104 ]
> 
> proc.time()
   user  system elapsed 
 16.959   0.544  17.555 

Example timings

tidyFlowCore.Rcheck/tidyFlowCore-Ex.timings

nameusersystemelapsed
arrange.flowFrame0.3130.0000.313
arrange.flowSet0.5820.0040.588
as_flowFrame000
as_flowSet000
as_tof_tbl0.0400.0000.043
count.flowFrame0.3880.0000.389
count.flowSet0.2260.0000.227
filter.flowFrame0.2150.0000.216
filter.flowSet0.5080.0000.509
ggplot.flowFrame0.1480.0000.149
ggplot.flowSet0.1770.0040.181
group_by.flowFrame0.4840.0160.501
make_flowcore_annotated_data_frame000
mutate.flowFrame0.4590.0160.475
mutate.flowSet0.5110.0080.520
nest.flowFrame0.4770.0000.479
pull.flowFrame0.1460.0000.147
pull.flowSet0.1390.0040.143
reexports0.0010.0000.001
rename.flowFrame0.2090.0000.209
rename.flowSet0.5380.0040.544
rename_with.flowFrame0.2160.0160.233
rename_with.flowSet0.5160.0040.522
select.flowFrame0.1950.0000.195
select.flowSet0.4580.0000.459
simulate_cytometry_data0.1310.0040.136
slice.flowFrame0.2040.0040.208
slice.flowSet0.5090.0040.514
slice_head.flowFrame0.2170.0000.217
slice_head.flowSet0.5220.0080.531
slice_max.flowFrame0.2010.0040.205
slice_max.flowSet0.4990.0400.540
slice_min.flowFrame0.2040.0040.209
slice_min.flowSet0.5090.0080.519
slice_sample.flowFrame0.2080.0000.209
slice_sample.flowSet0.5210.0080.530
slice_tail.flowFrame0.2070.0000.211
slice_tail.flowSet0.5140.0040.519
summarise.flowFrame0.1520.0000.152
summarise.flowSet0.2170.0040.222
summarize.flowFrame0.3460.0160.364
summarize.flowSet0.2020.0120.215
tof_get_panel0.0010.0000.000
tof_set_panel000
transmute.flowFrame0.1980.0080.207
transmute.flowSet0.4650.0080.475
ungroup.flowSet0.2310.0070.239
unnest.flowSet0.4540.0400.495