| Back to Multiple platform build/check report for BioC 3.21: simplified long |
|
This page was generated on 2025-10-16 11:39 -0400 (Thu, 16 Oct 2025).
| Hostname | OS | Arch (*) | R version | Installed pkgs |
|---|---|---|---|---|
| nebbiolo1 | Linux (Ubuntu 24.04.3 LTS) | x86_64 | 4.5.1 (2025-06-13) -- "Great Square Root" | 4833 |
| merida1 | macOS 12.7.6 Monterey | x86_64 | 4.5.1 RC (2025-06-05 r88288) -- "Great Square Root" | 4614 |
| kjohnson1 | macOS 13.7.5 Ventura | arm64 | 4.5.1 Patched (2025-06-14 r88325) -- "Great Square Root" | 4555 |
| kunpeng2 | Linux (openEuler 24.03 LTS) | aarch64 | R Under development (unstable) (2025-02-19 r87757) -- "Unsuffered Consequences" | 4586 |
| Click on any hostname to see more info about the system (e.g. compilers) (*) as reported by 'uname -p', except on Windows and Mac OS X | ||||
| Package 2187/2341 | Hostname | OS / Arch | INSTALL | BUILD | CHECK | BUILD BIN | ||||||||
| tidyFlowCore 1.2.0 (landing page) Timothy Keyes
| nebbiolo1 | Linux (Ubuntu 24.04.3 LTS) / x86_64 | OK | OK | OK | |||||||||
| merida1 | macOS 12.7.6 Monterey / x86_64 | OK | OK | OK | OK | |||||||||
| kjohnson1 | macOS 13.7.5 Ventura / arm64 | OK | OK | OK | OK | |||||||||
| kunpeng2 | Linux (openEuler 24.03 LTS) / aarch64 | OK | OK | NA | ||||||||||
|
To the developers/maintainers of the tidyFlowCore package: - Allow up to 24 hours (and sometimes 48 hours) for your latest push to git@git.bioconductor.org:packages/tidyFlowCore.git to reflect on this report. See Troubleshooting Build Report for more information. - Use the following Renviron settings to reproduce errors and warnings. - If 'R CMD check' started to fail recently on the Linux builder(s) over a missing dependency, add the missing dependency to 'Suggests:' in your DESCRIPTION file. See Renviron.bioc for more information. |
| Package: tidyFlowCore |
| Version: 1.2.0 |
| Command: /Library/Frameworks/R.framework/Resources/bin/R CMD check --install=check:tidyFlowCore.install-out.txt --library=/Library/Frameworks/R.framework/Resources/library --no-vignettes --timings tidyFlowCore_1.2.0.tar.gz |
| StartedAt: 2025-10-14 11:35:36 -0400 (Tue, 14 Oct 2025) |
| EndedAt: 2025-10-14 11:38:55 -0400 (Tue, 14 Oct 2025) |
| EllapsedTime: 199.4 seconds |
| RetCode: 0 |
| Status: OK |
| CheckDir: tidyFlowCore.Rcheck |
| Warnings: 0 |
##############################################################################
##############################################################################
###
### Running command:
###
### /Library/Frameworks/R.framework/Resources/bin/R CMD check --install=check:tidyFlowCore.install-out.txt --library=/Library/Frameworks/R.framework/Resources/library --no-vignettes --timings tidyFlowCore_1.2.0.tar.gz
###
##############################################################################
##############################################################################
* using log directory ‘/Users/biocbuild/bbs-3.21-bioc/meat/tidyFlowCore.Rcheck’
* using R version 4.5.1 RC (2025-06-05 r88288)
* using platform: x86_64-apple-darwin20
* R was compiled by
Apple clang version 14.0.0 (clang-1400.0.29.202)
GNU Fortran (GCC) 14.2.0
* running under: macOS Monterey 12.7.6
* using session charset: UTF-8
* using option ‘--no-vignettes’
* checking for file ‘tidyFlowCore/DESCRIPTION’ ... OK
* checking extension type ... Package
* this is package ‘tidyFlowCore’ version ‘1.2.0’
* package encoding: UTF-8
* checking package namespace information ... OK
* checking package dependencies ... OK
* checking if this is a source package ... OK
* checking if there is a namespace ... OK
* checking for hidden files and directories ... OK
* checking for portable file names ... OK
* checking for sufficient/correct file permissions ... OK
* checking whether package ‘tidyFlowCore’ can be installed ... OK
* checking installed package size ... OK
* checking package directory ... OK
* checking ‘build’ directory ... OK
* checking DESCRIPTION meta-information ... OK
* checking top-level files ... OK
* checking for left-over files ... OK
* checking index information ... OK
* checking package subdirectories ... OK
* checking code files for non-ASCII characters ... OK
* checking R files for syntax errors ... OK
* checking whether the package can be loaded ... OK
* checking whether the package can be loaded with stated dependencies ... OK
* checking whether the package can be unloaded cleanly ... OK
* checking whether the namespace can be loaded with stated dependencies ... OK
* checking whether the namespace can be unloaded cleanly ... OK
* checking dependencies in R code ... OK
* checking S3 generic/method consistency ... OK
* checking replacement functions ... OK
* checking foreign function calls ... OK
* checking R code for possible problems ... OK
* checking Rd files ... OK
* checking Rd metadata ... OK
* checking Rd cross-references ... OK
* checking for missing documentation entries ... OK
* checking for code/documentation mismatches ... OK
* checking Rd \usage sections ... OK
* checking Rd contents ... OK
* checking for unstated dependencies in examples ... OK
* checking contents of ‘data’ directory ... OK
* checking data for non-ASCII characters ... OK
* checking data for ASCII and uncompressed saves ... OK
* checking files in ‘vignettes’ ... OK
* checking examples ... OK
* checking for unstated dependencies in ‘tests’ ... OK
* checking tests ...
Running ‘testthat.R’
OK
* checking for unstated dependencies in vignettes ... OK
* checking package vignettes ... OK
* checking running R code from vignettes ... SKIPPED
* checking re-building of vignette outputs ... SKIPPED
* checking PDF version of manual ... OK
* DONE
Status: OK
tidyFlowCore.Rcheck/00install.out
############################################################################## ############################################################################## ### ### Running command: ### ### /Library/Frameworks/R.framework/Resources/bin/R CMD INSTALL tidyFlowCore ### ############################################################################## ############################################################################## * installing to library ‘/Library/Frameworks/R.framework/Versions/4.5-x86_64/Resources/library’ * installing *source* package ‘tidyFlowCore’ ... ** this is package ‘tidyFlowCore’ version ‘1.2.0’ ** using staged installation ** R ** data ** inst ** byte-compile and prepare package for lazy loading ** help *** installing help indices *** copying figures ** building package indices ** installing vignettes ** testing if installed package can be loaded from temporary location ** testing if installed package can be loaded from final location ** testing if installed package keeps a record of temporary installation path * DONE (tidyFlowCore)
tidyFlowCore.Rcheck/tests/testthat.Rout
R version 4.5.1 RC (2025-06-05 r88288) -- "Great Square Root"
Copyright (C) 2025 The R Foundation for Statistical Computing
Platform: x86_64-apple-darwin20
R is free software and comes with ABSOLUTELY NO WARRANTY.
You are welcome to redistribute it under certain conditions.
Type 'license()' or 'licence()' for distribution details.
R is a collaborative project with many contributors.
Type 'contributors()' for more information and
'citation()' on how to cite R or R packages in publications.
Type 'demo()' for some demos, 'help()' for on-line help, or
'help.start()' for an HTML browser interface to help.
Type 'q()' to quit R.
> # This file is part of the standard setup for testthat.
> # It is recommended that you do not modify it.
> #
> # Where should you do additional test configuration?
> # Learn more about the roles of various files in:
> # * https://r-pkgs.org/testing-design.html#sec-tests-files-overview
> # * https://testthat.r-lib.org/articles/special-files.html
>
> library(testthat)
> library(tidyFlowCore)
>
> test_check("tidyFlowCore")
Attaching package: 'dplyr'
The following object is masked from 'package:testthat':
matches
The following objects are masked from 'package:stats':
filter, lag
The following objects are masked from 'package:base':
intersect, setdiff, setequal, union
Attaching package: 'tidyr'
The following object is masked from 'package:testthat':
matches
[ FAIL 0 | WARN 0 | SKIP 0 | PASS 104 ]
>
> proc.time()
user system elapsed
26.932 1.053 28.310
tidyFlowCore.Rcheck/tidyFlowCore-Ex.timings
| name | user | system | elapsed | |
| arrange.flowFrame | 0.497 | 0.020 | 0.519 | |
| arrange.flowSet | 1.068 | 0.049 | 1.138 | |
| as_flowFrame | 0.000 | 0.001 | 0.001 | |
| as_flowSet | 0.000 | 0.000 | 0.001 | |
| as_tof_tbl | 0.053 | 0.007 | 0.060 | |
| count.flowFrame | 0.638 | 0.068 | 0.716 | |
| count.flowSet | 0.354 | 0.012 | 0.369 | |
| filter.flowFrame | 0.316 | 0.010 | 0.327 | |
| filter.flowSet | 0.821 | 0.017 | 0.844 | |
| ggplot.flowFrame | 0.291 | 0.010 | 0.312 | |
| ggplot.flowSet | 0.299 | 0.009 | 0.315 | |
| group_by.flowFrame | 0.748 | 0.021 | 0.783 | |
| make_flowcore_annotated_data_frame | 0.001 | 0.000 | 0.001 | |
| mutate.flowFrame | 0.674 | 0.019 | 0.697 | |
| mutate.flowSet | 0.804 | 0.018 | 0.828 | |
| nest.flowFrame | 0.728 | 0.021 | 0.752 | |
| pull.flowFrame | 0.215 | 0.010 | 0.226 | |
| pull.flowSet | 0.224 | 0.015 | 0.242 | |
| reexports | 0.001 | 0.000 | 0.001 | |
| rename.flowFrame | 0.328 | 0.011 | 0.339 | |
| rename.flowSet | 0.824 | 0.019 | 0.855 | |
| rename_with.flowFrame | 0.344 | 0.011 | 0.367 | |
| rename_with.flowSet | 0.827 | 0.017 | 0.869 | |
| select.flowFrame | 0.313 | 0.010 | 0.326 | |
| select.flowSet | 0.737 | 0.016 | 0.762 | |
| simulate_cytometry_data | 0.215 | 0.009 | 0.226 | |
| slice.flowFrame | 0.346 | 0.010 | 0.360 | |
| slice.flowSet | 0.832 | 0.017 | 0.865 | |
| slice_head.flowFrame | 0.334 | 0.010 | 0.344 | |
| slice_head.flowSet | 0.835 | 0.016 | 0.859 | |
| slice_max.flowFrame | 0.320 | 0.009 | 0.330 | |
| slice_max.flowSet | 0.833 | 0.017 | 0.869 | |
| slice_min.flowFrame | 0.336 | 0.011 | 0.352 | |
| slice_min.flowSet | 0.856 | 0.016 | 0.923 | |
| slice_sample.flowFrame | 0.352 | 0.011 | 0.367 | |
| slice_sample.flowSet | 0.858 | 0.017 | 0.879 | |
| slice_tail.flowFrame | 0.333 | 0.010 | 0.346 | |
| slice_tail.flowSet | 0.834 | 0.017 | 0.892 | |
| summarise.flowFrame | 0.244 | 0.008 | 0.286 | |
| summarise.flowSet | 0.356 | 0.010 | 0.415 | |
| summarize.flowFrame | 0.278 | 0.017 | 0.316 | |
| summarize.flowSet | 0.354 | 0.012 | 0.372 | |
| tof_get_panel | 0.000 | 0.000 | 0.001 | |
| tof_set_panel | 0.001 | 0.000 | 0.001 | |
| transmute.flowFrame | 0.333 | 0.025 | 0.363 | |
| transmute.flowSet | 0.772 | 0.021 | 0.840 | |
| ungroup.flowSet | 0.399 | 0.011 | 0.410 | |
| unnest.flowSet | 0.743 | 0.015 | 0.823 | |