Back to Multiple platform build/check report for BioC 3.21:   simplified   long
ABCDEFGHIJKLMNOPQR[S]TUVWXYZ

This page was generated on 2025-02-15 11:42 -0500 (Sat, 15 Feb 2025).

HostnameOSArch (*)R versionInstalled pkgs
nebbiolo1Linux (Ubuntu 24.04.1 LTS)x86_64R Under development (unstable) (2025-01-20 r87609) -- "Unsuffered Consequences" 4720
palomino7Windows Server 2022 Datacenterx64R Under development (unstable) (2025-01-21 r87610 ucrt) -- "Unsuffered Consequences" 4482
lconwaymacOS 12.7.1 Montereyx86_64R Under development (unstable) (2025-01-22 r87618) -- "Unsuffered Consequences" 4493
kjohnson3macOS 13.7.1 Venturaarm64R Under development (unstable) (2025-01-20 r87609) -- "Unsuffered Consequences" 4446
Click on any hostname to see more info about the system (e.g. compilers)      (*) as reported by 'uname -p', except on Windows and Mac OS X

Package 2083/2295HostnameOS / ArchINSTALLBUILDCHECKBUILD BIN
structToolbox 1.19.1  (landing page)
Gavin Rhys Lloyd
Snapshot Date: 2025-02-14 13:40 -0500 (Fri, 14 Feb 2025)
git_url: https://git.bioconductor.org/packages/structToolbox
git_branch: devel
git_last_commit: 6714233
git_last_commit_date: 2025-01-28 04:25:47 -0500 (Tue, 28 Jan 2025)
nebbiolo1Linux (Ubuntu 24.04.1 LTS) / x86_64  OK    OK    OK  UNNEEDED, same version is already published
palomino7Windows Server 2022 Datacenter / x64  OK    OK    OK    OK  UNNEEDED, same version is already published
lconwaymacOS 12.7.1 Monterey / x86_64  OK    OK    OK    OK  UNNEEDED, same version is already published
kjohnson3macOS 13.7.1 Ventura / arm64  OK    OK    OK    OK  UNNEEDED, same version is already published


CHECK results for structToolbox on palomino7

To the developers/maintainers of the structToolbox package:
- Allow up to 24 hours (and sometimes 48 hours) for your latest push to git@git.bioconductor.org:packages/structToolbox.git to reflect on this report. See Troubleshooting Build Report for more information.
- Use the following Renviron settings to reproduce errors and warnings.
- If 'R CMD check' started to fail recently on the Linux builder(s) over a missing dependency, add the missing dependency to 'Suggests:' in your DESCRIPTION file. See Renviron.bioc for more information.

raw results


Summary

Package: structToolbox
Version: 1.19.1
Command: E:\biocbuild\bbs-3.21-bioc\R\bin\R.exe CMD check --no-multiarch --install=check:structToolbox.install-out.txt --library=E:\biocbuild\bbs-3.21-bioc\R\library --no-vignettes --timings structToolbox_1.19.1.tar.gz
StartedAt: 2025-02-15 06:06:44 -0500 (Sat, 15 Feb 2025)
EndedAt: 2025-02-15 06:16:39 -0500 (Sat, 15 Feb 2025)
EllapsedTime: 594.4 seconds
RetCode: 0
Status:   OK  
CheckDir: structToolbox.Rcheck
Warnings: 0

Command output

##############################################################################
##############################################################################
###
### Running command:
###
###   E:\biocbuild\bbs-3.21-bioc\R\bin\R.exe CMD check --no-multiarch --install=check:structToolbox.install-out.txt --library=E:\biocbuild\bbs-3.21-bioc\R\library --no-vignettes --timings structToolbox_1.19.1.tar.gz
###
##############################################################################
##############################################################################


* using log directory 'E:/biocbuild/bbs-3.21-bioc/meat/structToolbox.Rcheck'
* using R Under development (unstable) (2025-01-21 r87610 ucrt)
* using platform: x86_64-w64-mingw32
* R was compiled by
    gcc.exe (GCC) 13.3.0
    GNU Fortran (GCC) 13.3.0
* running under: Windows Server 2022 x64 (build 20348)
* using session charset: UTF-8
* using option '--no-vignettes'
* checking for file 'structToolbox/DESCRIPTION' ... OK
* checking extension type ... Package
* this is package 'structToolbox' version '1.19.1'
* package encoding: UTF-8
* checking package namespace information ... OK
* checking package dependencies ... OK
* checking if this is a source package ... OK
* checking if there is a namespace ... OK
* checking for hidden files and directories ... OK
* checking for portable file names ... OK
* checking whether package 'structToolbox' can be installed ... OK
* checking installed package size ... OK
* checking package directory ... OK
* checking 'build' directory ... OK
* checking DESCRIPTION meta-information ... OK
* checking top-level files ... OK
* checking for left-over files ... OK
* checking index information ... OK
* checking package subdirectories ... OK
* checking code files for non-ASCII characters ... OK
* checking R files for syntax errors ... OK
* checking whether the package can be loaded ... OK
* checking whether the package can be loaded with stated dependencies ... OK
* checking whether the package can be unloaded cleanly ... OK
* checking whether the namespace can be loaded with stated dependencies ... OK
* checking whether the namespace can be unloaded cleanly ... OK
* checking dependencies in R code ... OK
* checking S3 generic/method consistency ... OK
* checking replacement functions ... OK
* checking foreign function calls ... OK
* checking R code for possible problems ... OK
* checking Rd files ... OK
* checking Rd metadata ... OK
* checking Rd cross-references ... OK
* checking for missing documentation entries ... OK
* checking for code/documentation mismatches ... OK
* checking Rd \usage sections ... OK
* checking Rd contents ... OK
* checking for unstated dependencies in examples ... OK
* checking R/sysdata.rda ... OK
* checking files in 'vignettes' ... OK
* checking examples ... OK
Examples with CPU (user + system) or elapsed time > 5s
                           user system elapsed
fold_change_int           19.98   0.14   20.14
fold_change               14.72   0.08   14.81
fisher_exact              12.03   0.08   12.11
forward_selection_by_rank  7.87   0.17    8.09
fs_line                    7.75   0.17    7.92
compare_dist               5.53   0.13    5.66
kfoldxcv_grid              5.22   0.08    5.31
* checking for unstated dependencies in 'tests' ... OK
* checking tests ...
  Running 'testthat.R'
 OK
* checking for unstated dependencies in vignettes ... OK
* checking package vignettes ... OK
* checking running R code from vignettes ... SKIPPED
* checking re-building of vignette outputs ... SKIPPED
* checking PDF version of manual ... OK
* DONE

Status: OK


Installation output

structToolbox.Rcheck/00install.out

##############################################################################
##############################################################################
###
### Running command:
###
###   E:\biocbuild\bbs-3.21-bioc\R\bin\R.exe CMD INSTALL structToolbox
###
##############################################################################
##############################################################################


* installing to library 'E:/biocbuild/bbs-3.21-bioc/R/library'
* installing *source* package 'structToolbox' ...
** this is package 'structToolbox' version '1.19.1'
** using staged installation
** R
** inst
** byte-compile and prepare package for lazy loading
** help
*** installing help indices
** building package indices
** installing vignettes
** testing if installed package can be loaded from temporary location
** testing if installed package can be loaded from final location
** testing if installed package keeps a record of temporary installation path
* DONE (structToolbox)

Tests output

structToolbox.Rcheck/tests/testthat.Rout


R Under development (unstable) (2025-01-21 r87610 ucrt) -- "Unsuffered Consequences"
Copyright (C) 2025 The R Foundation for Statistical Computing
Platform: x86_64-w64-mingw32/x64

R is free software and comes with ABSOLUTELY NO WARRANTY.
You are welcome to redistribute it under certain conditions.
Type 'license()' or 'licence()' for distribution details.

R is a collaborative project with many contributors.
Type 'contributors()' for more information and
'citation()' on how to cite R or R packages in publications.

Type 'demo()' for some demos, 'help()' for on-line help, or
'help.start()' for an HTML browser interface to help.
Type 'q()' to quit R.

> library(testthat)
> library(ggplot2)
> library(structToolbox)
Loading required package: struct
> 
> test_check("structToolbox")
[ FAIL 0 | WARN 6 | SKIP 0 | PASS 166 ]

[ FAIL 0 | WARN 6 | SKIP 0 | PASS 166 ]
> 
> proc.time()
   user  system elapsed 
 222.68    3.73  226.61 

Example timings

structToolbox.Rcheck/structToolbox-Ex.timings

nameusersystemelapsed
ANOVA0.340.010.36
AUC2.570.152.70
DFA0.300.010.31
DatasetExperiment_boxplot1.650.091.74
DatasetExperiment_dist1.450.101.55
DatasetExperiment_factor_boxplot0.280.000.28
DatasetExperiment_heatmap0.610.000.61
HCA0.110.010.12
HSD0.400.000.53
HSDEM0.590.040.76
MTBLS79_DatasetExperiment000
OPLSDA0.020.000.02
OPLSR0.030.000.03
PCA000
PLSDA0.050.000.05
PLSR0.010.000.01
SVM0.050.000.05
as_data_frame0.190.000.19
autoscale0.120.000.12
balanced_accuracy2.350.002.36
blank_filter0.450.070.55
blank_filter_hist000
bootstrap0.010.000.02
calculate000
chart_plot0.030.000.03
classical_lsq0.350.000.34
compare_dist5.530.135.66
confounders_clsq3.730.063.80
confounders_lsq_barchart3.770.083.84
confounders_lsq_boxplot4.220.054.27
constant_sum_norm0.010.000.01
corr_coef0.350.000.35
dfa_scores_plot1.010.041.06
dratio_filter0.380.020.39
equal_split0.20.00.2
feature_boxplot0.050.000.05
feature_profile0.540.000.55
feature_profile_array0.440.000.43
filter_by_name0.090.000.10
filter_na_count1.210.121.33
filter_smeta0.060.000.06
fisher_exact12.03 0.0812.11
fold_change14.72 0.0814.81
fold_change_int19.98 0.1420.14
fold_change_plot0.020.000.02
forward_selection_by_rank7.870.178.09
fs_line7.750.177.92
glog_opt_plot0.540.000.53
glog_transform0.290.020.32
grid_search_1d4.000.124.12
gs_line000
hca_dendrogram000
kfold_xval3.970.054.02
kfoldxcv_grid5.220.085.31
kfoldxcv_metric000
knn_impute0.020.000.01
kw_p_hist000
kw_rank_sum0.120.000.13
linear_model0.050.000.05
log_transform0.010.000.01
mean_centre0.020.000.02
mean_of_medians0.20.00.2
mixed_effect0.250.000.25
model_apply0.020.000.02
model_predict0.040.020.06
model_reverse0.050.000.05
model_train0.080.000.07
mv_boxplot0.390.000.41
mv_feature_filter0.120.000.13
mv_feature_filter_hist000
mv_histogram0.360.000.35
mv_sample_filter0.030.000.04
mv_sample_filter_hist000
nroot_transform0.020.000.01
ontology_cache000
pairs_filter0.010.000.01
pareto_scale0.080.020.10
pca_biplot0.020.000.01
pca_correlation_plot0.020.000.01
pca_dstat_plot0.010.000.02
pca_loadings_plot0.020.000.01
pca_scores_plot0.590.010.61
pca_scree_plot0.020.000.02
permutation_test0.010.000.02
permutation_test_plot0.020.000.01
permute_sample_order0.020.000.02
pls_regcoeff_plot0.480.000.48
pls_scores_plot0.870.000.88
pls_vip_plot0.540.000.53
plsda_feature_importance_plot0.780.020.79
plsda_predicted_plot0.510.000.52
plsda_roc_plot1.420.021.43
plsr_cook_dist0.020.000.02
plsr_prediction_plot0.020.000.01
plsr_qq_plot0.010.000.02
plsr_residual_hist0.020.000.02
pqn_norm0.450.000.45
pqn_norm_hist000
prop_na0.020.000.01
r_squared000
resample0.040.000.05
resample_chart000
rsd_filter0.030.000.03
rsd_filter_hist000
run0.050.000.05
sb_corr0.050.000.05
scatter_chart0.480.010.50
split_data0.020.000.01
stratified_split0.220.000.22
svm_plot_2d0.810.041.00
tSNE0.010.000.02
tSNE_scatter0.020.000.01
tic_chart0.310.000.31
ttest0.030.000.04
vec_norm000
wilcox_p_hist000
wilcox_test0.030.000.03