Back to Multiple platform build/check report for BioC 3.21:   simplified   long
ABCDEFGHIJKLMNOPQR[S]TUVWXYZ

This page was generated on 2025-02-15 11:40 -0500 (Sat, 15 Feb 2025).

HostnameOSArch (*)R versionInstalled pkgs
nebbiolo1Linux (Ubuntu 24.04.1 LTS)x86_64R Under development (unstable) (2025-01-20 r87609) -- "Unsuffered Consequences" 4720
palomino7Windows Server 2022 Datacenterx64R Under development (unstable) (2025-01-21 r87610 ucrt) -- "Unsuffered Consequences" 4482
lconwaymacOS 12.7.1 Montereyx86_64R Under development (unstable) (2025-01-22 r87618) -- "Unsuffered Consequences" 4493
kjohnson3macOS 13.7.1 Venturaarm64R Under development (unstable) (2025-01-20 r87609) -- "Unsuffered Consequences" 4446
Click on any hostname to see more info about the system (e.g. compilers)      (*) as reported by 'uname -p', except on Windows and Mac OS X

Package 2083/2295HostnameOS / ArchINSTALLBUILDCHECKBUILD BIN
structToolbox 1.19.1  (landing page)
Gavin Rhys Lloyd
Snapshot Date: 2025-02-14 13:40 -0500 (Fri, 14 Feb 2025)
git_url: https://git.bioconductor.org/packages/structToolbox
git_branch: devel
git_last_commit: 6714233
git_last_commit_date: 2025-01-28 04:25:47 -0500 (Tue, 28 Jan 2025)
nebbiolo1Linux (Ubuntu 24.04.1 LTS) / x86_64  OK    OK    OK  UNNEEDED, same version is already published
palomino7Windows Server 2022 Datacenter / x64  OK    OK    OK    OK  UNNEEDED, same version is already published
lconwaymacOS 12.7.1 Monterey / x86_64  OK    OK    OK    OK  UNNEEDED, same version is already published
kjohnson3macOS 13.7.1 Ventura / arm64  OK    OK    OK    OK  UNNEEDED, same version is already published


CHECK results for structToolbox on nebbiolo1

To the developers/maintainers of the structToolbox package:
- Allow up to 24 hours (and sometimes 48 hours) for your latest push to git@git.bioconductor.org:packages/structToolbox.git to reflect on this report. See Troubleshooting Build Report for more information.
- Use the following Renviron settings to reproduce errors and warnings.
- If 'R CMD check' started to fail recently on the Linux builder(s) over a missing dependency, add the missing dependency to 'Suggests:' in your DESCRIPTION file. See Renviron.bioc for more information.

raw results


Summary

Package: structToolbox
Version: 1.19.1
Command: /home/biocbuild/bbs-3.21-bioc/R/bin/R CMD check --install=check:structToolbox.install-out.txt --library=/home/biocbuild/bbs-3.21-bioc/R/site-library --timings structToolbox_1.19.1.tar.gz
StartedAt: 2025-02-15 02:46:22 -0500 (Sat, 15 Feb 2025)
EndedAt: 2025-02-15 03:03:55 -0500 (Sat, 15 Feb 2025)
EllapsedTime: 1052.5 seconds
RetCode: 0
Status:   OK  
CheckDir: structToolbox.Rcheck
Warnings: 0

Command output

##############################################################################
##############################################################################
###
### Running command:
###
###   /home/biocbuild/bbs-3.21-bioc/R/bin/R CMD check --install=check:structToolbox.install-out.txt --library=/home/biocbuild/bbs-3.21-bioc/R/site-library --timings structToolbox_1.19.1.tar.gz
###
##############################################################################
##############################################################################


* using log directory ‘/home/biocbuild/bbs-3.21-bioc/meat/structToolbox.Rcheck’
* using R Under development (unstable) (2025-01-20 r87609)
* using platform: x86_64-pc-linux-gnu
* R was compiled by
    gcc (Ubuntu 13.3.0-6ubuntu2~24.04) 13.3.0
    GNU Fortran (Ubuntu 13.3.0-6ubuntu2~24.04) 13.3.0
* running under: Ubuntu 24.04.2 LTS
* using session charset: UTF-8
* checking for file ‘structToolbox/DESCRIPTION’ ... OK
* checking extension type ... Package
* this is package ‘structToolbox’ version ‘1.19.1’
* package encoding: UTF-8
* checking package namespace information ... OK
* checking package dependencies ... OK
* checking if this is a source package ... OK
* checking if there is a namespace ... OK
* checking for hidden files and directories ... OK
* checking for portable file names ... OK
* checking for sufficient/correct file permissions ... OK
* checking whether package ‘structToolbox’ can be installed ... OK
* checking installed package size ... OK
* checking package directory ... OK
* checking ‘build’ directory ... OK
* checking DESCRIPTION meta-information ... OK
* checking top-level files ... OK
* checking for left-over files ... OK
* checking index information ... OK
* checking package subdirectories ... OK
* checking code files for non-ASCII characters ... OK
* checking R files for syntax errors ... OK
* checking whether the package can be loaded ... OK
* checking whether the package can be loaded with stated dependencies ... OK
* checking whether the package can be unloaded cleanly ... OK
* checking whether the namespace can be loaded with stated dependencies ... OK
* checking whether the namespace can be unloaded cleanly ... OK
* checking loading without being on the library search path ... OK
* checking dependencies in R code ... OK
* checking S3 generic/method consistency ... OK
* checking replacement functions ... OK
* checking foreign function calls ... OK
* checking R code for possible problems ... OK
* checking Rd files ... OK
* checking Rd metadata ... OK
* checking Rd cross-references ... OK
* checking for missing documentation entries ... OK
* checking for code/documentation mismatches ... OK
* checking Rd \usage sections ... OK
* checking Rd contents ... OK
* checking for unstated dependencies in examples ... OK
* checking R/sysdata.rda ... OK
* checking files in ‘vignettes’ ... OK
* checking examples ... OK
Examples with CPU (user + system) or elapsed time > 5s
                            user system elapsed
fold_change_int           15.630  0.091  15.721
fold_change               10.550  0.020  10.570
fisher_exact               9.612  0.091   9.704
fs_line                    6.504  0.146   6.649
forward_selection_by_rank  5.876  0.060   5.936
* checking for unstated dependencies in ‘tests’ ... OK
* checking tests ...
  Running ‘testthat.R’
 OK
* checking for unstated dependencies in vignettes ... OK
* checking package vignettes ... OK
* checking re-building of vignette outputs ... OK
* checking PDF version of manual ... OK
* DONE

Status: OK


Installation output

structToolbox.Rcheck/00install.out

##############################################################################
##############################################################################
###
### Running command:
###
###   /home/biocbuild/bbs-3.21-bioc/R/bin/R CMD INSTALL structToolbox
###
##############################################################################
##############################################################################


* installing to library ‘/home/biocbuild/bbs-3.21-bioc/R/site-library’
* installing *source* package ‘structToolbox’ ...
** this is package ‘structToolbox’ version ‘1.19.1’
** using staged installation
** R
** inst
** byte-compile and prepare package for lazy loading
** help
*** installing help indices
** building package indices
** installing vignettes
** testing if installed package can be loaded from temporary location
** testing if installed package can be loaded from final location
** testing if installed package keeps a record of temporary installation path
* DONE (structToolbox)

Tests output

structToolbox.Rcheck/tests/testthat.Rout


R Under development (unstable) (2025-01-20 r87609) -- "Unsuffered Consequences"
Copyright (C) 2025 The R Foundation for Statistical Computing
Platform: x86_64-pc-linux-gnu

R is free software and comes with ABSOLUTELY NO WARRANTY.
You are welcome to redistribute it under certain conditions.
Type 'license()' or 'licence()' for distribution details.

R is a collaborative project with many contributors.
Type 'contributors()' for more information and
'citation()' on how to cite R or R packages in publications.

Type 'demo()' for some demos, 'help()' for on-line help, or
'help.start()' for an HTML browser interface to help.
Type 'q()' to quit R.

> library(testthat)
> library(ggplot2)
> library(structToolbox)
Loading required package: struct
> 
> test_check("structToolbox")
[ FAIL 0 | WARN 6 | SKIP 0 | PASS 166 ]

[ FAIL 0 | WARN 6 | SKIP 0 | PASS 166 ]
> 
> proc.time()
   user  system elapsed 
171.015   1.778 172.787 

Example timings

structToolbox.Rcheck/structToolbox-Ex.timings

nameusersystemelapsed
ANOVA0.2230.0050.228
AUC1.8650.1301.995
DFA0.1890.0000.189
DatasetExperiment_boxplot1.4430.0201.463
DatasetExperiment_dist1.2040.0381.241
DatasetExperiment_factor_boxplot0.1940.0010.196
DatasetExperiment_heatmap0.3810.0020.383
HCA0.0650.0000.066
HSD0.2760.0050.286
HSDEM0.3450.0010.346
MTBLS79_DatasetExperiment0.0010.0010.002
OPLSDA0.010.000.01
OPLSR0.0130.0000.014
PCA0.0040.0000.004
PLSDA0.0240.0000.024
PLSR0.0090.0000.009
SVM0.0260.0000.026
as_data_frame0.1160.0000.116
autoscale0.0720.0000.072
balanced_accuracy1.6670.0011.668
blank_filter0.3240.0050.328
blank_filter_hist0.0010.0000.001
bootstrap0.0170.0000.017
calculate0.0050.0010.005
chart_plot0.0280.0000.027
classical_lsq0.3250.0000.325
compare_dist4.2520.0574.310
confounders_clsq2.7750.0072.782
confounders_lsq_barchart2.8160.0242.839
confounders_lsq_boxplot2.8210.0292.850
constant_sum_norm0.0140.0000.014
corr_coef0.2580.0120.271
dfa_scores_plot0.6880.0020.691
dratio_filter0.2750.0000.275
equal_split0.1260.0000.126
feature_boxplot0.0280.0010.029
feature_profile0.3570.0000.357
feature_profile_array0.4540.0000.455
filter_by_name0.0290.0000.029
filter_na_count0.9520.0020.953
filter_smeta0.0560.0000.057
fisher_exact9.6120.0919.704
fold_change10.55 0.0210.57
fold_change_int15.630 0.09115.721
fold_change_plot0.0120.0000.012
forward_selection_by_rank5.8760.0605.936
fs_line6.5040.1466.649
glog_opt_plot0.4310.0000.431
glog_transform0.2670.0020.269
grid_search_1d3.2410.0063.247
gs_line0.0000.0010.001
hca_dendrogram0.0010.0000.001
kfold_xval3.1380.0133.152
kfoldxcv_grid3.4630.0053.468
kfoldxcv_metric0.0010.0000.001
knn_impute0.0120.0000.011
kw_p_hist0.0010.0000.001
kw_rank_sum0.0740.0010.074
linear_model0.0240.0020.025
log_transform0.0120.0000.012
mean_centre0.0010.0010.003
mean_of_medians0.1110.0000.111
mixed_effect0.1570.0010.158
model_apply0.0220.0010.022
model_predict0.0500.0000.051
model_reverse0.040.000.04
model_train0.0480.0000.048
mv_boxplot0.2770.0000.277
mv_feature_filter0.1060.0000.106
mv_feature_filter_hist0.0010.0000.001
mv_histogram0.2260.0010.227
mv_sample_filter0.0150.0000.015
mv_sample_filter_hist000
nroot_transform0.0130.0000.013
ontology_cache0.0010.0000.000
pairs_filter0.0160.0000.016
pareto_scale0.0520.0000.051
pca_biplot0.0190.0000.018
pca_correlation_plot0.0110.0000.010
pca_dstat_plot0.0130.0000.013
pca_loadings_plot0.0110.0020.014
pca_scores_plot0.4980.0040.502
pca_scree_plot0.0090.0010.010
permutation_test0.0160.0000.016
permutation_test_plot0.0030.0000.003
permute_sample_order0.0130.0000.014
pls_regcoeff_plot0.3360.0020.338
pls_scores_plot0.6530.0000.654
pls_vip_plot0.3470.0050.352
plsda_feature_importance_plot0.5520.0030.555
plsda_predicted_plot0.4150.0020.418
plsda_roc_plot1.0890.0021.091
plsr_cook_dist0.0100.0000.011
plsr_prediction_plot0.0110.0000.011
plsr_qq_plot0.0100.0000.011
plsr_residual_hist0.0100.0000.011
pqn_norm0.3230.0030.326
pqn_norm_hist0.0010.0000.001
prop_na0.0160.0000.017
r_squared0.0000.0000.001
resample0.0230.0000.022
resample_chart0.0030.0000.003
rsd_filter0.0180.0010.020
rsd_filter_hist0.0010.0000.001
run0.0270.0010.028
sb_corr0.0320.0000.032
scatter_chart0.3370.0000.338
split_data0.0130.0000.013
stratified_split0.1120.0000.112
svm_plot_2d0.6290.0020.631
tSNE0.0290.0000.029
tSNE_scatter0.0110.0010.013
tic_chart0.1970.0010.199
ttest0.020.000.02
vec_norm0.0010.0000.001
wilcox_p_hist0.0010.0000.001
wilcox_test0.0230.0000.023