Back to Multiple platform build/check report for BioC 3.21: simplified long |
|
This page was generated on 2025-02-15 11:43 -0500 (Sat, 15 Feb 2025).
Hostname | OS | Arch (*) | R version | Installed pkgs |
---|---|---|---|---|
nebbiolo1 | Linux (Ubuntu 24.04.1 LTS) | x86_64 | R Under development (unstable) (2025-01-20 r87609) -- "Unsuffered Consequences" | 4720 |
palomino7 | Windows Server 2022 Datacenter | x64 | R Under development (unstable) (2025-01-21 r87610 ucrt) -- "Unsuffered Consequences" | 4482 |
lconway | macOS 12.7.1 Monterey | x86_64 | R Under development (unstable) (2025-01-22 r87618) -- "Unsuffered Consequences" | 4493 |
kjohnson3 | macOS 13.7.1 Ventura | arm64 | R Under development (unstable) (2025-01-20 r87609) -- "Unsuffered Consequences" | 4446 |
Click on any hostname to see more info about the system (e.g. compilers) (*) as reported by 'uname -p', except on Windows and Mac OS X |
Package 1934/2295 | Hostname | OS / Arch | INSTALL | BUILD | CHECK | BUILD BIN | ||||||||
seqsetvis 1.27.2 (landing page) Joseph R Boyd
| nebbiolo1 | Linux (Ubuntu 24.04.1 LTS) / x86_64 | OK | OK | OK | ![]() | ||||||||
palomino7 | Windows Server 2022 Datacenter / x64 | OK | OK | OK | OK | ![]() | ||||||||
lconway | macOS 12.7.1 Monterey / x86_64 | OK | OK | OK | OK | ![]() | ||||||||
kjohnson3 | macOS 13.7.1 Ventura / arm64 | OK | OK | OK | OK | ![]() | ||||||||
To the developers/maintainers of the seqsetvis package: - Allow up to 24 hours (and sometimes 48 hours) for your latest push to git@git.bioconductor.org:packages/seqsetvis.git to reflect on this report. See Troubleshooting Build Report for more information. - Use the following Renviron settings to reproduce errors and warnings. - If 'R CMD check' started to fail recently on the Linux builder(s) over a missing dependency, add the missing dependency to 'Suggests:' in your DESCRIPTION file. See Renviron.bioc for more information. |
Package: seqsetvis |
Version: 1.27.2 |
Command: /Library/Frameworks/R.framework/Resources/bin/R CMD check --install=check:seqsetvis.install-out.txt --library=/Library/Frameworks/R.framework/Resources/library --no-vignettes --timings seqsetvis_1.27.2.tar.gz |
StartedAt: 2025-02-14 23:07:10 -0500 (Fri, 14 Feb 2025) |
EndedAt: 2025-02-14 23:18:27 -0500 (Fri, 14 Feb 2025) |
EllapsedTime: 677.0 seconds |
RetCode: 0 |
Status: OK |
CheckDir: seqsetvis.Rcheck |
Warnings: 0 |
############################################################################## ############################################################################## ### ### Running command: ### ### /Library/Frameworks/R.framework/Resources/bin/R CMD check --install=check:seqsetvis.install-out.txt --library=/Library/Frameworks/R.framework/Resources/library --no-vignettes --timings seqsetvis_1.27.2.tar.gz ### ############################################################################## ############################################################################## * using log directory ‘/Users/biocbuild/bbs-3.21-bioc/meat/seqsetvis.Rcheck’ * using R Under development (unstable) (2025-01-22 r87618) * using platform: x86_64-apple-darwin20 * R was compiled by Apple clang version 14.0.0 (clang-1400.0.29.202) GNU Fortran (GCC) 14.2.0 * running under: macOS Monterey 12.7.6 * using session charset: UTF-8 * using option ‘--no-vignettes’ * checking for file ‘seqsetvis/DESCRIPTION’ ... OK * checking extension type ... Package * this is package ‘seqsetvis’ version ‘1.27.2’ * package encoding: UTF-8 * checking package namespace information ... OK * checking package dependencies ... OK * checking if this is a source package ... OK * checking if there is a namespace ... OK * checking for hidden files and directories ... OK * checking for portable file names ... OK * checking for sufficient/correct file permissions ... OK * checking whether package ‘seqsetvis’ can be installed ... OK * checking installed package size ... OK * checking package directory ... OK * checking ‘build’ directory ... OK * checking DESCRIPTION meta-information ... OK * checking top-level files ... OK * checking for left-over files ... OK * checking index information ... OK * checking package subdirectories ... OK * checking code files for non-ASCII characters ... OK * checking R files for syntax errors ... OK * checking whether the package can be loaded ... OK * checking whether the package can be loaded with stated dependencies ... OK * checking whether the package can be unloaded cleanly ... OK * checking whether the namespace can be loaded with stated dependencies ... OK * checking whether the namespace can be unloaded cleanly ... OK * checking dependencies in R code ... OK * checking S3 generic/method consistency ... OK * checking replacement functions ... OK * checking foreign function calls ... OK * checking R code for possible problems ... OK * checking Rd files ... OK * checking Rd metadata ... OK * checking Rd cross-references ... OK * checking for missing documentation entries ... OK * checking for code/documentation mismatches ... OK * checking Rd \usage sections ... OK * checking Rd contents ... OK * checking for unstated dependencies in examples ... OK * checking contents of ‘data’ directory ... OK * checking data for non-ASCII characters ... OK * checking data for ASCII and uncompressed saves ... OK * checking files in ‘vignettes’ ... OK * checking examples ... OK Examples with CPU (user + system) or elapsed time > 5s user system elapsed ssvFeatureBinaryHeatmap 6.427 0.713 7.219 ssvFetchBam 6.806 0.327 7.183 * checking for unstated dependencies in ‘tests’ ... OK * checking tests ... Running ‘testthat.R’ OK * checking for unstated dependencies in vignettes ... OK * checking package vignettes ... OK * checking running R code from vignettes ... SKIPPED * checking re-building of vignette outputs ... SKIPPED * checking PDF version of manual ... OK * DONE Status: OK
seqsetvis.Rcheck/00install.out
############################################################################## ############################################################################## ### ### Running command: ### ### /Library/Frameworks/R.framework/Resources/bin/R CMD INSTALL seqsetvis ### ############################################################################## ############################################################################## * installing to library ‘/Library/Frameworks/R.framework/Versions/4.5-x86_64/Resources/library’ * installing *source* package ‘seqsetvis’ ... ** this is package ‘seqsetvis’ version ‘1.27.2’ ** using staged installation ** R ** data ** inst ** byte-compile and prepare package for lazy loading ** help *** installing help indices ** building package indices ** installing vignettes ** testing if installed package can be loaded from temporary location ** testing if installed package can be loaded from final location ** testing if installed package keeps a record of temporary installation path * DONE (seqsetvis)
seqsetvis.Rcheck/tests/testthat.Rout
R Under development (unstable) (2025-01-22 r87618) -- "Unsuffered Consequences" Copyright (C) 2025 The R Foundation for Statistical Computing Platform: x86_64-apple-darwin20 R is free software and comes with ABSOLUTELY NO WARRANTY. You are welcome to redistribute it under certain conditions. Type 'license()' or 'licence()' for distribution details. R is a collaborative project with many contributors. Type 'contributors()' for more information and 'citation()' on how to cite R or R packages in publications. Type 'demo()' for some demos, 'help()' for on-line help, or 'help.start()' for an HTML browser interface to help. Type 'q()' to quit R. > > ## load dependencies > library(testthat) > library(seqsetvis) Loading required package: ggplot2 > library(data.table) > > ## test package > test_check(package = "seqsetvis") [ FAIL 0 | WARN 0 | SKIP 0 | PASS 1291 ] > > proc.time() user system elapsed 305.310 7.778 328.754
seqsetvis.Rcheck/seqsetvis-Ex.timings
name | user | system | elapsed | |
add_cluster_annotation | 2.976 | 0.125 | 3.118 | |
append_ynorm | 0.050 | 0.006 | 0.056 | |
applyMovingAverage | 0.754 | 0.011 | 0.770 | |
applySpline | 0.351 | 0.014 | 0.368 | |
assemble_heatmap_cluster_bars | 0.822 | 0.022 | 0.857 | |
calc_norm_factors | 0.030 | 0.004 | 0.036 | |
centerAtMax | 0.317 | 0.012 | 0.334 | |
centerFixedSizeGRanges | 0.197 | 0.016 | 0.224 | |
centerGRangesAtMax | 0.565 | 0.018 | 0.590 | |
clusteringKmeans | 0.028 | 0.003 | 0.030 | |
clusteringKmeansNestedHclust | 0.036 | 0.004 | 0.040 | |
col2hex | 0.001 | 0.000 | 0.002 | |
collapse_gr | 0.844 | 0.020 | 0.871 | |
convert_collapsed_coord | 0.263 | 0.013 | 0.279 | |
copy_clust_info | 1.733 | 0.020 | 1.763 | |
crossCorrByRle | 0.335 | 0.008 | 0.345 | |
easyLoad_FUN | 0.057 | 0.001 | 0.059 | |
easyLoad_IDRmerged | 0.049 | 0.003 | 0.054 | |
easyLoad_bed | 0.142 | 0.002 | 0.144 | |
easyLoad_broadPeak | 0.039 | 0.002 | 0.041 | |
easyLoad_narrowPeak | 0.043 | 0.002 | 0.046 | |
easyLoad_seacr | 0.045 | 0.002 | 0.047 | |
expandCigar | 0.150 | 0.016 | 0.167 | |
findMaxPos | 0.035 | 0.007 | 0.041 | |
fragLen_calcStranded | 1.702 | 0.039 | 1.747 | |
fragLen_fromMacs2Xls | 0.002 | 0.001 | 0.003 | |
getReadLength | 0.050 | 0.005 | 0.057 | |
get_mapped_reads | 0.010 | 0.001 | 0.011 | |
ggellipse | 0.578 | 0.007 | 0.588 | |
harmonize_seqlengths | 0.138 | 0.011 | 0.149 | |
make_clustering_matrix | 0.073 | 0.003 | 0.079 | |
merge_clusters | 3.756 | 0.079 | 3.861 | |
prepare_fetch_GRanges | 0.032 | 0.005 | 0.037 | |
prepare_fetch_GRanges_names | 0.088 | 0.004 | 0.092 | |
prepare_fetch_GRanges_width | 0.031 | 0.002 | 0.033 | |
quantileGRangesWidth | 0.003 | 0.001 | 0.004 | |
reorder_clusters_hclust | 2.154 | 0.033 | 2.199 | |
reorder_clusters_manual | 1.112 | 0.013 | 1.131 | |
reorder_clusters_stepdown | 2.127 | 0.019 | 2.159 | |
reverse_clusters | 2.948 | 0.032 | 3.004 | |
safeBrew | 0.027 | 0.003 | 0.031 | |
split_cluster | 1.752 | 0.020 | 1.784 | |
ssvAnnotateSubjectGRanges | 1.072 | 0.034 | 1.141 | |
ssvConsensusIntervalSets | 0.377 | 0.015 | 0.394 | |
ssvFactorizeMembTable | 0.013 | 0.004 | 0.017 | |
ssvFeatureBars | 0.607 | 0.010 | 0.623 | |
ssvFeatureBinaryHeatmap | 6.427 | 0.713 | 7.219 | |
ssvFeatureEuler | 0.569 | 0.013 | 0.588 | |
ssvFeaturePie | 0.514 | 0.016 | 0.534 | |
ssvFeatureUpset | 2.654 | 0.053 | 2.725 | |
ssvFeatureVenn | 1.037 | 0.023 | 1.071 | |
ssvFetchBam | 6.806 | 0.327 | 7.183 | |
ssvFetchBamPE | 2.266 | 0.207 | 2.493 | |
ssvFetchBamPE.RNA | 1.794 | 0.068 | 1.876 | |
ssvFetchBigwig | 1.593 | 0.024 | 1.627 | |
ssvFetchGRanges | 0.817 | 0.013 | 0.834 | |
ssvFetchSignal | 1.707 | 0.068 | 1.792 | |
ssvMakeMembTable-methods | 0.666 | 0.019 | 0.690 | |
ssvOverlapIntervalSets | 0.317 | 0.016 | 0.338 | |
ssvSignalBandedQuantiles | 3.859 | 0.079 | 3.981 | |
ssvSignalClustering | 2.834 | 0.058 | 2.917 | |
ssvSignalHeatmap.ClusterBars | 3.525 | 0.078 | 3.629 | |
ssvSignalHeatmap | 4.260 | 0.118 | 4.408 | |
ssvSignalLineplot | 2.545 | 0.051 | 2.639 | |
ssvSignalLineplotAgg | 0.871 | 0.014 | 0.892 | |
ssvSignalScatterplot | 0.884 | 0.018 | 0.908 | |
viewGRangesWinSample_dt | 1.313 | 0.051 | 1.370 | |
viewGRangesWinSummary_dt | 1.286 | 0.054 | 1.349 | |
within_clust_sort | 1.661 | 0.030 | 1.702 | |