Back to Multiple platform build/check report for BioC 3.21:   simplified   long
ABCDEFGHIJKLMNOPQR[S]TUVWXYZ

This page was generated on 2025-02-13 11:41 -0500 (Thu, 13 Feb 2025).

HostnameOSArch (*)R versionInstalled pkgs
nebbiolo1Linux (Ubuntu 24.04.1 LTS)x86_64R Under development (unstable) (2025-01-20 r87609) -- "Unsuffered Consequences" 4719
palomino7Windows Server 2022 Datacenterx64R Under development (unstable) (2025-01-21 r87610 ucrt) -- "Unsuffered Consequences" 4481
lconwaymacOS 12.7.1 Montereyx86_64R Under development (unstable) (2025-01-22 r87618) -- "Unsuffered Consequences" 4492
kjohnson3macOS 13.7.1 Venturaarm64R Under development (unstable) (2025-01-20 r87609) -- "Unsuffered Consequences" 4445
Click on any hostname to see more info about the system (e.g. compilers)      (*) as reported by 'uname -p', except on Windows and Mac OS X

Package 1934/2295HostnameOS / ArchINSTALLBUILDCHECKBUILD BIN
seqsetvis 1.27.2  (landing page)
Joseph R Boyd
Snapshot Date: 2025-02-12 13:40 -0500 (Wed, 12 Feb 2025)
git_url: https://git.bioconductor.org/packages/seqsetvis
git_branch: devel
git_last_commit: ae10577
git_last_commit_date: 2024-12-09 15:04:05 -0500 (Mon, 09 Dec 2024)
nebbiolo1Linux (Ubuntu 24.04.1 LTS) / x86_64  OK    OK    OK  UNNEEDED, same version is already published
palomino7Windows Server 2022 Datacenter / x64  OK    OK    OK    OK  UNNEEDED, same version is already published
lconwaymacOS 12.7.1 Monterey / x86_64  OK    OK    OK    OK  UNNEEDED, same version is already published
kjohnson3macOS 13.7.1 Ventura / arm64  OK    OK    OK    OK  UNNEEDED, same version is already published


CHECK results for seqsetvis on palomino7

To the developers/maintainers of the seqsetvis package:
- Allow up to 24 hours (and sometimes 48 hours) for your latest push to git@git.bioconductor.org:packages/seqsetvis.git to reflect on this report. See Troubleshooting Build Report for more information.
- Use the following Renviron settings to reproduce errors and warnings.
- If 'R CMD check' started to fail recently on the Linux builder(s) over a missing dependency, add the missing dependency to 'Suggests:' in your DESCRIPTION file. See Renviron.bioc for more information.

raw results


Summary

Package: seqsetvis
Version: 1.27.2
Command: E:\biocbuild\bbs-3.21-bioc\R\bin\R.exe CMD check --no-multiarch --install=check:seqsetvis.install-out.txt --library=E:\biocbuild\bbs-3.21-bioc\R\library --no-vignettes --timings seqsetvis_1.27.2.tar.gz
StartedAt: 2025-02-13 05:31:54 -0500 (Thu, 13 Feb 2025)
EndedAt: 2025-02-13 05:42:36 -0500 (Thu, 13 Feb 2025)
EllapsedTime: 642.6 seconds
RetCode: 0
Status:   OK  
CheckDir: seqsetvis.Rcheck
Warnings: 0

Command output

##############################################################################
##############################################################################
###
### Running command:
###
###   E:\biocbuild\bbs-3.21-bioc\R\bin\R.exe CMD check --no-multiarch --install=check:seqsetvis.install-out.txt --library=E:\biocbuild\bbs-3.21-bioc\R\library --no-vignettes --timings seqsetvis_1.27.2.tar.gz
###
##############################################################################
##############################################################################


* using log directory 'E:/biocbuild/bbs-3.21-bioc/meat/seqsetvis.Rcheck'
* using R Under development (unstable) (2025-01-21 r87610 ucrt)
* using platform: x86_64-w64-mingw32
* R was compiled by
    gcc.exe (GCC) 13.3.0
    GNU Fortran (GCC) 13.3.0
* running under: Windows Server 2022 x64 (build 20348)
* using session charset: UTF-8
* using option '--no-vignettes'
* checking for file 'seqsetvis/DESCRIPTION' ... OK
* checking extension type ... Package
* this is package 'seqsetvis' version '1.27.2'
* package encoding: UTF-8
* checking package namespace information ... OK
* checking package dependencies ... OK
* checking if this is a source package ... OK
* checking if there is a namespace ... OK
* checking for hidden files and directories ... OK
* checking for portable file names ... OK
* checking whether package 'seqsetvis' can be installed ... OK
* checking installed package size ... OK
* checking package directory ... OK
* checking 'build' directory ... OK
* checking DESCRIPTION meta-information ... OK
* checking top-level files ... OK
* checking for left-over files ... OK
* checking index information ... OK
* checking package subdirectories ... OK
* checking code files for non-ASCII characters ... OK
* checking R files for syntax errors ... OK
* checking whether the package can be loaded ... OK
* checking whether the package can be loaded with stated dependencies ... OK
* checking whether the package can be unloaded cleanly ... OK
* checking whether the namespace can be loaded with stated dependencies ... OK
* checking whether the namespace can be unloaded cleanly ... OK
* checking dependencies in R code ... OK
* checking S3 generic/method consistency ... OK
* checking replacement functions ... OK
* checking foreign function calls ... OK
* checking R code for possible problems ... OK
* checking Rd files ... OK
* checking Rd metadata ... OK
* checking Rd cross-references ... OK
* checking for missing documentation entries ... OK
* checking for code/documentation mismatches ... OK
* checking Rd \usage sections ... OK
* checking Rd contents ... OK
* checking for unstated dependencies in examples ... OK
* checking contents of 'data' directory ... OK
* checking data for non-ASCII characters ... OK
* checking data for ASCII and uncompressed saves ... OK
* checking files in 'vignettes' ... OK
* checking examples ... OK
Examples with CPU (user + system) or elapsed time > 5s
                        user system elapsed
ssvFeatureBinaryHeatmap 7.62   0.28    8.00
add_cluster_annotation  4.03   0.28    5.24
* checking for unstated dependencies in 'tests' ... OK
* checking tests ...
  Running 'testthat.R'
 OK
* checking for unstated dependencies in vignettes ... OK
* checking package vignettes ... OK
* checking running R code from vignettes ... SKIPPED
* checking re-building of vignette outputs ... SKIPPED
* checking PDF version of manual ... OK
* DONE

Status: OK


Installation output

seqsetvis.Rcheck/00install.out

##############################################################################
##############################################################################
###
### Running command:
###
###   E:\biocbuild\bbs-3.21-bioc\R\bin\R.exe CMD INSTALL seqsetvis
###
##############################################################################
##############################################################################


* installing to library 'E:/biocbuild/bbs-3.21-bioc/R/library'
* installing *source* package 'seqsetvis' ...
** this is package 'seqsetvis' version '1.27.2'
** using staged installation
** R
** data
** inst
** byte-compile and prepare package for lazy loading
** help
*** installing help indices
** building package indices
** installing vignettes
** testing if installed package can be loaded from temporary location
** testing if installed package can be loaded from final location
** testing if installed package keeps a record of temporary installation path
* DONE (seqsetvis)

Tests output

seqsetvis.Rcheck/tests/testthat.Rout


R Under development (unstable) (2025-01-21 r87610 ucrt) -- "Unsuffered Consequences"
Copyright (C) 2025 The R Foundation for Statistical Computing
Platform: x86_64-w64-mingw32/x64

R is free software and comes with ABSOLUTELY NO WARRANTY.
You are welcome to redistribute it under certain conditions.
Type 'license()' or 'licence()' for distribution details.

R is a collaborative project with many contributors.
Type 'contributors()' for more information and
'citation()' on how to cite R or R packages in publications.

Type 'demo()' for some demos, 'help()' for on-line help, or
'help.start()' for an HTML browser interface to help.
Type 'q()' to quit R.

> 
> ## load dependencies
> library(testthat)
> library(seqsetvis)
Loading required package: ggplot2
> library(data.table)
> 
> ## test package
> test_check(package = "seqsetvis")
[ FAIL 0 | WARN 0 | SKIP 37 | PASS 825 ]

══ Skipped tests (37) ══════════════════════════════════════════════════════════
• On Windows (37): 'test_anchor.R:203:5', 'test_anchor.R:258:5',
  'test_fetchBam.R:98:5', 'test_fetchBam.R:142:5', 'test_fetchBam.R:170:5',
  'test_fetchBam.R:201:5', 'test_fetchBw.R:17:5', 'test_fetchBw.R:32:5',
  'test_fetchBw.R:46:5', 'test_fetchBw.R:63:5', 'test_fetchBw.R:73:5',
  'test_fetchBw.R:86:5', 'test_fetchBw.R:97:5', 'test_fetchBw.R:108:5',
  'test_fetchBw.R:120:5', 'test_fetchBw.R:143:5', 'test_fetchBw.R:153:5',
  'test_fetchBw.R:165:5', 'test_fetchBw.R:175:5', 'test_fetchBw.R:190:5',
  'test_fetchBw.R:205:5', 'test_fetchBw.R:220:5', 'test_fetchBw_dt.R:15:5',
  'test_fetchBw_dt.R:31:5', 'test_fetchBw_dt.R:46:5', 'test_fetchBw_dt.R:64:5',
  'test_fetchBw_dt.R:74:5', 'test_fetchBw_dt.R:87:5', 'test_fetchBw_dt.R:98:5',
  'test_fetchBw_dt.R:109:5', 'test_fetchBw_dt.R:121:5',
  'test_fetchBw_dt.R:133:5', 'test_fetch_parallel.R:16:5',
  'test_fetch_parallel.R:44:5', 'test_force_skip.R:33:5',
  'test_viewGrangesWin_sample_vs_summary.R:115:5',
  'test_viewGrangesWin_sample_vs_summary.R:136:5'

[ FAIL 0 | WARN 0 | SKIP 37 | PASS 825 ]
> 
> proc.time()
   user  system elapsed 
 242.40    5.03  248.01 

Example timings

seqsetvis.Rcheck/seqsetvis-Ex.timings

nameusersystemelapsed
add_cluster_annotation4.030.285.24
append_ynorm0.030.060.10
applyMovingAverage0.740.030.78
applySpline0.370.030.40
assemble_heatmap_cluster_bars0.960.030.99
calc_norm_factors0.030.070.09
centerAtMax0.250.010.28
centerFixedSizeGRanges0.150.000.16
centerGRangesAtMax0.600.080.67
clusteringKmeans0.060.030.09
clusteringKmeansNestedHclust0.030.060.10
col2hex000
collapse_gr0.740.020.75
convert_collapsed_coord0.180.050.23
copy_clust_info1.640.071.72
crossCorrByRle0.410.040.47
easyLoad_FUN0.050.000.06
easyLoad_IDRmerged0.040.000.06
easyLoad_bed0.180.000.18
easyLoad_broadPeak0.030.010.06
easyLoad_narrowPeak0.030.000.05
easyLoad_seacr0.040.000.06
expandCigar0.190.000.19
findMaxPos0.030.050.09
fragLen_calcStranded1.680.011.69
fragLen_fromMacs2Xls0.000.000.03
getReadLength0.070.000.08
get_mapped_reads0.000.000.01
ggellipse0.670.030.71
harmonize_seqlengths0.160.000.15
make_clustering_matrix0.110.040.14
merge_clusters3.600.143.73
prepare_fetch_GRanges0.050.000.04
prepare_fetch_GRanges_names0.110.000.11
prepare_fetch_GRanges_width0.010.010.04
quantileGRangesWidth0.000.020.01
reorder_clusters_hclust2.460.042.50
reorder_clusters_manual1.340.101.44
reorder_clusters_stepdown2.130.092.22
reverse_clusters2.310.022.34
safeBrew0.030.000.03
split_cluster1.910.092.05
ssvAnnotateSubjectGRanges1.070.021.09
ssvConsensusIntervalSets0.460.010.49
ssvFactorizeMembTable0.010.020.03
ssvFeatureBars0.630.050.67
ssvFeatureBinaryHeatmap7.620.288.00
ssvFeatureEuler0.640.000.64
ssvFeaturePie0.580.000.58
ssvFeatureUpset3.140.033.17
ssvFeatureVenn0.910.000.91
ssvFetchBam000
ssvFetchBamPE000
ssvFetchBamPE.RNA1.890.172.11
ssvFetchBigwig0.020.000.02
ssvFetchGRanges0.670.020.69
ssvFetchSignal1.860.041.89
ssvMakeMembTable-methods0.750.020.77
ssvOverlapIntervalSets0.220.010.23
ssvSignalBandedQuantiles3.820.103.95
ssvSignalClustering3.080.063.16
ssvSignalHeatmap.ClusterBars3.510.063.59
ssvSignalHeatmap4.140.174.31
ssvSignalLineplot2.630.072.69
ssvSignalLineplotAgg0.840.000.84
ssvSignalScatterplot0.750.000.77
viewGRangesWinSample_dt0.920.010.94
viewGRangesWinSummary_dt0.960.030.98
within_clust_sort1.590.081.67