Back to Multiple platform build/check report for BioC 3.21: simplified long |
|
This page was generated on 2025-02-11 11:42 -0500 (Tue, 11 Feb 2025).
Hostname | OS | Arch (*) | R version | Installed pkgs |
---|---|---|---|---|
nebbiolo1 | Linux (Ubuntu 24.04.1 LTS) | x86_64 | R Under development (unstable) (2025-01-20 r87609) -- "Unsuffered Consequences" | 4719 |
palomino7 | Windows Server 2022 Datacenter | x64 | R Under development (unstable) (2025-01-21 r87610 ucrt) -- "Unsuffered Consequences" | 4480 |
lconway | macOS 12.7.1 Monterey | x86_64 | R Under development (unstable) (2025-01-22 r87618) -- "Unsuffered Consequences" | 4491 |
kjohnson3 | macOS 13.7.1 Ventura | arm64 | R Under development (unstable) (2025-01-20 r87609) -- "Unsuffered Consequences" | 4444 |
Click on any hostname to see more info about the system (e.g. compilers) (*) as reported by 'uname -p', except on Windows and Mac OS X |
Package 1870/2295 | Hostname | OS / Arch | INSTALL | BUILD | CHECK | BUILD BIN | ||||||||
scDiagnostics 1.1.0 (landing page) Anthony Christidis
| nebbiolo1 | Linux (Ubuntu 24.04.1 LTS) / x86_64 | OK | OK | OK | ![]() | ||||||||
palomino7 | Windows Server 2022 Datacenter / x64 | OK | OK | OK | OK | ![]() | ||||||||
lconway | macOS 12.7.1 Monterey / x86_64 | OK | OK | OK | OK | ![]() | ||||||||
kjohnson3 | macOS 13.7.1 Ventura / arm64 | OK | OK | OK | OK | ![]() | ||||||||
To the developers/maintainers of the scDiagnostics package: - Allow up to 24 hours (and sometimes 48 hours) for your latest push to git@git.bioconductor.org:packages/scDiagnostics.git to reflect on this report. See Troubleshooting Build Report for more information. - Use the following Renviron settings to reproduce errors and warnings. - If 'R CMD check' started to fail recently on the Linux builder(s) over a missing dependency, add the missing dependency to 'Suggests:' in your DESCRIPTION file. See Renviron.bioc for more information. |
Package: scDiagnostics |
Version: 1.1.0 |
Command: /Library/Frameworks/R.framework/Resources/bin/R CMD check --install=check:scDiagnostics.install-out.txt --library=/Library/Frameworks/R.framework/Resources/library --no-vignettes --timings scDiagnostics_1.1.0.tar.gz |
StartedAt: 2025-02-10 23:40:25 -0500 (Mon, 10 Feb 2025) |
EndedAt: 2025-02-10 23:48:01 -0500 (Mon, 10 Feb 2025) |
EllapsedTime: 456.5 seconds |
RetCode: 0 |
Status: OK |
CheckDir: scDiagnostics.Rcheck |
Warnings: 0 |
############################################################################## ############################################################################## ### ### Running command: ### ### /Library/Frameworks/R.framework/Resources/bin/R CMD check --install=check:scDiagnostics.install-out.txt --library=/Library/Frameworks/R.framework/Resources/library --no-vignettes --timings scDiagnostics_1.1.0.tar.gz ### ############################################################################## ############################################################################## * using log directory ‘/Users/biocbuild/bbs-3.21-bioc/meat/scDiagnostics.Rcheck’ * using R Under development (unstable) (2025-01-22 r87618) * using platform: x86_64-apple-darwin20 * R was compiled by Apple clang version 14.0.0 (clang-1400.0.29.202) GNU Fortran (GCC) 14.2.0 * running under: macOS Monterey 12.7.6 * using session charset: UTF-8 * using option ‘--no-vignettes’ * checking for file ‘scDiagnostics/DESCRIPTION’ ... OK * checking extension type ... Package * this is package ‘scDiagnostics’ version ‘1.1.0’ * package encoding: UTF-8 * checking package namespace information ... OK * checking package dependencies ... OK * checking if this is a source package ... OK * checking if there is a namespace ... OK * checking for hidden files and directories ... OK * checking for portable file names ... OK * checking for sufficient/correct file permissions ... OK * checking whether package ‘scDiagnostics’ can be installed ... OK * checking installed package size ... OK * checking package directory ... OK * checking ‘build’ directory ... OK * checking DESCRIPTION meta-information ... OK * checking top-level files ... OK * checking for left-over files ... OK * checking index information ... OK * checking package subdirectories ... OK * checking code files for non-ASCII characters ... OK * checking R files for syntax errors ... OK * checking whether the package can be loaded ... OK * checking whether the package can be loaded with stated dependencies ... OK * checking whether the package can be unloaded cleanly ... OK * checking whether the namespace can be loaded with stated dependencies ... OK * checking whether the namespace can be unloaded cleanly ... OK * checking dependencies in R code ... OK * checking S3 generic/method consistency ... OK * checking replacement functions ... OK * checking foreign function calls ... OK * checking R code for possible problems ... OK * checking Rd files ... OK * checking Rd metadata ... OK * checking Rd cross-references ... NOTE Found the following Rd file(s) with Rd \link{} targets missing package anchors: argumentCheck.Rd: SingleCellExperiment-class boxplotPCA.Rd: SingleCellExperiment-class calculateAveragePairwiseCorrelation.Rd: SingleCellExperiment-class calculateCellDistances.Rd: SingleCellExperiment-class calculateCellDistancesSimilarity.Rd: SingleCellExperiment-class calculateCellSimilarityPCA.Rd: SingleCellExperiment-class calculateCramerPValue.Rd: SingleCellExperiment-class calculateDiscriminantSpace.Rd: SingleCellExperiment-class calculateHotellingPValue.Rd: SingleCellExperiment-class calculateNearestNeighborProbabilities.Rd: SingleCellExperiment-class calculateSIRSpace.Rd: SingleCellExperiment-class calculateVarImpOverlap.Rd: SingleCellExperiment-class calculateWassersteinDistance.Rd: SingleCellExperiment-class compareCCA.Rd: SingleCellExperiment-class comparePCA.Rd: SingleCellExperiment-class comparePCASubspace.Rd: SingleCellExperiment-class detectAnomaly.Rd: SingleCellExperiment-class histQCvsAnnotation.Rd: SingleCellExperiment-class plotCellTypeMDS.Rd: SingleCellExperiment-class plotCellTypePCA.Rd: SingleCellExperiment-class plotGeneExpressionDimred.Rd: SingleCellExperiment-class plotGeneSetScores.Rd: SingleCellExperiment-class plotMarkerExpression.Rd: SingleCellExperiment-class plotPairwiseDistancesDensity.Rd: SingleCellExperiment-class plotQCvsAnnotation.Rd: SingleCellExperiment-class projectPCA.Rd: SingleCellExperiment-class projectSIR.Rd: SingleCellExperiment-class regressPC.Rd: SingleCellExperiment-class Please provide package anchors for all Rd \link{} targets not in the package itself and the base packages. * checking for missing documentation entries ... OK * checking for code/documentation mismatches ... OK * checking Rd \usage sections ... OK * checking Rd contents ... OK * checking for unstated dependencies in examples ... OK * checking contents of ‘data’ directory ... OK * checking data for non-ASCII characters ... OK * checking LazyData ... NOTE 'LazyDataCompression' is specified without 'LazyData' * checking data for ASCII and uncompressed saves ... OK * checking files in ‘vignettes’ ... OK * checking examples ... OK Examples with CPU (user + system) or elapsed time > 5s user system elapsed plotCellTypeMDS 17.771 0.287 18.166 calculateCramerPValue 15.505 2.444 18.054 calculateCellDistances 15.987 0.776 16.981 calculateCellDistancesSimilarity 6.536 0.238 6.992 calculateDiscriminantSpace 6.039 0.296 4.365 calculateVarImpOverlap 5.449 0.155 3.141 * checking for unstated dependencies in ‘tests’ ... OK * checking tests ... Running ‘testthat.R’ OK * checking for unstated dependencies in vignettes ... OK * checking package vignettes ... OK * checking running R code from vignettes ... SKIPPED * checking re-building of vignette outputs ... SKIPPED * checking PDF version of manual ... OK * DONE Status: 2 NOTEs See ‘/Users/biocbuild/bbs-3.21-bioc/meat/scDiagnostics.Rcheck/00check.log’ for details.
scDiagnostics.Rcheck/00install.out
############################################################################## ############################################################################## ### ### Running command: ### ### /Library/Frameworks/R.framework/Resources/bin/R CMD INSTALL scDiagnostics ### ############################################################################## ############################################################################## * installing to library ‘/Library/Frameworks/R.framework/Versions/4.5-x86_64/Resources/library’ * installing *source* package ‘scDiagnostics’ ... ** this is package ‘scDiagnostics’ version ‘1.1.0’ ** using staged installation ** R ** data ** inst ** byte-compile and prepare package for lazy loading ** help *** installing help indices ** building package indices ** installing vignettes ** testing if installed package can be loaded from temporary location ** testing if installed package can be loaded from final location ** testing if installed package keeps a record of temporary installation path * DONE (scDiagnostics)
scDiagnostics.Rcheck/tests/testthat.Rout
R Under development (unstable) (2025-01-22 r87618) -- "Unsuffered Consequences" Copyright (C) 2025 The R Foundation for Statistical Computing Platform: x86_64-apple-darwin20 R is free software and comes with ABSOLUTELY NO WARRANTY. You are welcome to redistribute it under certain conditions. Type 'license()' or 'licence()' for distribution details. R is a collaborative project with many contributors. Type 'contributors()' for more information and 'citation()' on how to cite R or R packages in publications. Type 'demo()' for some demos, 'help()' for on-line help, or 'help.start()' for an HTML browser interface to help. Type 'q()' to quit R. > # This file is part of the standard setup for testthat. > # It is recommended that you do not modify it. > # > # Where should you do additional test configuration? > # Learn more about the roles of various files in: > # * https://r-pkgs.org/testing-design.html#sec-tests-files-overview > # * https://testthat.r-lib.org/articles/special-files.html > > library(testthat) > library(scDiagnostics) > > test_check("scDiagnostics") [ FAIL 0 | WARN 27 | SKIP 0 | PASS 276 ] [ FAIL 0 | WARN 27 | SKIP 0 | PASS 276 ] > > proc.time() user system elapsed 145.151 8.933 147.739
scDiagnostics.Rcheck/scDiagnostics-Ex.timings
name | user | system | elapsed | |
boxplotPCA | 2.107 | 0.141 | 2.262 | |
calculateAveragePairwiseCorrelation | 3.362 | 0.146 | 3.525 | |
calculateCategorizationEntropy | 0.012 | 0.000 | 0.012 | |
calculateCellDistances | 15.987 | 0.776 | 16.981 | |
calculateCellDistancesSimilarity | 6.536 | 0.238 | 6.992 | |
calculateCellSimilarityPCA | 2.370 | 0.089 | 2.674 | |
calculateCramerPValue | 15.505 | 2.444 | 18.054 | |
calculateDiscriminantSpace | 6.039 | 0.296 | 4.365 | |
calculateHVGOverlap | 1.488 | 0.070 | 1.564 | |
calculateHotellingPValue | 1.567 | 0.069 | 1.644 | |
calculateNearestNeighborProbabilities | 4.492 | 0.099 | 4.620 | |
calculateSIRSpace | 3.106 | 0.043 | 3.161 | |
calculateVarImpOverlap | 5.449 | 0.155 | 3.141 | |
calculateWassersteinDistance | 2.519 | 0.221 | 2.791 | |
compareCCA | 1.310 | 0.058 | 1.377 | |
comparePCA | 1.270 | 0.039 | 1.318 | |
comparePCASubspace | 1.468 | 0.048 | 1.524 | |
detectAnomaly | 2.536 | 0.098 | 2.692 | |
histQCvsAnnotation | 0.667 | 0.008 | 0.680 | |
plot.calculateWassersteinDistanceObject | 1.937 | 0.107 | 2.067 | |
plotCellTypeMDS | 17.771 | 0.287 | 18.166 | |
plotCellTypePCA | 1.478 | 0.070 | 1.561 | |
plotGeneExpressionDimred | 1.457 | 0.031 | 1.496 | |
plotGeneSetScores | 1.092 | 0.028 | 1.126 | |
plotMarkerExpression | 0.593 | 0.014 | 0.610 | |
plotPairwiseDistancesDensity | 2.058 | 0.177 | 2.248 | |
plotQCvsAnnotation | 0.197 | 0.004 | 0.203 | |
projectPCA | 0.271 | 0.005 | 0.276 | |
projectSIR | 1.312 | 0.014 | 1.331 | |
qc_data | 0.021 | 0.001 | 0.023 | |
query_data | 0.020 | 0.002 | 0.022 | |
reference_data | 0.046 | 0.002 | 0.048 | |
regressPC | 1.855 | 0.100 | 1.969 | |