Back to Multiple platform build/check report for BioC 3.21:   simplified   long
ABCDEFGHIJKLMNO[P]QRSTUVWXYZ

This page was generated on 2025-02-15 11:41 -0500 (Sat, 15 Feb 2025).

HostnameOSArch (*)R versionInstalled pkgs
nebbiolo1Linux (Ubuntu 24.04.1 LTS)x86_64R Under development (unstable) (2025-01-20 r87609) -- "Unsuffered Consequences" 4720
palomino7Windows Server 2022 Datacenterx64R Under development (unstable) (2025-01-21 r87610 ucrt) -- "Unsuffered Consequences" 4482
lconwaymacOS 12.7.1 Montereyx86_64R Under development (unstable) (2025-01-22 r87618) -- "Unsuffered Consequences" 4493
kjohnson3macOS 13.7.1 Venturaarm64R Under development (unstable) (2025-01-20 r87609) -- "Unsuffered Consequences" 4446
Click on any hostname to see more info about the system (e.g. compilers)      (*) as reported by 'uname -p', except on Windows and Mac OS X

Package 1558/2295HostnameOS / ArchINSTALLBUILDCHECKBUILD BIN
pipeComp 1.17.0  (landing page)
Pierre-Luc Germain
Snapshot Date: 2025-02-14 13:40 -0500 (Fri, 14 Feb 2025)
git_url: https://git.bioconductor.org/packages/pipeComp
git_branch: devel
git_last_commit: be750ef
git_last_commit_date: 2024-10-29 10:48:04 -0500 (Tue, 29 Oct 2024)
nebbiolo1Linux (Ubuntu 24.04.1 LTS) / x86_64  OK    OK    OK  UNNEEDED, same version is already published
palomino7Windows Server 2022 Datacenter / x64  OK    OK    OK    OK  UNNEEDED, same version is already published
lconwaymacOS 12.7.1 Monterey / x86_64  OK    OK    OK    OK  UNNEEDED, same version is already published
kjohnson3macOS 13.7.1 Ventura / arm64  OK    OK    OK    OK  UNNEEDED, same version is already published


CHECK results for pipeComp on palomino7

To the developers/maintainers of the pipeComp package:
- Allow up to 24 hours (and sometimes 48 hours) for your latest push to git@git.bioconductor.org:packages/pipeComp.git to reflect on this report. See Troubleshooting Build Report for more information.
- Use the following Renviron settings to reproduce errors and warnings.
- If 'R CMD check' started to fail recently on the Linux builder(s) over a missing dependency, add the missing dependency to 'Suggests:' in your DESCRIPTION file. See Renviron.bioc for more information.

raw results


Summary

Package: pipeComp
Version: 1.17.0
Command: E:\biocbuild\bbs-3.21-bioc\R\bin\R.exe CMD check --no-multiarch --install=check:pipeComp.install-out.txt --library=E:\biocbuild\bbs-3.21-bioc\R\library --no-vignettes --timings pipeComp_1.17.0.tar.gz
StartedAt: 2025-02-15 04:14:35 -0500 (Sat, 15 Feb 2025)
EndedAt: 2025-02-15 04:23:10 -0500 (Sat, 15 Feb 2025)
EllapsedTime: 514.9 seconds
RetCode: 0
Status:   OK  
CheckDir: pipeComp.Rcheck
Warnings: 0

Command output

##############################################################################
##############################################################################
###
### Running command:
###
###   E:\biocbuild\bbs-3.21-bioc\R\bin\R.exe CMD check --no-multiarch --install=check:pipeComp.install-out.txt --library=E:\biocbuild\bbs-3.21-bioc\R\library --no-vignettes --timings pipeComp_1.17.0.tar.gz
###
##############################################################################
##############################################################################


* using log directory 'E:/biocbuild/bbs-3.21-bioc/meat/pipeComp.Rcheck'
* using R Under development (unstable) (2025-01-21 r87610 ucrt)
* using platform: x86_64-w64-mingw32
* R was compiled by
    gcc.exe (GCC) 13.3.0
    GNU Fortran (GCC) 13.3.0
* running under: Windows Server 2022 x64 (build 20348)
* using session charset: UTF-8
* using option '--no-vignettes'
* checking for file 'pipeComp/DESCRIPTION' ... OK
* checking extension type ... Package
* this is package 'pipeComp' version '1.17.0'
* package encoding: UTF-8
* checking package namespace information ... OK
* checking package dependencies ... OK
* checking if this is a source package ... OK
* checking if there is a namespace ... OK
* checking for hidden files and directories ... OK
* checking for portable file names ... OK
* checking whether package 'pipeComp' can be installed ... OK
* checking installed package size ... OK
* checking package directory ... OK
* checking 'build' directory ... OK
* checking DESCRIPTION meta-information ... OK
* checking top-level files ... NOTE
File
  LICENSE
is not mentioned in the DESCRIPTION file.
* checking for left-over files ... OK
* checking index information ... OK
* checking package subdirectories ... OK
* checking code files for non-ASCII characters ... OK
* checking R files for syntax errors ... OK
* checking whether the package can be loaded ... OK
* checking whether the package can be loaded with stated dependencies ... OK
* checking whether the package can be unloaded cleanly ... OK
* checking whether the namespace can be loaded with stated dependencies ... OK
* checking whether the namespace can be unloaded cleanly ... OK
* checking dependencies in R code ... NOTE
There are ::: calls to the package's namespace in its code. A package
  almost never needs to use ::: for its own objects:
  '.compileExcludedCells' '.getMM' '.homogenizeDEA' '.runf'
* checking S3 generic/method consistency ... OK
* checking replacement functions ... OK
* checking foreign function calls ... OK
* checking R code for possible problems ... NOTE
scrna_describeDatasets: no visible binding for global variable
  'cluster'
scrna_describeDatasets: no visible binding for global variable 'nb'
scrna_describeDatasets : pf: no visible binding for global variable
  '.x'
scrna_describeDatasets : rd: no visible binding for global variable 'y'
scrna_describeDatasets : rd: no visible binding for global variable
  'cluster'
scrna_evalPlot_filtering: no visible binding for global variable
  'max.lost'
scrna_evalPlot_filtering: no visible binding for global variable
  'mean_F1'
scrna_evalPlot_filtering: no visible binding for global variable 'filt'
scrna_evalPlot_filtering: no visible binding for global variable
  'doubletmethod'
scrna_evalPlot_filtering: no visible binding for global variable
  'method'
scrna_evalPlot_overall: no visible binding for global variable
  'true.nbClusts'
scrna_evalPlot_overall: no visible binding for global variable 'n_clus'
Undefined global functions or variables:
  .x cluster doubletmethod filt max.lost mean_F1 method n_clus nb
  true.nbClusts y
* checking Rd files ... OK
* checking Rd metadata ... OK
* checking Rd cross-references ... OK
* checking for missing documentation entries ... OK
* checking for code/documentation mismatches ... OK
* checking Rd \usage sections ... OK
* checking Rd contents ... OK
* checking for unstated dependencies in examples ... OK
* checking contents of 'data' directory ... OK
* checking data for non-ASCII characters ... OK
* checking data for ASCII and uncompressed saves ... OK
* checking files in 'vignettes' ... OK
* checking examples ... OK
Examples with CPU (user + system) or elapsed time > 5s
                      user system elapsed
checkPipelinePackages 3.17   2.11   59.42
* checking for unstated dependencies in vignettes ... OK
* checking package vignettes ... OK
* checking running R code from vignettes ... SKIPPED
* checking re-building of vignette outputs ... SKIPPED
* checking PDF version of manual ... OK
* DONE

Status: 3 NOTEs
See
  'E:/biocbuild/bbs-3.21-bioc/meat/pipeComp.Rcheck/00check.log'
for details.


Installation output

pipeComp.Rcheck/00install.out

##############################################################################
##############################################################################
###
### Running command:
###
###   E:\biocbuild\bbs-3.21-bioc\R\bin\R.exe CMD INSTALL pipeComp
###
##############################################################################
##############################################################################


* installing to library 'E:/biocbuild/bbs-3.21-bioc/R/library'
* installing *source* package 'pipeComp' ...
** this is package 'pipeComp' version '1.17.0'
** using staged installation
** R
** data
** inst
** byte-compile and prepare package for lazy loading
** help
*** installing help indices
** building package indices
** installing vignettes
** testing if installed package can be loaded from temporary location
** testing if installed package can be loaded from final location
** testing if installed package keeps a record of temporary installation path
* DONE (pipeComp)

Tests output


Example timings

pipeComp.Rcheck/pipeComp-Ex.timings

nameusersystemelapsed
PipelineDefinition-methods0.020.000.02
PipelineDefinition000
addPipelineStep000
aggregatePipelineResults1.220.041.25
buildCombMatrix000
checkPipelinePackages 3.17 2.1159.42
colCenterScale000
dea_evalPlot_curve0.770.060.83
dea_pipeline000
evalHeatmap3.090.542.89
evaluateClustering0.020.000.02
evaluateDEA0.080.000.08
evaluateDimRed1.530.051.59
evaluateNorm1.700.131.83
farthestPoint0.020.000.01
getQualitativePalette000
match_evaluate_multiple000
mergePipelineResults2.360.072.44
mockPipeline000
parsePipNames0.000.020.02
plotElapsed0.570.000.58
readPipelineResults1.050.021.06
runPipeline1.110.061.18
scrna_evalPlot_filtering0.460.010.48
scrna_evalPlot_overall4.380.074.44
scrna_evalPlot_silh1.080.001.08
scrna_pipeline000