| Back to Multiple platform build/check report for BioC 3.21: simplified long |
|
This page was generated on 2025-10-16 11:41 -0400 (Thu, 16 Oct 2025).
| Hostname | OS | Arch (*) | R version | Installed pkgs |
|---|---|---|---|---|
| nebbiolo1 | Linux (Ubuntu 24.04.3 LTS) | x86_64 | 4.5.1 (2025-06-13) -- "Great Square Root" | 4833 |
| merida1 | macOS 12.7.6 Monterey | x86_64 | 4.5.1 RC (2025-06-05 r88288) -- "Great Square Root" | 4614 |
| kjohnson1 | macOS 13.7.5 Ventura | arm64 | 4.5.1 Patched (2025-06-14 r88325) -- "Great Square Root" | 4555 |
| kunpeng2 | Linux (openEuler 24.03 LTS) | aarch64 | R Under development (unstable) (2025-02-19 r87757) -- "Unsuffered Consequences" | 4586 |
| Click on any hostname to see more info about the system (e.g. compilers) (*) as reported by 'uname -p', except on Windows and Mac OS X | ||||
| Package 1585/2341 | Hostname | OS / Arch | INSTALL | BUILD | CHECK | BUILD BIN | ||||||||
| pipeComp 1.18.0 (landing page) Pierre-Luc Germain
| nebbiolo1 | Linux (Ubuntu 24.04.3 LTS) / x86_64 | OK | OK | OK | |||||||||
| merida1 | macOS 12.7.6 Monterey / x86_64 | OK | OK | OK | OK | |||||||||
| kjohnson1 | macOS 13.7.5 Ventura / arm64 | OK | OK | OK | OK | |||||||||
| kunpeng2 | Linux (openEuler 24.03 LTS) / aarch64 | OK | OK | OK | ||||||||||
|
To the developers/maintainers of the pipeComp package: - Allow up to 24 hours (and sometimes 48 hours) for your latest push to git@git.bioconductor.org:packages/pipeComp.git to reflect on this report. See Troubleshooting Build Report for more information. - Use the following Renviron settings to reproduce errors and warnings. - If 'R CMD check' started to fail recently on the Linux builder(s) over a missing dependency, add the missing dependency to 'Suggests:' in your DESCRIPTION file. See Renviron.bioc for more information. - See Martin Grigorov's blog post for how to debug Linux ARM64 related issues on a x86_64 host. |
| Package: pipeComp |
| Version: 1.18.0 |
| Command: /home/biocbuild/R/R/bin/R CMD check --install=check:pipeComp.install-out.txt --library=/home/biocbuild/R/R/site-library --no-vignettes --timings pipeComp_1.18.0.tar.gz |
| StartedAt: 2025-10-14 12:33:50 -0000 (Tue, 14 Oct 2025) |
| EndedAt: 2025-10-14 12:42:08 -0000 (Tue, 14 Oct 2025) |
| EllapsedTime: 498.5 seconds |
| RetCode: 0 |
| Status: OK |
| CheckDir: pipeComp.Rcheck |
| Warnings: 0 |
##############################################################################
##############################################################################
###
### Running command:
###
### /home/biocbuild/R/R/bin/R CMD check --install=check:pipeComp.install-out.txt --library=/home/biocbuild/R/R/site-library --no-vignettes --timings pipeComp_1.18.0.tar.gz
###
##############################################################################
##############################################################################
* using log directory ‘/home/biocbuild/bbs-3.21-bioc/meat/pipeComp.Rcheck’
* using R Under development (unstable) (2025-02-19 r87757)
* using platform: aarch64-unknown-linux-gnu
* R was compiled by
aarch64-unknown-linux-gnu-gcc (GCC) 14.2.0
GNU Fortran (GCC) 14.2.0
* running under: openEuler 24.03 (LTS-SP1)
* using session charset: UTF-8
* using option ‘--no-vignettes’
* checking for file ‘pipeComp/DESCRIPTION’ ... OK
* checking extension type ... Package
* this is package ‘pipeComp’ version ‘1.18.0’
* package encoding: UTF-8
* checking package namespace information ... OK
* checking package dependencies ... INFO
Imports includes 26 non-default packages.
Importing from so many packages makes the package vulnerable to any of
them becoming unavailable. Move as many as possible to Suggests and
use conditionally.
* checking if this is a source package ... OK
* checking if there is a namespace ... OK
* checking for hidden files and directories ... OK
* checking for portable file names ... OK
* checking for sufficient/correct file permissions ... OK
* checking whether package ‘pipeComp’ can be installed ... OK
* checking installed package size ... OK
* checking package directory ... OK
* checking ‘build’ directory ... OK
* checking DESCRIPTION meta-information ... OK
* checking top-level files ... NOTE
File
LICENSE
is not mentioned in the DESCRIPTION file.
* checking for left-over files ... OK
* checking index information ... OK
* checking package subdirectories ... OK
* checking code files for non-ASCII characters ... OK
* checking R files for syntax errors ... OK
* checking whether the package can be loaded ... OK
* checking whether the package can be loaded with stated dependencies ... OK
* checking whether the package can be unloaded cleanly ... OK
* checking whether the namespace can be loaded with stated dependencies ... OK
* checking whether the namespace can be unloaded cleanly ... OK
* checking loading without being on the library search path ... OK
* checking dependencies in R code ... NOTE
There are ::: calls to the package's namespace in its code. A package
almost never needs to use ::: for its own objects:
‘.compileExcludedCells’ ‘.getMM’ ‘.homogenizeDEA’ ‘.runf’
* checking S3 generic/method consistency ... OK
* checking replacement functions ... OK
* checking foreign function calls ... OK
* checking R code for possible problems ... NOTE
scrna_describeDatasets: no visible binding for global variable
‘cluster’
scrna_describeDatasets: no visible binding for global variable ‘nb’
scrna_describeDatasets : pf: no visible binding for global variable
‘.x’
scrna_describeDatasets : rd: no visible binding for global variable ‘y’
scrna_describeDatasets : rd: no visible binding for global variable
‘cluster’
scrna_evalPlot_filtering: no visible binding for global variable
‘max.lost’
scrna_evalPlot_filtering: no visible binding for global variable
‘mean_F1’
scrna_evalPlot_filtering: no visible binding for global variable ‘filt’
scrna_evalPlot_filtering: no visible binding for global variable
‘doubletmethod’
scrna_evalPlot_filtering: no visible binding for global variable
‘method’
scrna_evalPlot_overall: no visible binding for global variable
‘true.nbClusts’
scrna_evalPlot_overall: no visible binding for global variable ‘n_clus’
Undefined global functions or variables:
.x cluster doubletmethod filt max.lost mean_F1 method n_clus nb
true.nbClusts y
* checking Rd files ... OK
* checking Rd metadata ... OK
* checking Rd cross-references ... OK
* checking for missing documentation entries ... OK
* checking for code/documentation mismatches ... OK
* checking Rd \usage sections ... OK
* checking Rd contents ... OK
* checking for unstated dependencies in examples ... OK
* checking contents of ‘data’ directory ... OK
* checking data for non-ASCII characters ... OK
* checking data for ASCII and uncompressed saves ... OK
* checking files in ‘vignettes’ ... OK
* checking examples ... OK
Examples with CPU (user + system) or elapsed time > 5s
user system elapsed
scrna_evalPlot_overall 5.74 0.128 5.885
* checking for unstated dependencies in vignettes ... OK
* checking package vignettes ... OK
* checking running R code from vignettes ... SKIPPED
* checking re-building of vignette outputs ... SKIPPED
* checking PDF version of manual ... OK
* DONE
Status: 3 NOTEs
See
‘/home/biocbuild/bbs-3.21-bioc/meat/pipeComp.Rcheck/00check.log’
for details.
pipeComp.Rcheck/00install.out
############################################################################## ############################################################################## ### ### Running command: ### ### /home/biocbuild/R/R/bin/R CMD INSTALL pipeComp ### ############################################################################## ############################################################################## * installing to library ‘/home/biocbuild/R/R-devel_2025-02-19/site-library’ * installing *source* package ‘pipeComp’ ... ** this is package ‘pipeComp’ version ‘1.18.0’ ** using staged installation ** R ** data ** inst ** byte-compile and prepare package for lazy loading ** help *** installing help indices ** building package indices ** installing vignettes ** testing if installed package can be loaded from temporary location ** testing if installed package can be loaded from final location ** testing if installed package keeps a record of temporary installation path * DONE (pipeComp)
pipeComp.Rcheck/pipeComp-Ex.timings
| name | user | system | elapsed | |
| PipelineDefinition-methods | 0.010 | 0.000 | 0.011 | |
| PipelineDefinition | 0.002 | 0.000 | 0.002 | |
| addPipelineStep | 0.004 | 0.000 | 0.004 | |
| aggregatePipelineResults | 1.283 | 0.101 | 1.591 | |
| buildCombMatrix | 0.003 | 0.000 | 0.003 | |
| checkPipelinePackages | 0.070 | 0.012 | 0.083 | |
| colCenterScale | 0.002 | 0.000 | 0.002 | |
| dea_evalPlot_curve | 1.344 | 0.128 | 1.476 | |
| dea_pipeline | 0.003 | 0.000 | 0.003 | |
| evalHeatmap | 3.193 | 0.155 | 3.357 | |
| evaluateClustering | 0.012 | 0.000 | 0.013 | |
| evaluateDEA | 0.068 | 0.000 | 0.068 | |
| evaluateDimRed | 1.814 | 0.088 | 1.906 | |
| evaluateNorm | 2.133 | 0.124 | 2.262 | |
| farthestPoint | 0.004 | 0.004 | 0.008 | |
| getQualitativePalette | 0 | 0 | 0 | |
| match_evaluate_multiple | 0.003 | 0.000 | 0.004 | |
| mergePipelineResults | 2.659 | 0.163 | 2.830 | |
| mockPipeline | 0.002 | 0.000 | 0.001 | |
| parsePipNames | 0.002 | 0.000 | 0.002 | |
| plotElapsed | 1.140 | 0.024 | 1.167 | |
| readPipelineResults | 1.257 | 0.052 | 1.312 | |
| runPipeline | 1.195 | 0.048 | 1.247 | |
| scrna_evalPlot_filtering | 0.728 | 0.008 | 0.739 | |
| scrna_evalPlot_overall | 5.740 | 0.128 | 5.885 | |
| scrna_evalPlot_silh | 1.107 | 0.028 | 1.138 | |
| scrna_pipeline | 0.002 | 0.000 | 0.002 | |